Workbook
Name manad: Månad!$A$1:$A$4
Name Tabell1: 'Tab1'!$D$4:$K$33
Name Tabell10: 'Tab10'!$C$5:$M$19
Name Tabell11: 'Tab11'!$B$3:$H$16
Name Tabell12: 'Tab12'!$B$4:$D$17
Name Tabell13a: 'Tab13'!$C$4:$I$53
Name Tabell13b: 'Tab13'!$C$57:$I$61
Name Tabell13c: 'Tab13'!$C$62:$E$66
Name Tabell13d: 'Tab13'!$C$67:$I$71
Name Tabell14a: 'Tab14'!$C$4:$I$53
Name Tabell14b: 'Tab14'!$C$57:$I$61
Name Tabell14c: 'Tab14'!$C$62:$E$66
Name Tabell14d: 'Tab14'!$C$67:$I$71
Name Tabell15: 'Tab15'!$B$4:$H$17
Name Tabell16a: 'Tab16'!$C$4:$I$53
Name Tabell16b: 'Tab16'!$C$57:$I$61
Name Tabell16c: 'Tab16'!$C$62:$E$66
Name Tabell16d: 'Tab16'!$C$67:$I$71
Name Tabell17: 'Tab17'!$B$4:$R$17
Name Tabell18: 'Tab18'!$B$4:$H$17
Name Tabell19: 'Tab19'!$B$5:$L$18
Name Tabell20: 'Tab20-21'!$B$4:$I$17
Name Tabell21: 'Tab20-21'!$B$25:$D$38
Name Tabell22: 'Tab22'!$B$4:$L$17
Name Tabell23: 'Tab23'!$B$5:$L$18
Name Tabell24: 'Tab24'!$A$4:$N$41
Name Tabell25: 'Tab25'!$A$4:$N$41
Name Tabell26: 'Tab26'!$A$4:$N$41
Name Tabell27: 'Tab27'!$A$4:$N$41
Name Tabell28: 'Tab28'!$A$4:$N$41
Name Tabell29: 'Tab29'!$A$4:$M$41
Name Tabell2a: 'Tab2'!$C$4:$E$27
Name Tabell2b: 'Tab2'!$G$4:$I$27
Name Tabell30: 'Tab30'!$A$4:$M$41
Name Tabell31: 'Tab31'!$A$4:$M$41
Name Tabell32: 'Tab32'!$A$4:$M$41
Name Tabell33: 'Tab33'!$A$4:$M$41
Name Tabell3a: 'Tab3'!$C$4:$E$27
Name Tabell3b: 'Tab3'!$G$4:$I$27
Name Tabell4a: 'Tab4'!$B$4:$H$11
Name Tabell4b: 'Tab4'!$B$24:$H$31
Name Tabell5a: 'Tab5'!$B$4:$H$11
Name Tabell5b: 'Tab5'!$B$24:$H$31
Name Tabell6: 'Tab6'!$C$5:$J$28
Name Tabell7: 'Tab7'!$C$4:$M$27
Name Tabell8: 'Tab8'!$C$4:$E$18
Name Tabell9: 'Tab9'!$D$4:$N$6

Sheet Tabeller
A1: ="TABELLER ÖVER ARBETSSÖKANDE I STOCKHOLMS STAD - "&UPPER(TEXT('Tab1'!$D$2,"MMMM"))&" "&TEXT('Tab1'!$D$2,"ÅÅÅÅ") -> TABELLER ÖVER ARBETSSÖKANDE I STOCKHOLMS STAD - AUGUSTI 2026
A3: Hela staden
A4: Kvarstående sökande
A5: Tabell 1 | B5: Antalet arbetssökande per sökandekategori i Hela staden samt procentuell förändring över tid
A6: Tabell 2 | B6: Andelen arbetslösa av befolkningen i Hela staden efter ålder och kön över tid
A7: Tabell 3 | B7: Andelen långtidsarbetslösa av samtliga arbetslösa i Hela staden efter ålder och kön över tid
A8: Tabell 4 | B8: Antalet sökande per sökandegrupp i Hela staden efter födelseland över tid
A9: Tabell 5 | B9: Antalet sökande per sökandegrupp i Hela staden efter om man är nyanländ eller ej över tid
A10: Tabell 6 | B10: Antalet arbetslösa i Hela staden efter kassatillhörighet, ålder och kön
A11: Sökande som fått arbete
A12: Tabell 7 | B12: Antalet sökande som fått arbete samt kvarstående arbetslösa i Hela staden efter ålder och kön över tid
A13: Tabell 8 | B13: Antalet långtidsarbetslösa i Hela staden efter ålder och kön över tid
A14: Tabell 9 | B14: Antalet kvarstående i UGA eller JOB i Hela staden efter kön över tid
A15: Tabell 10 | B15: Antalet sökande som fått arbete i Hela staden efter kassatillhörighet, ålder och kön
A17: Stadsdelsförvaltningarna
A18: Kvarstående sökande
A19: Tabell 11 | B19: Antalet sökande efter sökandegrupp i stadsdelsområdena
A20: Tabell 12 | B20: Antalet sökande i JOB och UGA i stadsdelsområdena
A21: Tabell 13 | B21: Andelen arbetslösa av befolkningen i stadsdelsområdena efter ålder och kön
A22: Tabell 14 | B22: Andelen arbetslösa av befolkningen i stadsdelsområdena efter ålder över tid
A23: Tabell 15 | B23: Andelen långtidsarbetslösa av samtliga arbetslösa i stadsdelsområdena över tid
A24: Tabell 16 | B24: Andelen arbetslösa av befolkningen i stadsdelsområdena efter ålder och födelseland
A25: Tabell 17 | B25: Antalet arbetslösa efter födelseland i stadsdelsområdena
A26: Tabell 18 | B26: Antalet arbetssökande som är nyanlända i stadsdelsområdena över tid
A27: Tabell 19 | B27: Antalet arbetslösa efter kassatillhörighet i stadsdelsområdena
A28: Sökande som fått arbete
A29: Tabell 20 | B29: Antalet sökande som fått arbete samt kvarstående arbetslösa i stadsdelsområdena över tid
A30: Tabell 21 | B30: Antalet långtidsarbetslösa per stadsdelsområdena över tid
A31: Tabell 22 | B31: Antalet sökande som fått arbete samt kvarstående arbetslösa efter födelseland i stadsdelsområdena
A32: Tabell 23 | B32: Antalet sökande som fått arbete samt kvarstående arbetslösa efter om man är nyanländ eller ej i stadsdelsområdena
A34: Tidsserier
A35: Tabell 24 | B35: Tidsserie över antalet arbetslösa i Hela staden och stadsdelsområdena
A36: Tabell 25 | B36: Tidsserie över antalet personer i program med aktivitetsstöd i Hela staden och stadsdelsområdena
A37: Tabell 26 | B37: Tidsserie över summan av antalet arbetslösa och i program med aktivitetsstöd i Hela staden och stadsdelsområdena
A38: Tabell 27 | B38: Tidsserie över antalet unga arbetslösa i Hela staden och stadsdelsområdena
A39: Tabell 28 | B39: Tidsserie över summan av antalet unga arbetslösa och i program med aktivitetsstöd i Hela staden och stadsdelsområdena
A40: Tabell 29 | B40: Tidsserie över andelen arbetslösa av befolkning i Hela staden och stadsdelsområdena
A41: Tabell 30 | B41: Tidsserie över andelen i program med aktivitetsstöd av befolkningen i Hela staden och stadsdelsområdena
A42: Tabell 31 | B42: Tidsserie över andelen arbetslösa och i program med aktivitetsstöd av befolkningen i Hela staden och stadsdelsområdena
A43: Tabell 32 | B43: Tidsserie över andelen unga arbetslösa av befolkning i Hela staden och stadsdelsområdena
...

Sheet Tab1
A1: Tabell 1 Antalet arbetssökande 16-66* år per sökandekategori i Hela staden samt procentuell förändring över tid
D2: =Månad!A2 -> Aug-26 | G2: =Månad!A3 -> Jul-26 | J2: =Månad!A4 -> Aug-25 | M2: %-förändring från
A3: Sökandekategori | D3: Antal | E3: % av samtliga | G3: Antal | H3: % av samtliga | J3: Antal | K3: % av samtliga | M3: =G2 -> Jul-26 | N3: =J2 -> Aug-25
D4: M1 | E4: A1 | F4: TOM1 | G4: M2 | H4: A2 | I4: TOM2 | J4: M3 | K4: A3
A5: ÖPPET ARBETSLÖSA | D5: 23968 | E5: 43.995741 | G5: 24640 | H5: 44.487777 | J5: 25013 | K5: 44.515038 | M5: =IFERROR(D5/G5*100-100,"-") -> -2.7272727 | N5: =IFERROR(D5/J5*100-100,"-") -> -4.1778275
C6: - därav Långtidsarbetslösa | D6: 5406 | E6: 9.9232718 | G6: 5520 | H6: 9.9664175 | J6: 5617 | K6: 9.9964406 | M6: =IFERROR(D6/G6*100-100,"-") -> -2.0652174 | N6: =IFERROR(D6/J6*100-100,"-") -> -3.7564536
A7: PROGRAM MED AKTIVITETSSTÖD | D7: 14183 | E7: 26.034362 | G7: 14191 | H7: 25.621998 | J7: 15017 | K7: 26.725396 | M7: =IFERROR(D7/G7*100-100,"-") -> -0.056373758 | N7: =IFERROR(D7/J7*100-100,"-") -> -5.5537058
B8: Arbetsmarknadsutbildning | D8: 295 | E8: 0.54150299 | G8: 309 | H8: 0.55790272 | J8: 247 | K8: 0.43958 | M8: =IFERROR(D8/G8*100-100,"-") -> -4.5307443 | N8: =IFERROR(D8/J8*100-100,"-") -> 19.433198
B9: Arbetspraktik | D9: 150 | E9: 0.2753405 | G9: 152 | H9: 0.27443758 | J9: 143 | K9: 0.25449368 | M9: =IFERROR(D9/G9*100-100,"-") -> -1.3157895 | N9: =IFERROR(D9/J9*100-100,"-") -> 4.8951049
B10: Stöd till start av näringsverksamhet | D10: 140 | E10: 0.25698447 | G10: 143 | H10: 0.25818799 | J10: 115 | K10: 0.20466275 | M10: =IFERROR(D10/G10*100-100,"-") -> -2.0979021 | N10: =IFERROR(D10/J10*100-100,"-") -> 21.73913
B11: Jobb- och utvecklingsgarantin | D11: 576 | E11: 1.0573075 | G11: 629 | H11: 1.1356661 | J11: 1121 | K11: 1.9950169 | M11: =IFERROR(D11/G11*100-100,"-") -> -8.4260731 | N11: =IFERROR(D11/J11*100-100,"-") -> -48.617306
B12: Etableringsprogrammet | D12: 9497 | E12: 17.432725 | G12: 9574 | H12: 17.285957 | J12: 9775 | K12: 17.396334 | M12: =IFERROR(D12/G12*100-100,"-") -> -0.80426154 | N12: =IFERROR(D12/J12*100-100,"-") -> -2.8439898
C13: - därav Kartläggning | D13: 871 | E13: 1.5988105 | G13: 889 | H13: 1.6050988 | J13: 1017 | K13: 1.8099306 | M13: =IFERROR(D13/G13*100-100,"-") -> -2.0247469 | N13: =IFERROR(D13/J13*100-100,"-") -> -14.355949
A14: ARBETE UTAN STÖD | D14: 8706 | E14: 15.980763 | G14: 8727 | H14: 15.756689 | J14: 8617 | K14: 15.335469 | M14: =IFERROR(D14/G14*100-100,"-") -> -0.24063252 | N14: =IFERROR(D14/J14*100-100,"-") -> 1.0328421
B15: Deltidsarbetslösa | D15: 2597 | E15: 4.7670619 | G15: 2598 | H15: 4.6907161 | J15: 2495 | K15: 4.4402919 | M15: =IFERROR(D15/G15*100-100,"-") -> -0.038491147 | N15: =IFERROR(D15/J15*100-100,"-") -> 4.0881764
B16: Tillfälligt timanställda | D16: 3827 | E16: 7.0248541 | G16: 3848 | H16: 6.9476041 | J16: 3696 | K16: 6.5776829 | M16: =IFERROR(D16/G16*100-100,"-") -> -0.54573805 | N16: =IFERROR(D16/J16*100-100,"-") -> 3.5443723
B17: Sökande med tillfälligt arbete | D17: 1152 | E17: 2.1146151 | G17: 1123 | H17: 2.0275882 | J17: 1003 | K17: 1.7850151 | M17: =IFERROR(D17/G17*100-100,"-") -> 2.5823687 | N17: =IFERROR(D17/J17*100-100,"-") -> 14.855434
B18: Ombytessökande | D18: 1114 | E18: 2.0448621 | G18: 1142 | H18: 2.0618929 | J18: 1423 | K18: 2.5324791 | M18: =IFERROR(D18/G18*100-100,"-") -> -2.4518389 | N18: =IFERROR(D18/J18*100-100,"-") -> -21.714687
A19: ARBETE MED STÖD | D19: 3009 | E19: 5.5233305 | G19: 3015 | H19: 5.4436139 | J19: 2849 | K19: 5.0702972 | M19: =IFERROR(D19/G19*100-100,"-") -> -0.19900498 | N19: =IFERROR(D19/J19*100-100,"-") -> 5.6160056
B20: Anställningsstöd | D20: 355 | E20: 0.65163919 | G20: 362 | H20: 0.65359477 | J20: 342 | K20: 0.60864923 | M20: =IFERROR(D20/G20*100-100,"-") -> -1.9337017 | N20: =IFERROR(D20/J20*100-100,"-") -> 3.8011696
C21: - därav Introduktionsjobb | D21: 355 | E21: 0.65163919 | G21: 362 | H21: 0.65359477 | J21: 342 | K21: 0.60864923 | M21: =IFERROR(D21/G21*100-100,"-") -> -1.9337017 | N21: =IFERROR(D21/J21*100-100,"-") -> 3.8011696
C22: - därav Extratjänster | D22: 68 | E22: 0.12482103 | G22: 68 | H22: 0.12277471 | J22: 82 | K22: 0.14593344 | M22: =IFERROR(D22/G22*100-100,"-") -> 0 | N22: =IFERROR(D22/J22*100-100,"-") -> -17.073171
B23: Särskilda insatser för funktionshindrade | D23: 2654 | E23: 4.8716913 | G23: 2653 | H23: 4.7900191 | J23: 2507 | K23: 4.461648 | M23: =IFERROR(D23/G23*100-100,"-") -> 0.037693178 | N23: =IFERROR(D23/J23*100-100,"-") -> 5.863582
C24: - därav Lönebidrag | D24: 1428 | E24: 2.6212416 | G24: 1420 | H24: 2.5638248 | J24: 1331 | K24: 2.3687489 | M24: =IFERROR(D24/G24*100-100,"-") -> 0.56338028 | N24: =IFERROR(D24/J24*100-100,"-") -> 7.2877536
C25: - därav Offentligt skyddat arbete (OSA) | D25: 187 | E25: 0.34325783 | G25: 186 | H25: 0.33582494 | J25: 198 | K25: 0.35237587 | M25: =IFERROR(D25/G25*100-100,"-") -> 0.53763441 | N25: =IFERROR(D25/J25*100-100,"-") -> -5.5555556
C26: - därav Utvecklingsanställning | D26: 305 | E26: 0.55985903 | G26: 305 | H26: 0.55068068 | J26: 230 | K26: 0.4093255 | M26: =IFERROR(D26/G26*100-100,"-") -> 0 | N26: =IFERROR(D26/J26*100-100,"-") -> 32.608696
C27: - därav Trygghetsanställning | D27: 666 | E27: 1.2225118 | G27: 674 | H27: 1.216914 | J27: 666 | K27: 1.1852643 | M27: =IFERROR(D27/G27*100-100,"-") -> -1.1869436 | N27: =IFERROR(D27/J27*100-100,"-") -> 0
C28: - därav Utvecklingsanställning Samhall | D28: 68 | E28: 0.12482103 | G28: 68 | H28: 0.12277471 | J28: 82 | K28: 0.14593344 | M28: =IFERROR(D28/G28*100-100,"-") -> 0 | N28: =IFERROR(D28/J28*100-100,"-") -> -17.073171
A29: ÖVRIGT INSKRIVNA1 | D29: 3415 | E29: 6.2685855 | G29: 3615 | H29: 6.5269202 | J29: 3418 | K29: 6.0829329 | M29: =IFERROR(D29/G29*100-100,"-") -> -5.5325035 | N29: =IFERROR(D29/J29*100-100,"-") -> -0.087770626
C30: - därav Arbetssökande med förhinder | D30: 3378 | E30: 6.2006682 | G30: 3570 | H30: 6.4456722 | J30: 3396 | K30: 6.04378 | M30: =IFERROR(D30/G30*100-100,"-") -> -5.3781513 | N30: =IFERROR(D30/J30*100-100,"-") -> -0.53003534
A31: NYSTARTSJOBB/ETABLERINGSJOBB | D31: 1197 | E31: 2.1972172 | G31: 1198 | H31: 2.1630015 | J31: 1276 | K31: 2.2708667 | M31: =IFERROR(D31/G31*100-100,"-") -> -0.083472454 | N31: =IFERROR(D31/J31*100-100,"-") -> -6.1912226
A33: SAMTLIGA SÖKANDE | D33: 54478 | E33: 100 | G33: 55386 | H33: 100 | J33: 56190 | K33: 100 | M33: =D33/G33*100-100 -> -1.6394035 | N33: =D33/J33*100-100 -> -3.0468055
A34: 1 Inkl. sökandekategori 15: Kommuninsats, sökandekategori 40: Yrkesintroduktion och sökandekategori 32: Utbildningskontrakt
A35: * Redovisningen t.o.m. december 2025 sker för åldersgruppen 16-65 år. Fr.o.m januari 2026 sker redovisningen för åldersgruppen 16-66 år, p.g.a. att pensionsåldern höjts till 67 år.

Sheet Tab2
A1: Tabell 2 Andelen öppet arbetslösa av befolkningen i Hela staden efter ålder och kön över tid
C2: Öppet Arbetslösa | G2: Befolkningen | K2: Andel av befolkningen
A3: Kön | B3: Ålder | C3: =Månad!A2 -> Aug-26 | D3: =Månad!A3 -> Jul-26 | E3: =Månad!A4 -> Aug-25 | G3: =C3 -> Aug-26 | H3: =D3 -> Jul-26 | I3: =E3 -> Aug-25 | K3: =C3 -> Aug-26 | L3: =D3 -> Jul-26 | M3: =E3 -> Aug-25
C4: M1 | D4: M2 | E4: M3 | G4: M1 | H4: M2 | I4: M3
A5: Kvinnor | B5: 16-19 | C5: 351 | D5: 284 | E5: 374 | G5: 21211 | H5: 21179 | I5: 20584 | K5: =C5/G5*100 -> 1.6548018 | L5: =D5/H5*100 -> 1.3409509 | M5: =E5/I5*100 -> 1.8169452
B6: 20-24 | C6: 700 | D6: 629 | E6: 719 | G6: 27637 | H6: 27587 | I6: 27063 | K6: =C6/G6*100 -> 2.5328364 | L6: =D6/H6*100 -> 2.2800594 | M6: =E6/I6*100 -> 2.6567638
B7: 25-34 | C7: 3254 | D7: 3401 | E7: 3460 | G7: 84558 | H7: 84571 | I7: 86213 | K7: =C7/G7*100 -> 3.8482462 | L7: =D7/H7*100 -> 4.0214731 | M7: =E7/I7*100 -> 4.0133159
B8: 35-44 | C8: 3324 | D8: 3454 | E8: 3514 | G8: 76516 | H8: 76527 | I8: 75783 | K8: =C8/G8*100 -> 4.3441895 | L8: =D8/H8*100 -> 4.5134397 | M8: =E8/I8*100 -> 4.6369238
B9: 45-54 | C9: 2239 | D9: 2429 | E9: 2378 | G9: 64474 | H9: 64366 | I9: 63806 | K9: =C9/G9*100 -> 3.4727177 | L9: =D9/H9*100 -> 3.7737315 | M9: =E9/I9*100 -> 3.7269222
B10: 55-66* | C10: 1985 | D10: 2082 | E10: 1883 | G10: 69429 | H10: 69308 | I10: 63468 | K10: =C10/G10*100 -> 2.8590358 | L10: =D10/H10*100 -> 3.0039822 | M10: =E10/I10*100 -> 2.9668494
B11: 16-66* | C11: 11853 | D11: 12279 | E11: 12328 | G11: 343825 | H11: 343538 | I11: 336917 | K11: =C11/G11*100 -> 3.4473933 | L11: =D11/H11*100 -> 3.5742771 | M11: =E11/I11*100 -> 3.6590614
A13: Män | B13: 16-19 | C13: 514 | D13: 441 | E13: 489 | G13: 21946 | H13: 21897 | I13: 21309 | K13: =C13/G13*100 -> 2.3421125 | L13: =D13/H13*100 -> 2.0139745 | M13: =E13/I13*100 -> 2.294805
B14: 20-24 | C14: 1030 | D14: 988 | E14: 1014 | G14: 27478 | H14: 27282 | I14: 26682 | K14: =C14/G14*100 -> 3.7484533 | L14: =D14/H14*100 -> 3.6214354 | M14: =E14/I14*100 -> 3.8003148
B15: 25-34 | C15: 3102 | D15: 3184 | E15: 3424 | G15: 81392 | H15: 81325 | I15: 83468 | K15: =C15/G15*100 -> 3.8111854 | L15: =D15/H15*100 -> 3.9151552 | M15: =E15/I15*100 -> 4.1021709
B16: 35-44 | C16: 2964 | D16: 3076 | E16: 3116 | G16: 79140 | H16: 79164 | I16: 78668 | K16: =C16/G16*100 -> 3.7452616 | L16: =D16/H16*100 -> 3.8856046 | M16: =E16/I16*100 -> 3.9609498
B17: 45-54 | C17: 2335 | D17: 2423 | E17: 2470 | G17: 65364 | H17: 65335 | I17: 64873 | K17: =C17/G17*100 -> 3.5723028 | L17: =D17/H17*100 -> 3.7085789 | M17: =E17/I17*100 -> 3.8074392
B18: 55-66* | C18: 2170 | D18: 2249 | E18: 2172 | G18: 66843 | H18: 66759 | I18: 61158 | K18: =C18/G18*100 -> 3.2464132 | L18: =D18/H18*100 -> 3.3688342 | M18: =E18/I18*100 -> 3.5514569
B19: 16-66* | C19: 12115 | D19: 12361 | E19: 12685 | G19: 342163 | H19: 341762 | I19: 336158 | K19: =C19/G19*100 -> 3.5407101 | L19: =D19/H19*100 -> 3.6168445 | M19: =E19/I19*100 -> 3.7735232
A21: Samtliga | B21: 16-19 | C21: 865 | D21: 725 | E21: 863 | G21: 43157 | H21: 43076 | I21: 41893 | K21: =C21/G21*100 -> 2.0043098 | L21: =D21/H21*100 -> 1.6830718 | M21: =E21/I21*100 -> 2.06001
B22: 20-24 | C22: 1730 | D22: 1617 | E22: 1733 | G22: 55115 | H22: 54869 | I22: 53745 | K22: =C22/G22*100 -> 3.1388914 | L22: =D22/H22*100 -> 2.9470193 | M22: =E22/I22*100 -> 3.224486
B23: 25-34 | C23: 6356 | D23: 6585 | E23: 6884 | G23: 165950 | H23: 165896 | I23: 169681 | K23: =C23/G23*100 -> 3.8300693 | L23: =D23/H23*100 -> 3.9693543 | M23: =E23/I23*100 -> 4.0570247
B24: 35-44 | C24: 6288 | D24: 6530 | E24: 6630 | G24: 155656 | H24: 155691 | I24: 154451 | K24: =C24/G24*100 -> 4.0396772 | L24: =D24/H24*100 -> 4.1942052 | M24: =E24/I24*100 -> 4.2926236
B25: 45-54 | C25: 4574 | D25: 4852 | E25: 4848 | G25: 129838 | H25: 129701 | I25: 128679 | K25: =C25/G25*100 -> 3.5228516 | L25: =D25/H25*100 -> 3.7409118 | M25: =E25/I25*100 -> 3.7675145
B26: 55-66* | C26: 4155 | D26: 4331 | E26: 4055 | G26: 136272 | H26: 136067 | I26: 124626 | K26: =C26/G26*100 -> 3.049049 | L26: =D26/H26*100 -> 3.1829907 | M26: =E26/I26*100 -> 3.2537352
B27: 16-66* | C27: 23968 | D27: 24640 | E27: 25013 | G27: 685988 | H27: 685300 | I27: 673075 | K27: =C27/G27*100 -> 3.4939387 | L27: =D27/H27*100 -> 3.5955056 | M27: =E27/I27*100 -> 3.7162278
A28: * Redovisningen t.o.m. december 2025 sker för åldersgruppen 16-65 år. Fr.o.m januari 2026 sker redovisningen för åldersgruppen 16-66 år, p.g.a. att pensionsåldern höjts till 67 år.

Sheet Tab3
A1: Tabell 3 Andelen långtidsarbetslösa1 av öppet arbetslösa i Hela staden efter ålder och kön över tid
C2: Öppet arbetslösa | G2: Varav långtidsarbetslösa | K2: Långtidsarbetslösas andel av öppet arbetslösa (%)
C3: =Månad!A2 -> Aug-26 | D3: =Månad!A3 -> Jul-26 | E3: =Månad!A4 -> Aug-25 | G3: =C3 -> Aug-26 | H3: =D3 -> Jul-26 | I3: =E3 -> Aug-25 | K3: =C3 -> Aug-26 | L3: =D3 -> Jul-26 | M3: =E3 -> Aug-25
A4: Kön | B4: Ålder | C4: M1 | D4: M2 | E4: M3 | G4: M1 | H4: M2 | I4: M3
A5: Kvinnor | B5: 16-19 | C5: 351 | D5: 284 | E5: 374 | G5: 32 | H5: 37 | I5: 32 | K5: =G5/C5*100 -> 9.1168091 | L5: =H5/D5*100 -> 13.028169 | M5: =I5/E5*100 -> 8.5561497
B6: 20-24 | C6: 700 | D6: 629 | E6: 719 | G6: 182 | H6: 176 | I6: 184 | K6: =G6/C6*100 -> 26 | L6: =H6/D6*100 -> 27.980922 | M6: =I6/E6*100 -> 25.591099
B7: 25-34 | C7: 3254 | D7: 3401 | E7: 3460 | G7: 522 | H7: 507 | I7: 567 | K7: =G7/C7*100 -> 16.041795 | L7: =H7/D7*100 -> 14.90738 | M7: =I7/E7*100 -> 16.387283
B8: 35-44 | C8: 3324 | D8: 3454 | E8: 3514 | G8: 828 | H8: 847 | I8: 877 | K8: =G8/C8*100 -> 24.909747 | L8: =H8/D8*100 -> 24.522293 | M8: =I8/E8*100 -> 24.957314
B9: 45-54 | C9: 2239 | D9: 2429 | E9: 2378 | G9: 600 | H9: 656 | I9: 687 | K9: =G9/C9*100 -> 26.797678 | L9: =H9/D9*100 -> 27.006999 | M9: =I9/E9*100 -> 28.889823
B10: 55-66* | C10: 1985 | D10: 2082 | E10: 1883 | G10: 550 | H10: 590 | I10: 524 | K10: =G10/C10*100 -> 27.707809 | L10: =H10/D10*100 -> 28.338136 | M10: =I10/E10*100 -> 27.827934
B11: 16-66* | C11: 11853 | D11: 12279 | E11: 12328 | G11: 2714 | H11: 2813 | I11: 2871 | K11: =G11/C11*100 -> 22.897157 | L11: =H11/D11*100 -> 22.909032 | M11: =I11/E11*100 -> 23.288449
A13: Män | B13: 16-19 | C13: 514 | D13: 441 | E13: 489 | G13: 44 | H13: 50 | I13: 42 | K13: =G13/C13*100 -> 8.5603113 | L13: =H13/D13*100 -> 11.337868 | M13: =I13/E13*100 -> 8.5889571
B14: 20-24 | C14: 1030 | D14: 988 | E14: 1014 | G14: 292 | H14: 270 | I14: 300 | K14: =G14/C14*100 -> 28.349515 | L14: =H14/D14*100 -> 27.327935 | M14: =I14/E14*100 -> 29.585799
B15: 25-34 | C15: 3102 | D15: 3184 | E15: 3424 | G15: 465 | H15: 477 | I15: 567 | K15: =G15/C15*100 -> 14.990329 | L15: =H15/D15*100 -> 14.981156 | M15: =I15/E15*100 -> 16.559579
B16: 35-44 | C16: 2964 | D16: 3076 | E16: 3116 | G16: 658 | H16: 655 | I16: 658 | K16: =G16/C16*100 -> 22.19973 | L16: =H16/D16*100 -> 21.293888 | M16: =I16/E16*100 -> 21.116816
B17: 45-54 | C17: 2335 | D17: 2423 | E17: 2470 | G17: 606 | H17: 611 | I17: 600 | K17: =G17/C17*100 -> 25.952891 | L17: =H17/D17*100 -> 25.216674 | M17: =I17/E17*100 -> 24.291498
B18: 55-66* | C18: 2170 | D18: 2249 | E18: 2172 | G18: 627 | H18: 644 | I18: 579 | K18: =G18/C18*100 -> 28.894009 | L18: =H18/D18*100 -> 28.634949 | M18: =I18/E18*100 -> 26.657459
B19: 16-66* | C19: 12115 | D19: 12361 | E19: 12685 | G19: 2692 | H19: 2707 | I19: 2746 | K19: =G19/C19*100 -> 22.220388 | L19: =H19/D19*100 -> 21.899523 | M19: =I19/E19*100 -> 21.647615
A21: Samtliga | B21: 16-19 | C21: 865 | D21: 725 | E21: 863 | G21: 76 | H21: 87 | I21: 74 | K21: =G21/C21*100 -> 8.7861272 | L21: =H21/D21*100 -> 12 | M21: =I21/E21*100 -> 8.5747393
B22: 20-24 | C22: 1730 | D22: 1617 | E22: 1733 | G22: 474 | H22: 446 | I22: 484 | K22: =G22/C22*100 -> 27.398844 | L22: =H22/D22*100 -> 27.581942 | M22: =I22/E22*100 -> 27.928448
B23: 25-34 | C23: 6356 | D23: 6585 | E23: 6884 | G23: 987 | H23: 984 | I23: 1134 | K23: =G23/C23*100 -> 15.528634 | L23: =H23/D23*100 -> 14.943052 | M23: =I23/E23*100 -> 16.472981
B24: 35-44 | C24: 6288 | D24: 6530 | E24: 6630 | G24: 1486 | H24: 1502 | I24: 1535 | K24: =G24/C24*100 -> 23.632316 | L24: =H24/D24*100 -> 23.001531 | M24: =I24/E24*100 -> 23.152338
B25: 45-54 | C25: 4574 | D25: 4852 | E25: 4848 | G25: 1206 | H25: 1267 | I25: 1287 | K25: =G25/C25*100 -> 26.366419 | L25: =H25/D25*100 -> 26.112943 | M25: =I25/E25*100 -> 26.54703
B26: 55-66* | C26: 4155 | D26: 4331 | E26: 4055 | G26: 1177 | H26: 1234 | I26: 1103 | K26: =G26/C26*100 -> 28.327316 | L26: =H26/D26*100 -> 28.492265 | M26: =I26/E26*100 -> 27.200986
B27: 16-66* | C27: 23968 | D27: 24640 | E27: 25013 | G27: 5406 | H27: 5520 | I27: 5617 | K27: =G27/C27*100 -> 22.555073 | L27: =H27/D27*100 -> 22.402597 | M27: =I27/E27*100 -> 22.456323
A28: 1 Arbetslösa 25 år eller äldre som varit anmälda hos Arbetsförmedlingen i minst 12 månader och under den tiden inte haft ett arbete eller deltagit i ett program med aktivitetsstöd. Ungdomar under 25 år räknas som långtidsarbetslösa efter 6 månader.
A29: * Redovisningen t.o.m. december 2025 sker för åldersgruppen 16-65 år. Fr.o.m januari 2026 sker redovisningen för åldersgruppen 16-66 år, p.g.a. att pensionsåldern höjts till 67 år.

Sheet Tab4
A1: Tabell 4 Antalet sökande 16-66* år per sökandegrupp i Hela staden efter födelseland över tid
B2: Svenskfödd | F2: Utlandsfödd | J2: Samtliga
B3: =Månad!A2 -> Aug-26 | C3: =Månad!A3 -> Jul-26 | D3: =Månad!A4 -> Aug-25 | F3: =B3 -> Aug-26 | G3: =C3 -> Jul-26 | H3: =D3 -> Aug-25 | J3: =F3 -> Aug-26 | K3: =G3 -> Jul-26 | L3: =H3 -> Aug-25
B4: SverigeM1 | C4: SverigeM2 | D4: SverigeM3 | E4: TOM1 | F4: utlandM1 | G4: utlandM2 | H4: utlandM3
A5: Öppet Arbetslösa | B5: 12930 | C5: 13428 | D5: 12980 | F5: 11038 | G5: 11212 | H5: 12033 | J5: =B5+F5 -> 23968 | K5: =C5+G5 -> 24640 | L5: =D5+H5 -> 25013
A6: Prog med aktivitetsstöd | B6: 5687 | C6: 5725 | D6: 5764 | F6: 8496 | G6: 8466 | H6: 9253 | J6: =B6+F6 -> 14183 | K6: =C6+G6 -> 14191 | L6: =D6+H6 -> 15017
A7: Arbete utan stöd | B7: 4135 | C7: 4099 | D7: 4063 | F7: 4571 | G7: 4628 | H7: 4554 | J7: =B7+F7 -> 8706 | K7: =C7+G7 -> 8727 | L7: =D7+H7 -> 8617
A8: Arbete med stöd | B8: 1981 | C8: 1979 | D8: 1849 | F8: 1028 | G8: 1036 | H8: 1000 | J8: =B8+F8 -> 3009 | K8: =C8+G8 -> 3015 | L8: =D8+H8 -> 2849
A9: Övrigt inskrivna | B9: 1771 | C9: 1866 | D9: 1742 | F9: 1644 | G9: 1749 | H9: 1676 | J9: =B9+F9 -> 3415 | K9: =C9+G9 -> 3615 | L9: =D9+H9 -> 3418
A10: Nystartsjobb/Etableringsjobb | B10: 226 | C10: 226 | D10: 250 | F10: 971 | G10: 972 | H10: 1026 | J10: =B10+F10 -> 1197 | K10: =C10+G10 -> 1198 | L10: =D10+H10 -> 1276
A11: Samtliga sökande | B11: 26730 | C11: 27323 | D11: 26648 | F11: 27748 | G11: 28063 | H11: 29542 | J11: =B11+F11 -> 54478 | K11: =C11+G11 -> 55386 | L11: =D11+H11 -> 56190
B13: Andel av samtliga sökande (%)
A14: Öppet Arbetslösa | B14: =B5/B$11*100 -> 48.372615 | C14: =C5/C$11*100 -> 49.145409 | D14: =D5/D$11*100 -> 48.709096 | F14: =F5/F$11*100 -> 39.779444 | G14: =G5/G$11*100 -> 39.952963 | H14: =H5/H$11*100 -> 40.731839 | J14: =J5/J$11*100 -> 43.995741 | K14: =K5/K$11*100 -> 44.487777 | L14: =L5/L$11*100 -> 44.515038
A15: Prog med aktivitetsstöd | B15: =B6/B$11*100 -> 21.27572 | C15: =C6/C$11*100 -> 20.953043 | D15: =D6/D$11*100 -> 21.630141 | F15: =F6/F$11*100 -> 30.618423 | G15: =G6/G$11*100 -> 30.167837 | H15: =H6/H$11*100 -> 31.321508 | J15: =J6/J$11*100 -> 26.034362 | K15: =K6/K$11*100 -> 25.621998 | L15: =L6/L$11*100 -> 26.725396
A16: Arbete utan stöd | B16: =B7/B$11*100 -> 15.46951 | C16: =C7/C$11*100 -> 15.002013 | D16: =D7/D$11*100 -> 15.246923 | F16: =F7/F$11*100 -> 16.473259 | G16: =G7/G$11*100 -> 16.491466 | H16: =H7/H$11*100 -> 15.415341 | J16: =J7/J$11*100 -> 15.980763 | K16: =K7/K$11*100 -> 15.756689 | L16: =L7/L$11*100 -> 15.335469
A17: Arbete med stöd | B17: =B8/B$11*100 -> 7.4111485 | C17: =C8/C$11*100 -> 7.2429821 | D17: =D8/D$11*100 -> 6.938607 | F17: =F8/F$11*100 -> 3.7047715 | G17: =G8/G$11*100 -> 3.6916937 | H17: =H8/H$11*100 -> 3.3850112 | J17: =J8/J$11*100 -> 5.5233305 | K17: =K8/K$11*100 -> 5.4436139 | L17: =L8/L$11*100 -> 5.0702972
A18: Övrigt inskrivna | B18: =B9/B$11*100 -> 6.6255144 | C18: =C9/C$11*100 -> 6.8294111 | D18: =D9/D$11*100 -> 6.537076 | F18: =F9/F$11*100 -> 5.9247513 | G18: =G9/G$11*100 -> 6.2324057 | H18: =H9/H$11*100 -> 5.6732787 | J18: =J9/J$11*100 -> 6.2685855 | K18: =K9/K$11*100 -> 6.5269202 | L18: =L9/L$11*100 -> 6.0829329
A19: Nystartsjobb/Etableringsjobb | B19: =B10/B$11*100 -> 0.84549196 | C19: =C10/C$11*100 -> 0.82714197 | D19: =D10/D$11*100 -> 0.93815671 | F19: =F10/F$11*100 -> 3.4993513 | G19: =G10/G$11*100 -> 3.4636354 | H19: =H10/H$11*100 -> 3.4730215 | J19: =J10/J$11*100 -> 2.1972172 | K19: =K10/K$11*100 -> 2.1630015 | L19: =L10/L$11*100 -> 2.2708667
A20: Samtliga sökande | B20: =B11/B$11*100 -> 100 | C20: =C11/C$11*100 -> 100 | D20: =D11/D$11*100 -> 100 | F20: =F11/F$11*100 -> 100 | G20: =G11/G$11*100 -> 100 | H20: =H11/H$11*100 -> 100 | J20: =J11/J$11*100 -> 100 | K20: =K11/K$11*100 -> 100 | L20: =L11/L$11*100 -> 100
A23: Varav antalet sökande i åldrarna 18-24 år
B24: SverigeM1 | C24: SverigeM2 | D24: SverigeM3 | E24: TOM1 | F24: utlandM1 | G24: utlandM2 | H24: utlandM3
A25: Öppet Arbetslösa | B25: 1925 | C25: 1708 | D25: 1837 | F25: 657 | G25: 623 | H25: 744 | J25: =B25+F25 -> 2582 | K25: =C25+G25 -> 2331 | L25: =D25+H25 -> 2581
A26: Prog med aktivitetsstöd | B26: 510 | C26: 553 | D26: 571 | F26: 339 | G26: 352 | H26: 399 | J26: =B26+F26 -> 849 | K26: =C26+G26 -> 905 | L26: =D26+H26 -> 970
A27: Arbete utan stöd | B27: 519 | C27: 510 | D27: 513 | F27: 201 | G27: 209 | H27: 210 | J27: =B27+F27 -> 720 | K27: =C27+G27 -> 719 | L27: =D27+H27 -> 723
A28: Arbete med stöd | B28: 160 | C28: 172 | D28: 141 | F28: 47 | G28: 44 | H28: 52 | J28: =B28+F28 -> 207 | K28: =C28+G28 -> 216 | L28: =D28+H28 -> 193
A29: Övrigt inskrivna | B29: 184 | C29: 209 | D29: 178 | F29: 59 | G29: 75 | H29: 64 | J29: =B29+F29 -> 243 | K29: =C29+G29 -> 284 | L29: =D29+H29 -> 242
A30: Nystartsjobb/Etableringsjobb | B30: 13 | C30: 14 | D30: 24 | F30: 41 | G30: 40 | H30: 50 | J30: =B30+F30 -> 54 | K30: =C30+G30 -> 54 | L30: =D30+H30 -> 74
A31: Samtliga sökande | B31: 3311 | C31: 3166 | D31: 3264 | F31: 1344 | G31: 1343 | H31: 1519 | J31: =B31+F31 -> 4655 | K31: =C31+G31 -> 4509 | L31: =D31+H31 -> 4783
B33: Andel av samtliga sökande (%)
A34: Öppet Arbetslösa | B34: =B25/B$31*100 -> 58.139535 | C34: =C25/C$31*100 -> 53.9482 | D34: =D25/D$31*100 -> 56.280637 | F34: =F25/F$31*100 -> 48.883929 | G34: =G25/G$31*100 -> 46.388682 | H34: =H25/H$31*100 -> 48.979592 | J34: =J25/J$31*100 -> 55.46724 | K34: =K25/K$31*100 -> 51.696607 | L34: =L25/L$31*100 -> 53.961949
A35: Prog med aktivitetsstöd | B35: =B26/B$31*100 -> 15.403201 | C35: =C26/C$31*100 -> 17.466835 | D35: =D26/D$31*100 -> 17.493873 | F35: =F26/F$31*100 -> 25.223214 | G35: =G26/G$31*100 -> 26.209978 | H35: =H26/H$31*100 -> 26.267281 | J35: =J26/J$31*100 -> 18.238453 | K35: =K26/K$31*100 -> 20.070969 | L35: =L26/L$31*100 -> 20.280159
A36: Arbete utan stöd | B36: =B27/B$31*100 -> 15.675023 | C36: =C27/C$31*100 -> 16.108654 | D36: =D27/D$31*100 -> 15.716912 | F36: =F27/F$31*100 -> 14.955357 | G36: =G27/G$31*100 -> 15.562174 | H36: =H27/H$31*100 -> 13.824885 | J36: =J27/J$31*100 -> 15.46724 | K36: =K27/K$31*100 -> 15.945886 | L36: =L27/L$31*100 -> 15.116036
A37: Arbete med stöd | B37: =B28/B$31*100 -> 4.8323769 | C37: =C28/C$31*100 -> 5.4327227 | D37: =D28/D$31*100 -> 4.3198529 | F37: =F28/F$31*100 -> 3.4970238 | G37: =G28/G$31*100 -> 3.2762472 | H37: =H28/H$31*100 -> 3.4233048 | J37: =J28/J$31*100 -> 4.4468314 | K37: =K28/K$31*100 -> 4.7904192 | L37: =L28/L$31*100 -> 4.0351244
A38: Övrigt inskrivna | B38: =B29/B$31*100 -> 5.5572335 | C38: =C29/C$31*100 -> 6.6013898 | D38: =D29/D$31*100 -> 5.4534314 | F38: =F29/F$31*100 -> 4.389881 | G38: =G29/G$31*100 -> 5.5845123 | H38: =H29/H$31*100 -> 4.2132982 | J38: =J29/J$31*100 -> 5.2201933 | K38: =K29/K$31*100 -> 6.2985141 | L38: =L29/L$31*100 -> 5.059586
A39: Nystartsjobb/Etableringsjobb | B39: =B30/B$31*100 -> 0.39263063 | C39: =C30/C$31*100 -> 0.44219836 | D39: =D30/D$31*100 -> 0.73529412 | F39: =F30/F$31*100 -> 3.0505952 | G39: =G30/G$31*100 -> 2.9784066 | H39: =H30/H$31*100 -> 3.2916392 | J39: =J30/J$31*100 -> 1.160043 | K39: =K30/K$31*100 -> 1.1976048 | L39: =L30/L$31*100 -> 1.5471461
A40: Samtliga sökande | B40: =B31/B$31*100 -> 100 | C40: =C31/C$31*100 -> 100 | D40: =D31/D$31*100 -> 100 | F40: =F31/F$31*100 -> 100 | G40: =G31/G$31*100 -> 100 | H40: =H31/H$31*100 -> 100 | J40: =J31/J$31*100 -> 100 | K40: =K31/K$31*100 -> 100 | L40: =L31/L$31*100 -> 100
A41: Not. I sökandekategori "Övrigt inskrivna" ingår sökandekategori 15: Kommuninsats, sökandekategori 40: Yrkesintroduktion och sökandekategori 32: Utbildningskontrakt
A42: * Redovisningen t.o.m. december 2025 sker för åldersgruppen 16-65 år. Fr.o.m januari 2026 sker redovisningen för åldersgruppen 16-66 år, p.g.a. att pensionsåldern höjts till 67 år.

Sheet Tab5
A1: Tabell 5 Antalet sökande 16-66* år per sökandegrupp i Hela staden efter om man är nyanländ1 eller ej över tid
B2: Nyanländ | F2: Ej nyanländ | J2: Samtliga
A3: Sökandegrupp | B3: =Månad!A2 -> Aug-26 | C3: =Månad!A3 -> Jul-26 | D3: =Månad!A4 -> Aug-25 | F3: =B3 -> Aug-26 | G3: =C3 -> Jul-26 | H3: =D3 -> Aug-25 | J3: =F3 -> Aug-26 | K3: =G3 -> Jul-26 | L3: =H3 -> Aug-25
B4: NyM1 | C4: NyM2 | D4: NyM3 | E4: TOM1 | F4: EjM1 | G4: EjM2 | H4: EjM3
A5: Öppet Arbetslösa | B5: 904 | C5: 900 | D5: 1019 | F5: 23064 | G5: 23740 | H5: 23994 | J5: =B5+F5 -> 23968 | K5: =C5+G5 -> 24640 | L5: =D5+H5 -> 25013
A6: Prog med aktivitetsstöd | B6: 1069 | C6: 1070 | D6: 1169 | F6: 13114 | G6: 13121 | H6: 13848 | J6: =B6+F6 -> 14183 | K6: =C6+G6 -> 14191 | L6: =D6+H6 -> 15017
A7: Arbete utan stöd | B7: 225 | C7: 230 | D7: 266 | F7: 8481 | G7: 8497 | H7: 8351 | J7: =B7+F7 -> 8706 | K7: =C7+G7 -> 8727 | L7: =D7+H7 -> 8617
A8: Arbete med stöd | B8: 91 | C8: 92 | D8: 141 | F8: 2918 | G8: 2923 | H8: 2708 | J8: =B8+F8 -> 3009 | K8: =C8+G8 -> 3015 | L8: =D8+H8 -> 2849
A9: Övrigt inskrivna | B9: 87 | C9: 93 | D9: 106 | F9: 3328 | G9: 3522 | H9: 3312 | J9: =B9+F9 -> 3415 | K9: =C9+G9 -> 3615 | L9: =D9+H9 -> 3418
A10: Nystartsjobb/Etableringsjobb | B10: 122 | C10: 123 | D10: 135 | F10: 1075 | G10: 1075 | H10: 1141 | J10: =B10+F10 -> 1197 | K10: =C10+G10 -> 1198 | L10: =D10+H10 -> 1276
A11: Samtliga sökande | B11: 2498 | C11: 2508 | D11: 2836 | F11: 51980 | G11: 52878 | H11: 53354 | J11: =B11+F11 -> 54478 | K11: =C11+G11 -> 55386 | L11: =D11+H11 -> 56190
B13: Andel av samtliga sökande (%)
A14: Öppet Arbetslösa | B14: =B5/B$11*100 -> 36.188951 | C14: =C5/C$11*100 -> 35.885167 | D14: =D5/D$11*100 -> 35.930889 | F14: =F5/F$11*100 -> 44.370912 | G14: =G5/G$11*100 -> 44.895798 | H14: =H5/H$11*100 -> 44.971324 | J14: =J5/J$11*100 -> 43.995741 | K14: =K5/K$11*100 -> 44.487777 | L14: =L5/L$11*100 -> 44.515038
A15: Prog med aktivitetsstöd | B15: =B6/B$11*100 -> 42.794235 | C15: =C6/C$11*100 -> 42.663477 | D15: =D6/D$11*100 -> 41.220028 | F15: =F6/F$11*100 -> 25.228934 | G15: =G6/G$11*100 -> 24.813722 | H15: =H6/H$11*100 -> 25.954942 | J15: =J6/J$11*100 -> 26.034362 | K15: =K6/K$11*100 -> 25.621998 | L15: =L6/L$11*100 -> 26.725396
A16: Arbete utan stöd | B16: =B7/B$11*100 -> 9.0072058 | C16: =C7/C$11*100 -> 9.1706539 | D16: =D7/D$11*100 -> 9.3794076 | F16: =F7/F$11*100 -> 16.315891 | G16: =G7/G$11*100 -> 16.069065 | H16: =H7/H$11*100 -> 15.65206 | J16: =J7/J$11*100 -> 15.980763 | K16: =K7/K$11*100 -> 15.756689 | L16: =L7/L$11*100 -> 15.335469
A17: Arbete med stöd | B17: =B8/B$11*100 -> 3.6429143 | C17: =C8/C$11*100 -> 3.6682616 | D17: =D8/D$11*100 -> 4.9717913 | F17: =F8/F$11*100 -> 5.6136976 | G17: =G8/G$11*100 -> 5.5278188 | H17: =H8/H$11*100 -> 5.0755332 | J17: =J8/J$11*100 -> 5.5233305 | K17: =K8/K$11*100 -> 5.4436139 | L17: =L8/L$11*100 -> 5.0702972
A18: Övrigt inskrivna | B18: =B9/B$11*100 -> 3.4827862 | C18: =C9/C$11*100 -> 3.708134 | D18: =D9/D$11*100 -> 3.7376587 | F18: =F9/F$11*100 -> 6.4024625 | G18: =G9/G$11*100 -> 6.660615 | H18: =H9/H$11*100 -> 6.2075946 | J18: =J9/J$11*100 -> 6.2685855 | K18: =K9/K$11*100 -> 6.5269202 | L18: =L9/L$11*100 -> 6.0829329
A19: Nystartsjobb/Etableringsjobb | B19: =B10/B$11*100 -> 4.8839071 | C19: =C10/C$11*100 -> 4.9043062 | D19: =D10/D$11*100 -> 4.7602257 | F19: =F10/F$11*100 -> 2.0681031 | G19: =G10/G$11*100 -> 2.0329816 | H19: =H10/H$11*100 -> 2.1385463 | J19: =J10/J$11*100 -> 2.1972172 | K19: =K10/K$11*100 -> 2.1630015 | L19: =L10/L$11*100 -> 2.2708667
A20: Samtliga sökande | B20: =B11/B$11*100 -> 100 | C20: =C11/C$11*100 -> 100 | D20: =D11/D$11*100 -> 100 | F20: =F11/F$11*100 -> 100 | G20: =G11/G$11*100 -> 100 | H20: =H11/H$11*100 -> 100 | J20: =J11/J$11*100 -> 100 | K20: =K11/K$11*100 -> 100 | L20: =L11/L$11*100 -> 100
A23: Därav antalet sökande i åldrarna 18-24 år
B24: NyM1 | C24: NyM2 | D24: NyM3 | E24: TOM1 | F24: EjM1 | G24: EjM2 | H24: EjM3
A25: Öppet Arbetslösa | B25: 70 | C25: 70 | D25: 98 | F25: 2512 | G25: 2261 | H25: 2483 | J25: =B25+F25 -> 2582 | K25: =C25+G25 -> 2331 | L25: =D25+H25 -> 2581
A26: Prog med aktivitetsstöd | B26: 140 | C26: 142 | D26: 157 | F26: 709 | G26: 763 | H26: 813 | J26: =B26+F26 -> 849 | K26: =C26+G26 -> 905 | L26: =D26+H26 -> 970
A27: Arbete utan stöd | B27: 18 | C27: 20 | D27: 21 | F27: 702 | G27: 699 | H27: 702 | J27: =B27+F27 -> 720 | K27: =C27+G27 -> 719 | L27: =D27+H27 -> 723
A28: Arbete med stöd | B28: 7 | C28: 7 | D28: 14 | F28: 200 | G28: 209 | H28: 179 | J28: =B28+F28 -> 207 | K28: =C28+G28 -> 216 | L28: =D28+H28 -> 193
A29: Övrigt inskrivna | B29: 8 | C29: 8 | D29: 6 | F29: 235 | G29: 276 | H29: 236 | J29: =B29+F29 -> 243 | K29: =C29+G29 -> 284 | L29: =D29+H29 -> 242
A30: Nystartsjobb/Etableringsjobb | B30: 8 | C30: 9 | D30: 13 | F30: 46 | G30: 45 | H30: 61 | J30: =B30+F30 -> 54 | K30: =C30+G30 -> 54 | L30: =D30+H30 -> 74
A31: Samtliga sökande | B31: 251 | C31: 256 | D31: 309 | F31: 4404 | G31: 4253 | H31: 4474 | J31: =B31+F31 -> 4655 | K31: =C31+G31 -> 4509 | L31: =D31+H31 -> 4783
B33: Andel av samtliga sökande (%)
A34: Öppet Arbetslösa | B34: =B25/B$31*100 -> 27.888446 | C34: =C25/C$31*100 -> 27.34375 | D34: =D25/D$31*100 -> 31.71521 | E34: =E25/E$31*100 -> #DIV/0! | F34: =F25/F$31*100 -> 57.039055 | G34: =G25/G$31*100 -> 53.162474 | H34: =H25/H$31*100 -> 55.498435 | I34: =I25/I$31*100 -> #DIV/0! | ... L34: =L25/L$31*100 -> 53.961949
A35: Prog med aktivitetsstöd | B35: =B26/B$31*100 -> 55.776892 | C35: =C26/C$31*100 -> 55.46875 | D35: =D26/D$31*100 -> 50.809061 | E35: =E26/E$31*100 -> #DIV/0! | F35: =F26/F$31*100 -> 16.099001 | G35: =G26/G$31*100 -> 17.940277 | H35: =H26/H$31*100 -> 18.171658 | I35: =I26/I$31*100 -> #DIV/0! | ... L35: =L26/L$31*100 -> 20.280159
A36: Arbete utan stöd | B36: =B27/B$31*100 -> 7.1713147 | C36: =C27/C$31*100 -> 7.8125 | D36: =D27/D$31*100 -> 6.7961165 | E36: =E27/E$31*100 -> #DIV/0! | F36: =F27/F$31*100 -> 15.940054 | G36: =G27/G$31*100 -> 16.435457 | H36: =H27/H$31*100 -> 15.690657 | I36: =I27/I$31*100 -> #DIV/0! | ... L36: =L27/L$31*100 -> 15.116036
A37: Arbete med stöd | B37: =B28/B$31*100 -> 2.7888446 | C37: =C28/C$31*100 -> 2.734375 | D37: =D28/D$31*100 -> 4.5307443 | E37: =E28/E$31*100 -> #DIV/0! | F37: =F28/F$31*100 -> 4.5413261 | G37: =G28/G$31*100 -> 4.9141782 | H37: =H28/H$31*100 -> 4.0008941 | I37: =I28/I$31*100 -> #DIV/0! | ... L37: =L28/L$31*100 -> 4.0351244
A38: Övrigt inskrivna | B38: =B29/B$31*100 -> 3.187251 | C38: =C29/C$31*100 -> 3.125 | D38: =D29/D$31*100 -> 1.9417476 | E38: =E29/E$31*100 -> #DIV/0! | F38: =F29/F$31*100 -> 5.3360581 | G38: =G29/G$31*100 -> 6.4895368 | H38: =H29/H$31*100 -> 5.2749218 | I38: =I29/I$31*100 -> #DIV/0! | ... L38: =L29/L$31*100 -> 5.059586
A39: Nystartsjobb/Etableringsjobb | B39: =B30/B$31*100 -> 3.187251 | C39: =C30/C$31*100 -> 3.515625 | D39: =D30/D$31*100 -> 4.2071197 | E39: =E30/E$31*100 -> #DIV/0! | F39: =F30/F$31*100 -> 1.044505 | G39: =G30/G$31*100 -> 1.0580767 | H39: =H30/H$31*100 -> 1.3634332 | I39: =I30/I$31*100 -> #DIV/0! | ... L39: =L30/L$31*100 -> 1.5471461
A40: Samtliga sökande | B40: =B31/B$31*100 -> 100 | C40: =C31/C$31*100 -> 100 | D40: =D31/D$31*100 -> 100 | E40: =E31/E$31*100 -> #DIV/0! | F40: =F31/F$31*100 -> 100 | G40: =G31/G$31*100 -> 100 | H40: =H31/H$31*100 -> 100 | I40: =I31/I$31*100 -> #DIV/0! | ... L40: =L31/L$31*100 -> 100
A41: 1 En sökande kategoriseras som nyanländ fram till tre år efter första folkbokföringen i Sverige.
A42: Not. I sökandekategori "Övrigt inskrivna" ingår sökandekategori 15: Kommuninsats, sökandekategori 40: Yrkesintroduktion och sökandekategori 32: Utbildningskontrakt
A43: * Redovisningen t.o.m. december 2025 sker för åldersgruppen 16-65 år. Fr.o.m januari 2026 sker redovisningen för åldersgruppen 16-66 år, p.g.a. att pensionsåldern höjts till 67 år.

Sheet Tab6
A1: ="Tabell 6 Antalet öppet arbetslösa i Hela staden efter kassatillhörighet, ålder och kön - kvarstående sista "&(TEXT('Tab1'!$D$2,"MMMM"))&" "&TEXT('Tab1'!$D$2,"ÅÅÅÅ") -> Tabell 6 Antalet öppet arbetslösa i Hela staden efter kassatillhörighet, ålder och kön - kvarstående sista augusti 2026
C2: Kassatillhörighet | I2: Ingen kassatillhörighet | L2: Totalt
C3: A-kassa | F3: Alfa
A4: Kön | B4: Ålder | C4: Antal | D4: % av öppet arbetslösa | F4: Antal | G4: % av öppet arbetslösa | I4: Antal | J4: % av öppet arbetslösa | L4: Antal | M4: % av öppet arbetslösa
C5: k1 | D5: col1 | E5: col2 | F5: k2 | G5: co14 | H5: col4 | I5: k3 | J5: col5
A6: Kvinnor | B6: 16-19 | C6: 24 | D6: 6.8376068 | F6: 38 | G6: 10.826211 | I6: 289 | J6: 82.336182 | L6: =C6+F6+I6 -> 351 | M6: =L6/L6*100 -> 100
B7: 20-24 | C7: 201 | D7: 28.714286 | F7: 138 | G7: 19.714286 | I7: 361 | J7: 51.571429 | L7: =C7+F7+I7 -> 700 | M7: =L7/L7*100 -> 100
B8: 25-34 | C8: 1928 | D8: 59.250154 | F8: 437 | G8: 13.429625 | I8: 889 | J8: 27.320221 | L8: =C8+F8+I8 -> 3254 | M8: =L8/L8*100 -> 100
B9: 35-44 | C9: 2233 | D9: 67.178099 | F9: 336 | G9: 10.108303 | I9: 755 | J9: 22.713598 | L9: =C9+F9+I9 -> 3324 | M9: =L9/L9*100 -> 100
B10: 45-54 | C10: 1613 | D10: 72.04109 | F10: 200 | G10: 8.9325592 | I10: 426 | J10: 19.026351 | L10: =C10+F10+I10 -> 2239 | M10: =L10/L10*100 -> 100
B11: 55-66* | C11: 1559 | D11: 78.539043 | F11: 129 | G11: 6.4987406 | I11: 297 | J11: 14.962217 | L11: =C11+F11+I11 -> 1985 | M11: =L11/L11*100 -> 100
B12: 16-66* | C12: 7558 | D12: 63.764448 | F12: 1278 | G12: 10.78208 | I12: 3017 | J12: 25.453472 | L12: =C12+F12+I12 -> 11853 | M12: =L12/L12*100 -> 100
A14: Män | B14: 16-19 | C14: 30 | D14: 5.8365759 | F14: 50 | G14: 9.7276265 | I14: 434 | J14: 84.435798 | L14: =C14+F14+I14 -> 514 | M14: =L14/L14*100 -> 100
B15: 20-24 | C15: 245 | D15: 23.786408 | F15: 233 | G15: 22.621359 | I15: 552 | J15: 53.592233 | L15: =C15+F15+I15 -> 1030 | M15: =L15/L15*100 -> 100
B16: 25-34 | C16: 1733 | D16: 55.867182 | F16: 557 | G16: 17.956157 | I16: 812 | J16: 26.17666 | L16: =C16+F16+I16 -> 3102 | M16: =L16/L16*100 -> 100
B17: 35-44 | C17: 1970 | D17: 66.464238 | F17: 427 | G17: 14.406208 | I17: 567 | J17: 19.129555 | L17: =C17+F17+I17 -> 2964 | M17: =L17/L17*100 -> 100
B18: 45-54 | C18: 1653 | D18: 70.792291 | F18: 277 | G18: 11.862955 | I18: 405 | J18: 17.344754 | L18: =C18+F18+I18 -> 2335 | M18: =L18/L18*100 -> 100
B19: 55-66* | C19: 1608 | D19: 74.101382 | F19: 216 | G19: 9.9539171 | I19: 346 | J19: 15.9447 | L19: =C19+F19+I19 -> 2170 | M19: =L19/L19*100 -> 100
B20: 16-66* | C20: 7239 | D20: 59.752373 | F20: 1760 | G20: 14.527445 | I20: 3116 | J20: 25.720182 | L20: =C20+F20+I20 -> 12115 | M20: =L20/L20*100 -> 100
A22: Samtliga | B22: 16-19 | C22: 54 | D22: 6.2427746 | F22: 88 | G22: 10.17341 | I22: 723 | J22: 83.583815 | L22: =C22+F22+I22 -> 865 | M22: =L22/L22*100 -> 100
B23: 20-24 | C23: 446 | D23: 25.780347 | F23: 371 | G23: 21.445087 | I23: 913 | J23: 52.774566 | L23: =C23+F23+I23 -> 1730 | M23: =L23/L23*100 -> 100
B24: 25-34 | C24: 3661 | D24: 57.599119 | F24: 994 | G24: 15.638767 | I24: 1701 | J24: 26.762115 | L24: =C24+F24+I24 -> 6356 | M24: =L24/L24*100 -> 100
B25: 35-44 | C25: 4203 | D25: 66.841603 | F25: 763 | G25: 12.134224 | I25: 1322 | J25: 21.024173 | L25: =C25+F25+I25 -> 6288 | M25: =L25/L25*100 -> 100
B26: 45-54 | C26: 3266 | D26: 71.403585 | F26: 477 | G26: 10.428509 | I26: 831 | J26: 18.167906 | L26: =C26+F26+I26 -> 4574 | M26: =L26/L26*100 -> 100
B27: 55-66* | C27: 3167 | D27: 76.22142 | F27: 345 | G27: 8.3032491 | I27: 643 | J27: 15.475331 | L27: =C27+F27+I27 -> 4155 | M27: =L27/L27*100 -> 100
B28: 16-66* | C28: 14797 | D28: 61.736482 | F28: 3038 | G28: 12.675234 | I28: 6133 | J28: 25.588284 | L28: =C28+F28+I28 -> 23968 | M28: =L28/L28*100 -> 100
A29: * Redovisningen t.o.m. december 2025 sker för åldersgruppen 16-65 år. Fr.o.m januari 2026 sker redovisningen för åldersgruppen 16-66 år, p.g.a. att pensionsåldern höjts till 67 år.

Sheet Tab7
A1: Tabell 7 Antalet sökande som fått arbete1 samt kvarstående öppet arbetslösa i Hela staden efter ålder och kön över tid
C2: Sökande som fått arbete | G2: Varav ej kvarvarande sökande hos AF2 | K2: Öppet arbetslösa
A3: Kön | B3: Ålder | C3: =Månad!A2 -> Aug-26 | D3: =Månad!A3 -> Jul-26 | E3: =Månad!A4 -> Aug-25 | G3: =C3 -> Aug-26 | H3: =D3 -> Jul-26 | I3: =E3 -> Aug-25 | K3: =C3 -> Aug-26 | L3: =D3 -> Jul-26 | M3: =E3 -> Aug-25
C4: FAM1 | D4: FAM2 | E4: FAM3 | F4: col1 | G4: EJM1 | H4: EJM2 | I4: EJM3 | J4: col2 | K4: M1 | L4: M2 | M4: M3
A5: Kvinnor | B5: 16-19 | C5: 38 | D5: 23 | E5: 30 | G5: 29 | H5: 16 | I5: 20 | K5: 351 | L5: 284 | M5: 374
B6: 20-24 | C6: 96 | D6: 74 | E6: 109 | G6: 80 | H6: 47 | I6: 74 | K6: 700 | L6: 629 | M6: 719
B7: 25-34 | C7: 629 | D7: 282 | E7: 655 | G7: 472 | H7: 198 | I7: 507 | K7: 3254 | L7: 3401 | M7: 3460
B8: 35-44 | C8: 561 | D8: 249 | E8: 574 | G8: 414 | H8: 151 | I8: 406 | K8: 3324 | L8: 3454 | M8: 3514
B9: 45-54 | C9: 445 | D9: 215 | E9: 421 | G9: 320 | H9: 114 | I9: 300 | K9: 2239 | L9: 2429 | M9: 2378
B10: 55-66* | C10: 310 | D10: 164 | E10: 306 | G10: 176 | H10: 80 | I10: 197 | K10: 1985 | L10: 2082 | M10: 1883
B11: 16-66* | C11: 2079 | D11: 1007 | E11: 2095 | G11: 1491 | H11: 606 | I11: 1504 | K11: 11853 | L11: 12279 | M11: 12328
A13: Män | B13: 16-19 | C13: 52 | D13: 34 | E13: 50 | G13: 40 | H13: 27 | I13: 35 | K13: 514 | L13: 441 | M13: 489
B14: 20-24 | C14: 116 | D14: 110 | E14: 111 | G14: 83 | H14: 76 | I14: 76 | K14: 1030 | L14: 988 | M14: 1014
B15: 25-34 | C15: 449 | D15: 301 | E15: 520 | G15: 359 | H15: 214 | I15: 418 | K15: 3102 | L15: 3184 | M15: 3424
B16: 35-44 | C16: 428 | D16: 234 | E16: 389 | G16: 323 | H16: 165 | I16: 305 | K16: 2964 | L16: 3076 | M16: 3116
B17: 45-54 | C17: 344 | D17: 174 | E17: 328 | G17: 258 | H17: 103 | I17: 252 | K17: 2335 | L17: 2423 | M17: 2470
B18: 55-66* | C18: 276 | D18: 150 | E18: 221 | G18: 184 | H18: 87 | I18: 153 | K18: 2170 | L18: 2249 | M18: 2172
B19: 16-66* | C19: 1665 | D19: 1003 | E19: 1619 | G19: 1247 | H19: 672 | I19: 1239 | K19: 12115 | L19: 12361 | M19: 12685
A21: Samtliga | B21: 16-19 | C21: 90 | D21: 57 | E21: 80 | G21: 69 | H21: 43 | I21: 55 | K21: 865 | L21: 725 | M21: 863
B22: 20-24 | C22: 212 | D22: 184 | E22: 220 | G22: 163 | H22: 123 | I22: 150 | K22: 1730 | L22: 1617 | M22: 1733
B23: 25-34 | C23: 1078 | D23: 583 | E23: 1175 | G23: 831 | H23: 412 | I23: 925 | K23: 6356 | L23: 6585 | M23: 6884
B24: 35-44 | C24: 989 | D24: 483 | E24: 963 | G24: 737 | H24: 316 | I24: 711 | K24: 6288 | L24: 6530 | M24: 6630
B25: 45-54 | C25: 789 | D25: 389 | E25: 749 | G25: 578 | H25: 217 | I25: 552 | K25: 4574 | L25: 4852 | M25: 4848
B26: 55-66* | C26: 586 | D26: 314 | E26: 527 | G26: 360 | H26: 167 | I26: 350 | K26: 4155 | L26: 4331 | M26: 4055
B27: 16-66* | C27: 3744 | D27: 2010 | E27: 3714 | G27: 2738 | H27: 1278 | I27: 2743 | K27: 23968 | L27: 24640 | M27: 25013
A28: 1 Tillståndsförändring där det nya tillståndet innebär att man befinner sig i arbete enligt arbetsförmedlingens definition. En person har arbete om personen befinner sig i någon sökandekategori som innebär arbete eller om personen är avaktualiserad med en kod som innebär arbete.
A29: 2 Har fått tillsvidare anställning, tidsbegränsad anställning, fortsatt anställning hos samma arbetsgivare eller anställning hos Samhall.
A30: * Redovisningen t.o.m. december 2025 sker för åldersgruppen 16-65 år. Fr.o.m januari 2026 sker redovisningen för åldersgruppen 16-66 år, p.g.a. att pensionsåldern höjts till 67 år.

Sheet Tab8
A1: Tabell 8 Antalet långtidsarbetslösa1 i Hela staden efter ålder och kön över tid
C2: Antalet långtidsarbetslösa
A3: Kön | B3: Ålder | C3: =Månad!A2 -> Aug-26 | D3: =Månad!A3 -> Jul-26 | E3: =Månad!A4 -> Aug-25
C4: M1 | D4: M2 | E4: M3
A5: Kvinnor | B5: 16-24 | C5: 214 | D5: 213 | E5: 216
B6: 25-54 | C6: 1950 | D6: 2010 | E6: 2131
B7: 55-66* | C7: 550 | D7: 590 | E7: 524
B8: 16-66* | C8: 2714 | D8: 2813 | E8: 2871
A10: Män | B10: 16-24 | C10: 336 | D10: 320 | E10: 342
B11: 25-54 | C11: 1729 | D11: 1743 | E11: 1825
B12: 55-66* | C12: 627 | D12: 644 | E12: 579
B13: 16-66* | C13: 2692 | D13: 2707 | E13: 2746
A15: Samtliga | B15: 16-24 | C15: 550 | D15: 533 | E15: 558
B16: 25-54 | C16: 3679 | D16: 3753 | E16: 3956
B17: 55-66* | C17: 1177 | D17: 1234 | E17: 1103
B18: 16-66* | C18: 5406 | D18: 5520 | E18: 5617
A19: 1 Arbetslösa 25 år eller äldre som varit anmälda hos Arbetsförmedlingen i minst 12 månader och under den tiden inte haft ett arbete eller deltagit i ett program med aktivitetsstöd. Ungdomar under 25 år räknas som långtidsarbetslösa efter 6 månader.
A20: * Redovisningen t.o.m. december 2025 sker för åldersgruppen 16-65 år. Fr.o.m januari 2026 sker redovisningen för åldersgruppen 16-66 år, p.g.a. att pensionsåldern höjts till 67 år.

Sheet Tab9
A1: Tabell 9 Antalet kvarstående i UGA1 eller JOB i Hela staden efter kön över tid
D2: Kvinnor | H2: Män | L2: Samtliga
D3: =Månad!A2 -> Aug-26 | E3: =Månad!A3 -> Jul-26 | F3: =Månad!A4 -> Aug-25 | H3: =D3 -> Aug-26 | I3: =E3 -> Jul-26 | J3: =F3 -> Aug-25 | L3: =D3 -> Aug-26 | M3: =E3 -> Jul-26 | N3: =F3 -> Aug-25
D4: K1M1 | E4: K1M2 | F4: K1M3 | G4: col1 | H4: K2M1 | I4: K2M2 | J4: K2M3 | K4: col2 | L4: K3M1 | M4: K3M2 | N4: K3M3
A5: Kvarstående sökande i UGA | D5: 254 | E5: 279 | F5: 249 | H5: 322 | I5: 350 | J5: 402 | L5: 576 | M5: 629 | N5: 651
A6: Kvarstående sökande i JOB | D6: 4879 | E6: 4916 | F6: 5010 | H6: 4618 | I6: 4658 | J6: 4765 | L6: 9497 | M6: 9574 | N6: 9775
A7: 1 Jobbagaranti för ungdomar är en aktivitet för ungdomar som fyllt 16 men inte 25 år, och som under en period om tre sammanhängande månader varit arbetslösa och anmälda som arbetssökande hos Arbetsförmedlingen.
A8: * Redovisningen t.o.m. december 2025 sker för åldersgruppen 16-65 år. Fr.o.m januari 2026 sker redovisningen för åldersgruppen 16-66 år, p.g.a. att pensionsåldern höjts till 67 år.

Sheet Tab10
A1: Tabell 10 Antalet sökande i hela staden som fått arbete1 efter kassatillhörighet, ålder och kön
C2: Kassatillhörighet | I2: Ingen kassatillhörighet | L2: Totalt
C3: A-kassa | F3: Alfa
A4: Kön | B4: Ålder | C4: Antal | D4: % av öppet arbetslösa som fått arbete | F4: Antal | G4: % av öppet arbetslösa som fått arbete | I4: Antal | J4: % av öppet arbetslösa som fått arbete | L4: Antal | M4: % av öppet arbetslösa som fått arbete
C5: k1 | D5: col1 | E5: col2 | F5: k2 | G5: co14 | H5: col4 | I5: k3 | J5: col5 | K5: col6 | L5: col7 | M5: col8
A6: Kvinnor | B6: 16-24 | C6: 41 | D6: 30.597015 | F6: 18 | G6: 13.432836 | I6: 75 | J6: 55.970149 | L6: 134 | M6: 100
B7: 25-54 | C7: 1316 | D7: 80.489297 | F7: 138 | G7: 8.440367 | I7: 181 | J7: 11.070336 | L7: 1635 | M7: 100
B8: 55-66* | C8: 275 | D8: 88.709677 | F8: 16 | G8: 5.1612903 | I8: 19 | J8: 6.1290323 | L8: 310 | M8: 100
B9: 16-66* | C9: 1632 | D9: 78.499278 | F9: 172 | G9: 8.2732083 | I9: 275 | J9: 13.227513 | L9: 2079 | M9: 100
A11: Män | B11: 16-24 | C11: 45 | D11: 26.785714 | F11: 29 | G11: 17.261905 | I11: 94 | J11: 55.952381 | L11: 168 | M11: 100
B12: 25-54 | C12: 941 | D12: 77.067977 | F12: 141 | G12: 11.547912 | I12: 139 | J12: 11.384111 | L12: 1221 | M12: 100
B13: 55-66* | C13: 230 | D13: 83.333333 | F13: 22 | G13: 7.9710145 | I13: 24 | J13: 8.6956522 | L13: 276 | M13: 100
B14: 16-66* | C14: 1216 | D14: 73.033033 | F14: 192 | G14: 11.531532 | I14: 257 | J14: 15.435435 | L14: 1665 | M14: 100
A16: Samtliga | B16: 16-24 | C16: 86 | D16: 28.476821 | F16: 47 | G16: 15.562914 | I16: 169 | J16: 55.960265 | L16: 302 | M16: 100
B17: 25-54 | C17: 2257 | D17: 79.026611 | F17: 279 | G17: 9.7689076 | I17: 320 | J17: 11.204482 | L17: 2856 | M17: 100
B18: 55-66* | C18: 505 | D18: 86.177474 | F18: 38 | G18: 6.4846416 | I18: 43 | J18: 7.337884 | L18: 586 | M18: 100
B19: 16-66* | C19: 2848 | D19: 76.068376 | F19: 364 | G19: 9.7222222 | I19: 532 | J19: 14.209402 | L19: 3744 | M19: 100
A20: 1 Tillståndsförändring där det nya tillståndet innebär att man befinner sig i arbete enligt arbetsförmedlingens definition. En person har arbete om personen befinner sig i någon sökandekategori som innebär arbete eller om personen är avaktualiserad med en kod som innebär arbete.
A21: * Redovisningen t.o.m. december 2025 sker för åldersgruppen 16-65 år. Fr.o.m januari 2026 sker redovisningen för åldersgruppen 16-66 år, p.g.a. att pensionsåldern höjts till 67 år.

Sheet Tab11
A1: ="Tabell 11 Antalet sökande 16-66* år efter sökandegrupp i stadsdelsområdena - kvarstående sista "&(TEXT('Tab1'!$D$2,"MMMM"))&" "&TEXT('Tab1'!$D$2,"ÅÅÅÅ") -> Tabell 11 Antalet sökande 16-66* år efter sökandegrupp i stadsdelsområdena - kvarstående sista augusti 2026
B2: Öppet Arbetslösa | C2: Program med aktivitetsstöd | D2: Arbete utan stöd | E2: Arbete med stöd | F2: Övrigt inskrivna | G2: Nystartsjobb/ Etableringsjobb | H2: Samtliga sökande
B3: ARB | C3: PGM | D3: AUS | E3: AMS | F3: OVRYRI | G3: NYJ | H3: TOT
A4: Järva | B4: 3494 | C4: 3097 | D4: 1700 | E4: 368 | F4: 442 | G4: 327 | H4: 9428
A5: Hässelby-Vällingby | B5: 2246 | C5: 1697 | D5: 963 | E5: 379 | F5: 322 | G5: 152 | H5: 5759
A6: Bromma | B6: 1463 | C6: 716 | D6: 483 | E6: 211 | F6: 202 | G6: 44 | H6: 3119
A7: Kungsholmen | B7: 1347 | C7: 511 | D7: 345 | E7: 116 | F7: 121 | G7: 28 | H7: 2468
A8: Norra innerstaden | B8: 2569 | C8: 967 | D8: 678 | E8: 183 | F8: 269 | G8: 38 | H8: 4704
A9: Södermalm | B9: 2390 | C9: 1126 | D9: 822 | E9: 245 | F9: 343 | G9: 49 | H9: 4975
A10: Enskede-Årsta-Vantör | B10: 2634 | C10: 1676 | D10: 973 | E10: 410 | F10: 424 | G10: 146 | H10: 6263
A11: Skarpnäck | B11: 1159 | C11: 575 | D11: 406 | E11: 167 | F11: 173 | G11: 46 | H11: 2526
A12: Farsta | B12: 1487 | C12: 873 | D12: 545 | E12: 272 | F12: 275 | G12: 77 | H12: 3529
A13: Hägersten-Älvsjö | B13: 2608 | C13: 1263 | D13: 835 | E13: 336 | F13: 368 | G13: 74 | H13: 5484
A14: Skärholmen | B14: 1382 | C14: 1080 | D14: 517 | E14: 165 | F14: 246 | G14: 122 | H14: 3512
A15: Ej skrivna i Stockholms stad | B15: 1189 | C15: 602 | D15: 439 | E15: 157 | F15: 230 | G15: 94 | H15: 2711
A16: Hela staden | B16: 23968 | C16: 14183 | D16: 8706 | E16: 3009 | F16: 3415 | G16: 1197 | H16: 54478
A17: * Redovisningen t.o.m. december 2025 sker för åldersgruppen 16-65 år. Fr.o.m januari 2026 sker redovisningen för åldersgruppen 16-66 år, p.g.a. att pensionsåldern höjts till 67 år.

Sheet Tab12
A1: Tabell 12 Antalet sökande i JOB1 i stadsdelsområdena
B2: Sökande i JOB
B3: =Månad!A2 -> Aug-26 | C3: =Månad!A3 -> Jul-26 | D3: =Månad!A4 -> Aug-25
B4: M1 | C4: M2 | D4: M3
A5: Järva | B5: 2149 | C5: 2154 | D5: 2205
A6: Hässelby-Vällingby | B6: 1119 | C6: 1134 | D6: 1146
A7: Bromma | B7: 481 | C7: 493 | D7: 441
A8: Kungsholmen | B8: 354 | C8: 366 | D8: 364
A9: Norra innerstaden | B9: 670 | C9: 676 | D9: 614
A10: Södermalm | B10: 800 | C10: 815 | D10: 806
A11: Enskede-Årsta-Vantör | B11: 1026 | C11: 1026 | D11: 1039
A12: Skarpnäck | B12: 384 | C12: 382 | D12: 371
A13: Farsta | B13: 596 | C13: 596 | D13: 604
A14: Hägersten-Älvsjö | B14: 796 | C14: 816 | D14: 821
A15: Skärholmen | B15: 737 | C15: 728 | D15: 741
A16: Ej skrivna i Stockholms stad | B16: 385 | C16: 388 | D16: 623
A17: Hela staden | B17: 9497 | C17: 9574 | D17: 9775
A18: 1 Jobb och utvecklingsgarantin är en individuellt utformad åtgärd i anslutning till att den sökande blir utförsäkrad. Programmet är indelat i tre faser och ersatte aktivitetsgarantin som avskaffades 2 juli 2007.
A19: * Redovisningen t.o.m. december 2025 sker för åldersgruppen 16-65 år. Fr.o.m januari 2026 sker redovisningen för åldersgruppen 16-66 år, p.g.a. att pensionsåldern höjts till 67 år.

Sheet Tab13
A1: ="Tabell 13 Andelen öppet arbetslösa av befolkningen i stadsdelsområdena efter ålder och kön - kvarstående sista "&(TEXT('Tab1'!$D$2,"MMMM"))&" "&TEXT('Tab1'!$D$2,"ÅÅÅÅ") -> Tabell 13 Andelen öppet arbetslösa av befolkningen i stadsdelsområdena efter ålder och kön - kvarstående sista augusti 2026
C2: Öppet arbetslösa | G2: Befolkning | K2: % av befolkningen
B3: Ålder | C3: Kvinnor | D3: Män | E3: Totalt | G3: Kvinnor | H3: Män | I3: Totalt | K3: Kvinnor | L3: Män | M3: Totalt
C4: arb1 | D4: arb2 | E4: arb3 | F4: col1 | G4: bef1 | H4: bef2 | I4: bef3
A5: Järva | B5: 16-24 | C5: 194 | D5: 257 | E5: 451 | G5: 6223 | H5: 6373 | I5: 12596 | K5: =C5/G5*100 -> 3.1174675 | L5: =D5/H5*100 -> 4.0326377 | M5: =E5/I5*100 -> 3.5805017
B6: 25-54 | C6: 1421 | D6: 1169 | E6: 2590 | G6: 20567 | H6: 22845 | I6: 43412 | K6: =C6/G6*100 -> 6.9091263 | L6: =D6/H6*100 -> 5.1170935 | M6: =E6/I6*100 -> 5.9660923
B7: 55-66* | C7: 200 | D7: 253 | E7: 453 | G7: 5787 | H7: 6112 | I7: 11899 | K7: =C7/G7*100 -> 3.4560221 | L7: =D7/H7*100 -> 4.1393979 | M7: =E7/I7*100 -> 3.8070426
B8: 16-66* | C8: 1815 | D8: 1679 | E8: 3494 | G8: 32577 | H8: 35330 | I8: 67907 | K8: =C8/G8*100 -> 5.5714154 | L8: =D8/H8*100 -> 4.7523351 | M8: =E8/I8*100 -> 5.1452722
A10: Hässelby-Vällingby | B10: 16-24 | C10: 114 | D10: 193 | E10: 307 | G10: 4010 | H10: 4323 | I10: 8333 | K10: =C10/G10*100 -> 2.8428928 | L10: =D10/H10*100 -> 4.4644923 | M10: =E10/I10*100 -> 3.6841474
B11: 25-54 | C11: 828 | D11: 776 | E11: 1604 | G11: 16010 | H11: 16631 | I11: 32641 | K11: =C11/G11*100 -> 5.1717676 | L11: =D11/H11*100 -> 4.6659852 | M11: =E11/I11*100 -> 4.9140651
B12: 55-66* | C12: 165 | D12: 170 | E12: 335 | G12: 4842 | H12: 5111 | I12: 9953 | K12: =C12/G12*100 -> 3.4076828 | L12: =D12/H12*100 -> 3.3261593 | M12: =E12/I12*100 -> 3.3658194
B13: 16-66* | C13: 1107 | D13: 1139 | E13: 2246 | G13: 24862 | H13: 26065 | I13: 50927 | K13: =C13/G13*100 -> 4.4525782 | L13: =D13/H13*100 -> 4.3698446 | M13: =E13/I13*100 -> 4.4102343
A15: Bromma | B15: 16-24 | C15: 64 | D15: 84 | E15: 148 | G15: 4089 | H15: 4125 | I15: 8214 | K15: =C15/G15*100 -> 1.5651749 | L15: =D15/H15*100 -> 2.0363636 | M15: =E15/I15*100 -> 1.8018018
B16: 25-54 | C16: 504 | D16: 536 | E16: 1040 | G16: 18455 | H16: 18185 | I16: 36640 | K16: =C16/G16*100 -> 2.7309672 | L16: =D16/H16*100 -> 2.9474842 | M16: =E16/I16*100 -> 2.8384279
B17: 55-66* | C17: 137 | D17: 138 | E17: 275 | G17: 5816 | H17: 5529 | I17: 11345 | K17: =C17/G17*100 -> 2.3555708 | L17: =D17/H17*100 -> 2.4959305 | M17: =E17/I17*100 -> 2.4239753
B18: 16-66* | C18: 705 | D18: 758 | E18: 1463 | G18: 28360 | H18: 27839 | I18: 56199 | K18: =C18/G18*100 -> 2.4858956 | L18: =D18/H18*100 -> 2.722799 | M18: =E18/I18*100 -> 2.6032492
A20: Kungsholmen | B20: 16-24 | C20: 44 | D20: 42 | E20: 86 | G20: 2805 | H20: 2637 | I20: 5442 | K20: =C20/G20*100 -> 1.5686275 | L20: =D20/H20*100 -> 1.592719 | M20: =E20/I20*100 -> 1.5803014
B21: 25-54 | C21: 506 | D21: 457 | E21: 963 | G21: 17105 | H21: 16821 | I21: 33926 | K21: =C21/G21*100 -> 2.9581994 | L21: =D21/H21*100 -> 2.716842 | M21: =E21/I21*100 -> 2.8385309
B22: 55-66* | C22: 142 | D22: 156 | E22: 298 | G22: 5672 | H22: 5198 | I22: 10870 | K22: =C22/G22*100 -> 2.5035261 | L22: =D22/H22*100 -> 3.0011543 | M22: =E22/I22*100 -> 2.7414903
B23: 16-66* | C23: 692 | D23: 655 | E23: 1347 | G23: 25582 | H23: 24656 | I23: 50238 | K23: =C23/G23*100 -> 2.705027 | L23: =D23/H23*100 -> 2.6565542 | M23: =E23/I23*100 -> 2.6812373
A25: Norra innerstaden | B25: 16-24 | C25: 73 | D25: 102 | E25: 175 | G25: 7999 | H25: 8069 | I25: 16068 | K25: =C25/G25*100 -> 0.91261408 | L25: =D25/H25*100 -> 1.2640972 | M25: =E25/I25*100 -> 1.0891212
B26: 25-54 | C26: 945 | D26: 904 | E26: 1849 | G26: 34816 | H26: 35405 | I26: 70221 | K26: =C26/G26*100 -> 2.7142693 | L26: =D26/H26*100 -> 2.5533117 | M26: =E26/I26*100 -> 2.6331154
B27: 55-66* | C27: 291 | D27: 254 | E27: 545 | G27: 10985 | H27: 10279 | I27: 21264 | K27: =C27/G27*100 -> 2.6490669 | L27: =D27/H27*100 -> 2.4710575 | M27: =E27/I27*100 -> 2.5630173
B28: 16-66* | C28: 1309 | D28: 1260 | E28: 2569 | G28: 53800 | H28: 53753 | I28: 107553 | K28: =C28/G28*100 -> 2.4330855 | L28: =D28/H28*100 -> 2.3440552 | M28: =E28/I28*100 -> 2.3885898
A30: Södermalm | B30: 16-24 | C30: 78 | D30: 151 | E30: 229 | G30: 5562 | H30: 5396 | I30: 10958 | K30: =C30/G30*100 -> 1.4023732 | L30: =D30/H30*100 -> 2.7983692 | M30: =E30/I30*100 -> 2.0897974
B31: 25-54 | C31: 767 | D31: 817 | E31: 1584 | G31: 27995 | H31: 27654 | I31: 55649 | K31: =C31/G31*100 -> 2.739775 | L31: =D31/H31*100 -> 2.9543646 | M31: =E31/I31*100 -> 2.8464123
B32: 55-66* | C32: 276 | D32: 301 | E32: 577 | G32: 11428 | H32: 10530 | I32: 21958 | K32: =C32/G32*100 -> 2.4151208 | L32: =D32/H32*100 -> 2.8584995 | M32: =E32/I32*100 -> 2.6277439
B33: 16-66* | C33: 1121 | D33: 1269 | E33: 2390 | G33: 44985 | H33: 43580 | I33: 88565 | K33: =C33/G33*100 -> 2.4919418 | L33: =D33/H33*100 -> 2.9118862 | M33: =E33/I33*100 -> 2.698583
A35: Enskede-Årsta-Vantör | B35: 16-24 | C35: 121 | D35: 192 | E35: 313 | G35: 4927 | H35: 5084 | I35: 10011 | K35: =C35/G35*100 -> 2.4558555 | L35: =D35/H35*100 -> 3.7765539 | M35: =E35/I35*100 -> 3.1265608
B36: 25-54 | C36: 1033 | D36: 895 | E36: 1928 | G36: 25927 | H36: 25720 | I36: 51647 | K36: =C36/G36*100 -> 3.9842635 | L36: =D36/H36*100 -> 3.4797823 | M36: =E36/I36*100 -> 3.7330339
B37: 55-66* | C37: 174 | D37: 219 | E37: 393 | G37: 6729 | H37: 6695 | I37: 13424 | K37: =C37/G37*100 -> 2.5858226 | L37: =D37/H37*100 -> 3.2710978 | M37: =E37/I37*100 -> 2.9275924
B38: 16-66* | C38: 1328 | D38: 1306 | E38: 2634 | G38: 37583 | H38: 37499 | I38: 75082 | K38: =C38/G38*100 -> 3.5335125 | L38: =D38/H38*100 -> 3.4827595 | M38: =E38/I38*100 -> 3.5081644
A40: Skarpnäck | B40: 16-24 | C40: 52 | D40: 91 | E40: 143 | G40: 2160 | H40: 2187 | I40: 4347 | K40: =C40/G40*100 -> 2.4074074 | L40: =D40/H40*100 -> 4.1609511 | M40: =E40/I40*100 -> 3.289625
B41: 25-54 | C41: 418 | D41: 394 | E41: 812 | G41: 10936 | H41: 10088 | I41: 21024 | K41: =C41/G41*100 -> 3.8222385 | L41: =D41/H41*100 -> 3.9056305 | M41: =E41/I41*100 -> 3.8622527
B42: 55-66* | C42: 97 | D42: 107 | E42: 204 | G42: 3454 | H42: 3070 | I42: 6524 | K42: =C42/G42*100 -> 2.8083382 | L42: =D42/H42*100 -> 3.485342 | M42: =E42/I42*100 -> 3.126916
B43: 16-66* | C43: 567 | D43: 592 | E43: 1159 | G43: 16550 | H43: 15345 | I43: 31895 | K43: =C43/G43*100 -> 3.4259819 | L43: =D43/H43*100 -> 3.8579342 | M43: =E43/I43*100 -> 3.6337984
A45: Farsta | B45: 16-24 | C45: 84 | D45: 100 | E45: 184 | G45: 3092 | H45: 3176 | I45: 6268 | J45: 0 | K45: =C45/G45*100 -> 2.7166882 | L45: =D45/H45*100 -> 3.1486146 | M45: =E45/I45*100 -> 2.9355456
B46: 25-54 | C46: 514 | D46: 545 | E46: 1059 | G46: 13921 | H46: 13490 | I46: 27411 | J46: 0 | K46: =C46/G46*100 -> 3.6922635 | L46: =D46/H46*100 -> 4.0400297 | M46: =E46/I46*100 -> 3.8634125
B47: 55-66* | C47: 117 | D47: 127 | E47: 244 | G47: 4190 | H47: 3953 | I47: 8143 | J47: 0 | K47: =C47/G47*100 -> 2.7923628 | L47: =D47/H47*100 -> 3.2127498 | M47: =E47/I47*100 -> 2.9964387
B48: 16-66* | C48: 715 | D48: 772 | E48: 1487 | G48: 21203 | H48: 20619 | I48: 41822 | J48: 0 | K48: =C48/G48*100 -> 3.3721643 | L48: =D48/H48*100 -> 3.7441195 | M48: =E48/I48*100 -> 3.5555449
...

Sheet Tab14
A1: Tabell 14 Andelen öppet arbetslösa av befolkningen i stadsdelsområdena efter ålder över tid
C2: Öppet arbetslösa | G2: Befolkning | K2: % av befolkningen
B3: Ålder | C3: =Månad!A2 -> Aug-26 | D3: =Månad!A3 -> Jul-26 | E3: =Månad!A4 -> Aug-25 | G3: =C3 -> Aug-26 | H3: =D3 -> Jul-26 | I3: =E3 -> Aug-25 | K3: =C3 -> Aug-26 | L3: =D3 -> Jul-26 | M3: =E3 -> Aug-25
