Workbook
Name manad: Månad!$A$1:$A$4
Name Tabell1: 'Tab1'!$D$4:$K$33
Name Tabell10: 'Tab10'!$C$5:$M$19
Name Tabell11: 'Tab11'!$B$3:$H$16
Name Tabell12: 'Tab12'!$B$4:$D$17
Name Tabell13a: 'Tab13'!$C$4:$I$53
Name Tabell13b: 'Tab13'!$C$57:$I$61
Name Tabell13c: 'Tab13'!$C$62:$E$66
Name Tabell13d: 'Tab13'!$C$67:$I$71
Name Tabell14a: 'Tab14'!$C$4:$I$53
Name Tabell14b: 'Tab14'!$C$57:$I$61
Name Tabell14c: 'Tab14'!$C$62:$E$66
Name Tabell14d: 'Tab14'!$C$67:$I$71
Name Tabell15: 'Tab15'!$B$4:$H$17
Name Tabell16a: 'Tab16'!$C$4:$I$53
Name Tabell16b: 'Tab16'!$C$57:$I$61
Name Tabell16c: 'Tab16'!$C$62:$E$66
Name Tabell16d: 'Tab16'!$C$67:$I$71
Name Tabell17: 'Tab17'!$B$4:$R$17
Name Tabell18: 'Tab18'!$B$4:$H$17
Name Tabell19: 'Tab19'!$B$5:$L$18
Name Tabell20: 'Tab20-21'!$B$4:$I$17
Name Tabell21: 'Tab20-21'!$B$25:$D$38
Name Tabell22: 'Tab22'!$B$4:$L$17
Name Tabell23: 'Tab23'!$B$5:$L$18
Name Tabell24: 'Tab24'!$A$4:$N$41
Name Tabell25: 'Tab25'!$A$4:$N$41
Name Tabell26: 'Tab26'!$A$4:$N$41
Name Tabell27: 'Tab27'!$A$4:$N$41
Name Tabell28: 'Tab28'!$A$4:$N$41
Name Tabell29: 'Tab29'!$A$4:$M$41
Name Tabell2a: 'Tab2'!$C$4:$E$27
Name Tabell2b: 'Tab2'!$G$4:$I$27
Name Tabell30: 'Tab30'!$A$4:$M$41
Name Tabell31: 'Tab31'!$A$4:$M$41
Name Tabell32: 'Tab32'!$A$4:$M$41
Name Tabell33: 'Tab33'!$A$4:$M$41
Name Tabell3a: 'Tab3'!$C$4:$E$27
Name Tabell3b: 'Tab3'!$G$4:$I$27
Name Tabell4a: 'Tab4'!$B$4:$H$11
Name Tabell4b: 'Tab4'!$B$24:$H$31
Name Tabell5a: 'Tab5'!$B$4:$H$11
Name Tabell5b: 'Tab5'!$B$24:$H$31
Name Tabell6: 'Tab6'!$C$5:$J$28
Name Tabell7: 'Tab7'!$C$4:$M$27
Name Tabell8: 'Tab8'!$C$4:$E$18
Name Tabell9: 'Tab9'!$D$4:$N$6

Sheet Tabeller
A1: ="TABELLER ÖVER ARBETSSÖKANDE I STOCKHOLMS STAD - "&UPPER(TEXT('Tab1'!$D$2,"MMMM"))&" "&TEXT('Tab1'!$D$2,"ÅÅÅÅ") -> TABELLER ÖVER ARBETSSÖKANDE I STOCKHOLMS STAD - AUGUSTI 2026
A3: Hela staden
A4: Kvarstående sökande
A5: Tabell 1 | B5: Antalet arbetssökande per sökandekategori i Hela staden samt procentuell förändring över tid
A6: Tabell 2 | B6: Andelen arbetslösa av befolkningen i Hela staden efter ålder och kön över tid
A7: Tabell 3 | B7: Andelen långtidsarbetslösa av samtliga arbetslösa i Hela staden efter ålder och kön över tid
A8: Tabell 4 | B8: Antalet sökande per sökandegrupp i Hela staden efter födelseland över tid
A9: Tabell 5 | B9: Antalet sökande per sökandegrupp i Hela staden efter om man är nyanländ eller ej över tid
A10: Tabell 6 | B10: Antalet arbetslösa i Hela staden efter kassatillhörighet, ålder och kön
A11: Sökande som fått arbete
A12: Tabell 7 | B12: Antalet sökande som fått arbete samt kvarstående arbetslösa i Hela staden efter ålder och kön över tid
A13: Tabell 8 | B13: Antalet långtidsarbetslösa i Hela staden efter ålder och kön över tid
A14: Tabell 9 | B14: Antalet kvarstående i UGA eller JOB i Hela staden efter kön över tid
A15: Tabell 10 | B15: Antalet sökande som fått arbete i Hela staden efter kassatillhörighet, ålder och kön
A17: Stadsdelsförvaltningarna
A18: Kvarstående sökande
A19: Tabell 11 | B19: Antalet sökande efter sökandegrupp i stadsdelsområdena
A20: Tabell 12 | B20: Antalet sökande i JOB och UGA i stadsdelsområdena
A21: Tabell 13 | B21: Andelen arbetslösa av befolkningen i stadsdelsområdena efter ålder och kön
A22: Tabell 14 | B22: Andelen arbetslösa av befolkningen i stadsdelsområdena efter ålder över tid
A23: Tabell 15 | B23: Andelen långtidsarbetslösa av samtliga arbetslösa i stadsdelsområdena över tid
A24: Tabell 16 | B24: Andelen arbetslösa av befolkningen i stadsdelsområdena efter ålder och födelseland
A25: Tabell 17 | B25: Antalet arbetslösa efter födelseland i stadsdelsområdena
A26: Tabell 18 | B26: Antalet arbetssökande som är nyanlända i stadsdelsområdena över tid
A27: Tabell 19 | B27: Antalet arbetslösa efter kassatillhörighet i stadsdelsområdena
A28: Sökande som fått arbete
A29: Tabell 20 | B29: Antalet sökande som fått arbete samt kvarstående arbetslösa i stadsdelsområdena över tid
A30: Tabell 21 | B30: Antalet långtidsarbetslösa per stadsdelsområdena över tid
A31: Tabell 22 | B31: Antalet sökande som fått arbete samt kvarstående arbetslösa efter födelseland i stadsdelsområdena
A32: Tabell 23 | B32: Antalet sökande som fått arbete samt kvarstående arbetslösa efter om man är nyanländ eller ej i stadsdelsområdena
A34: Tidsserier
A35: Tabell 24 | B35: Tidsserie över antalet arbetslösa i Hela staden och stadsdelsområdena
A36: Tabell 25 | B36: Tidsserie över antalet personer i program med aktivitetsstöd i Hela staden och stadsdelsområdena
A37: Tabell 26 | B37: Tidsserie över summan av antalet arbetslösa och i program med aktivitetsstöd i Hela staden och stadsdelsområdena
A38: Tabell 27 | B38: Tidsserie över antalet unga arbetslösa i Hela staden och stadsdelsområdena
A39: Tabell 28 | B39: Tidsserie över summan av antalet unga arbetslösa och i program med aktivitetsstöd i Hela staden och stadsdelsområdena
A40: Tabell 29 | B40: Tidsserie över andelen arbetslösa av befolkning i Hela staden och stadsdelsområdena
A41: Tabell 30 | B41: Tidsserie över andelen i program med aktivitetsstöd av befolkningen i Hela staden och stadsdelsområdena
A42: Tabell 31 | B42: Tidsserie över andelen arbetslösa och i program med aktivitetsstöd av befolkningen i Hela staden och stadsdelsområdena
A43: Tabell 32 | B43: Tidsserie över andelen unga arbetslösa av befolkning i Hela staden och stadsdelsområdena
A44: Tabell 33 | B44: Tidsserie över andelen unga arbetslösa och i program med aktivitetsstöd av befolkningen i Hela staden och stadsdelsområdena
A45: Tabell 34 | B45: Tidsserie över varsel i Stockholms stad och i länet samt stadens andel av länet
A46: Tabell 35 | B46: Tidsserie över nyanmälda och kvarstående platser i Stockholms stad och i länet

Sheet Tab1
A1: Tabell 1 Antalet arbetssökande 16-66* år per sökandekategori i Hela staden samt procentuell förändring över tid
D2: =Månad!A2 -> Aug-26 | G2: =Månad!A3 -> Jul-26 | J2: =Månad!A4 -> Aug-25 | M2: %-förändring från
A3: Sökandekategori | D3: Antal | E3: % av samtliga | G3: Antal | H3: % av samtliga | J3: Antal | K3: % av samtliga | M3: =G2 -> Jul-26 | N3: =J2 -> Aug-25
D4: M1 | E4: A1 | F4: TOM1 | G4: M2 | H4: A2 | I4: TOM2 | J4: M3 | K4: A3
A5: ÖPPET ARBETSLÖSA | D5: 23968 | E5: 43.995741 | G5: 24640 | H5: 44.487777 | J5: 25013 | K5: 44.515038 | M5: =IFERROR(D5/G5*100-100,"-") -> -2.7272727 | N5: =IFERROR(D5/J5*100-100,"-") -> -4.1778275
C6: - därav Långtidsarbetslösa | D6: 5406 | E6: 9.9232718 | G6: 5520 | H6: 9.9664175 | J6: 5617 | K6: 9.9964406 | M6: =IFERROR(D6/G6*100-100,"-") -> -2.0652174 | N6: =IFERROR(D6/J6*100-100,"-") -> -3.7564536
A7: PROGRAM MED AKTIVITETSSTÖD | D7: 14183 | E7: 26.034362 | G7: 14191 | H7: 25.621998 | J7: 15017 | K7: 26.725396 | M7: =IFERROR(D7/G7*100-100,"-") -> -0.056373758 | N7: =IFERROR(D7/J7*100-100,"-") -> -5.5537058
B8: Arbetsmarknadsutbildning | D8: 295 | E8: 0.54150299 | G8: 309 | H8: 0.55790272 | J8: 247 | K8: 0.43958 | M8: =IFERROR(D8/G8*100-100,"-") -> -4.5307443 | N8: =IFERROR(D8/J8*100-100,"-") -> 19.433198
B9: Arbetspraktik | D9: 150 | E9: 0.2753405 | G9: 152 | H9: 0.27443758 | J9: 143 | K9: 0.25449368 | M9: =IFERROR(D9/G9*100-100,"-") -> -1.3157895 | N9: =IFERROR(D9/J9*100-100,"-") -> 4.8951049
B10: Stöd till start av näringsverksamhet | D10: 140 | E10: 0.25698447 | G10: 143 | H10: 0.25818799 | J10: 115 | K10: 0.20466275 | M10: =IFERROR(D10/G10*100-100,"-") -> -2.0979021 | N10: =IFERROR(D10/J10*100-100,"-") -> 21.73913
B11: Jobb- och utvecklingsgarantin | D11: 576 | E11: 1.0573075 | G11: 629 | H11: 1.1356661 | J11: 1121 | K11: 1.9950169 | M11: =IFERROR(D11/G11*100-100,"-") -> -8.4260731 | N11: =IFERROR(D11/J11*100-100,"-") -> -48.617306
B12: Etableringsprogrammet | D12: 9497 | E12: 17.432725 | G12: 9574 | H12: 17.285957 | J12: 9775 | K12: 17.396334 | M12: =IFERROR(D12/G12*100-100,"-") -> -0.80426154 | N12: =IFERROR(D12/J12*100-100,"-") -> -2.8439898
C13: - därav Kartläggning | D13: 871 | E13: 1.5988105 | G13: 889 | H13: 1.6050988 | J13: 1017 | K13: 1.8099306 | M13: =IFERROR(D13/G13*100-100,"-") -> -2.0247469 | N13: =IFERROR(D13/J13*100-100,"-") -> -14.355949
A14: ARBETE UTAN STÖD | D14: 8706 | E14: 15.980763 | G14: 8727 | H14: 15.756689 | J14: 8617 | K14: 15.335469 | M14: =IFERROR(D14/G14*100-100,"-") -> -0.24063252 | N14: =IFERROR(D14/J14*100-100,"-") -> 1.0328421
B15: Deltidsarbetslösa | D15: 2597 | E15: 4.7670619 | G15: 2598 | H15: 4.6907161 | J15: 2495 | K15: 4.4402919 | M15: =IFERROR(D15/G15*100-100,"-") -> -0.038491147 | N15: =IFERROR(D15/J15*100-100,"-") -> 4.0881764
B16: Tillfälligt timanställda | D16: 3827 | E16: 7.0248541 | G16: 3848 | H16: 6.9476041 | J16: 3696 | K16: 6.5776829 | M16: =IFERROR(D16/G16*100-100,"-") -> -0.54573805 | N16: =IFERROR(D16/J16*100-100,"-") -> 3.5443723
B17: Sökande med tillfälligt arbete | D17: 1152 | E17: 2.1146151 | G17: 1123 | H17: 2.0275882 | J17: 1003 | K17: 1.7850151 | M17: =IFERROR(D17/G17*100-100,"-") -> 2.5823687 | N17: =IFERROR(D17/J17*100-100,"-") -> 14.855434
B18: Ombytessökande | D18: 1114 | E18: 2.0448621 | G18: 1142 | H18: 2.0618929 | J18: 1423 | K18: 2.5324791 | M18: =IFERROR(D18/G18*100-100,"-") -> -2.4518389 | N18: =IFERROR(D18/J18*100-100,"-") -> -21.714687
A19: ARBETE MED STÖD | D19: 3009 | E19: 5.5233305 | G19: 3015 | H19: 5.4436139 | J19: 2849 | K19: 5.0702972 | M19: =IFERROR(D19/G19*100-100,"-") -> -0.19900498 | N19: =IFERROR(D19/J19*100-100,"-") -> 5.6160056
B20: Anställningsstöd | D20: 355 | E20: 0.65163919 | G20: 362 | H20: 0.65359477 | J20: 342 | K20: 0.60864923 | M20: =IFERROR(D20/G20*100-100,"-") -> -1.9337017 | N20: =IFERROR(D20/J20*100-100,"-") -> 3.8011696
C21: - därav Introduktionsjobb | D21: 355 | E21: 0.65163919 | G21: 362 | H21: 0.65359477 | J21: 342 | K21: 0.60864923 | M21: =IFERROR(D21/G21*100-100,"-") -> -1.9337017 | N21: =IFERROR(D21/J21*100-100,"-") -> 3.8011696
C22: - därav Extratjänster | D22: 68 | E22: 0.12482103 | G22: 68 | H22: 0.12277471 | J22: 82 | K22: 0.14593344 | M22: =IFERROR(D22/G22*100-100,"-") -> 0 | N22: =IFERROR(D22/J22*100-100,"-") -> -17.073171
B23: Särskilda insatser för funktionshindrade | D23: 2654 | E23: 4.8716913 | G23: 2653 | H23: 4.7900191 | J23: 2507 | K23: 4.461648 | M23: =IFERROR(D23/G23*100-100,"-") -> 0.037693178 | N23: =IFERROR(D23/J23*100-100,"-") -> 5.863582
C24: - därav Lönebidrag | D24: 1428 | E24: 2.6212416 | G24: 1420 | H24: 2.5638248 | J24: 1331 | K24: 2.3687489 | M24: =IFERROR(D24/G24*100-100,"-") -> 0.56338028 | N24: =IFERROR(D24/J24*100-100,"-") -> 7.2877536
C25: - därav Offentligt skyddat arbete (OSA) | D25: 187 | E25: 0.34325783 | G25: 186 | H25: 0.33582494 | J25: 198 | K25: 0.35237587 | M25: =IFERROR(D25/G25*100-100,"-") -> 0.53763441 | N25: =IFERROR(D25/J25*100-100,"-") -> -5.5555556
C26: - därav Utvecklingsanställning | D26: 305 | E26: 0.55985903 | G26: 305 | H26: 0.55068068 | J26: 230 | K26: 0.4093255 | M26: =IFERROR(D26/G26*100-100,"-") -> 0 | N26: =IFERROR(D26/J26*100-100,"-") -> 32.608696
C27: - därav Trygghetsanställning | D27: 666 | E27: 1.2225118 | G27: 674 | H27: 1.216914 | J27: 666 | K27: 1.1852643 | M27: =IFERROR(D27/G27*100-100,"-") -> -1.1869436 | N27: =IFERROR(D27/J27*100-100,"-") -> 0
C28: - därav Utvecklingsanställning Samhall | D28: 68 | E28: 0.12482103 | G28: 68 | H28: 0.12277471 | J28: 82 | K28: 0.14593344 | M28: =IFERROR(D28/G28*100-100,"-") -> 0 | N28: =IFERROR(D28/J28*100-100,"-") -> -17.073171
A29: ÖVRIGT INSKRIVNA1 | D29: 3415 | E29: 6.2685855 | G29: 3615 | H29: 6.5269202 | J29: 3418 | K29: 6.0829329 | M29: =IFERROR(D29/G29*100-100,"-") -> -5.5325035 | N29: =IFERROR(D29/J29*100-100,"-") -> -0.087770626
C30: - därav Arbetssökande med förhinder | D30: 3378 | E30: 6.2006682 | G30: 3570 | H30: 6.4456722 | J30: 3396 | K30: 6.04378 | M30: =IFERROR(D30/G30*100-100,"-") -> -5.3781513 | N30: =IFERROR(D30/J30*100-100,"-") -> -0.53003534
A31: NYSTARTSJOBB/ETABLERINGSJOBB | D31: 1197 | E31: 2.1972172 | G31: 1198 | H31: 2.1630015 | J31: 1276 | K31: 2.2708667 | M31: =IFERROR(D31/G31*100-100,"-") -> -0.083472454 | N31: =IFERROR(D31/J31*100-100,"-") -> -6.1912226
A33: SAMTLIGA SÖKANDE | D33: 54478 | E33: 100 | G33: 55386 | H33: 100 | J33: 56190 | K33: 100 | M33: =D33/G33*100-100 -> -1.6394035 | N33: =D33/J33*100-100 -> -3.0468055
A34: 1 Inkl. sökandekategori 15: Kommuninsats, sökandekategori 40: Yrkesintroduktion och sökandekategori 32: Utbildningskontrakt
A35: * Redovisningen t.o.m. december 2025 sker för åldersgruppen 16-65 år. Fr.o.m januari 2026 sker redovisningen för åldersgruppen 16-66 år, p.g.a. att pensionsåldern höjts till 67 år.

Sheet Tab2
A1: Tabell 2 Andelen öppet arbetslösa av befolkningen i Hela staden efter ålder och kön över tid
C2: Öppet Arbetslösa | G2: Befolkningen | K2: Andel av befolkningen
A3: Kön | B3: Ålder | C3: =Månad!A2 -> Aug-26 | D3: =Månad!A3 -> Jul-26 | E3: =Månad!A4 -> Aug-25 | G3: =C3 -> Aug-26 | H3: =D3 -> Jul-26 | I3: =E3 -> Aug-25 | K3: =C3 -> Aug-26 | L3: =D3 -> Jul-26 | M3: =E3 -> Aug-25
C4: M1 | D4: M2 | E4: M3 | G4: M1 | H4: M2 | I4: M3
A5: Kvinnor | B5: 16-19 | C5: 351 | D5: 284 | E5: 374 | G5: 21211 | H5: 21179 | I5: 20584 | K5: =C5/G5*100 -> 1.6548018 | L5: =D5/H5*100 -> 1.3409509 | M5: =E5/I5*100 -> 1.8169452
B6: 20-24 | C6: 700 | D6: 629 | E6: 719 | G6: 27637 | H6: 27587 | I6: 27063 | K6: =C6/G6*100 -> 2.5328364 | L6: =D6/H6*100 -> 2.2800594 | M6: =E6/I6*100 -> 2.6567638
B7: 25-34 | C7: 3254 | D7: 3401 | E7: 3460 | G7: 84558 | H7: 84571 | I7: 86213 | K7: =C7/G7*100 -> 3.8482462 | L7: =D7/H7*100 -> 4.0214731 | M7: =E7/I7*100 -> 4.0133159
B8: 35-44 | C8: 3324 | D8: 3454 | E8: 3514 | G8: 76516 | H8: 76527 | I8: 75783 | K8: =C8/G8*100 -> 4.3441895 | L8: =D8/H8*100 -> 4.5134397 | M8: =E8/I8*100 -> 4.6369238
B9: 45-54 | C9: 2239 | D9: 2429 | E9: 2378 | G9: 64474 | H9: 64366 | I9: 63806 | K9: =C9/G9*100 -> 3.4727177 | L9: =D9/H9*100 -> 3.7737315 | M9: =E9/I9*100 -> 3.7269222
B10: 55-66* | C10: 1985 | D10: 2082 | E10: 1883 | G10: 69429 | H10: 69308 | I10: 63468 | K10: =C10/G10*100 -> 2.8590358 | L10: =D10/H10*100 -> 3.0039822 | M10: =E10/I10*100 -> 2.9668494
B11: 16-66* | C11: 11853 | D11: 12279 | E11: 12328 | G11: 343825 | H11: 343538 | I11: 336917 | K11: =C11/G11*100 -> 3.4473933 | L11: =D11/H11*100 -> 3.5742771 | M11: =E11/I11*100 -> 3.6590614
A13: Män | B13: 16-19 | C13: 514 | D13: 441 | E13: 489 | G13: 21946 | H13: 21897 | I13: 21309 | K13: =C13/G13*100 -> 2.3421125 | L13: =D13/H13*100 -> 2.0139745 | M13: =E13/I13*100 -> 2.294805
B14: 20-24 | C14: 1030 | D14: 988 | E14: 1014 | G14: 27478 | H14: 27282 | I14: 26682 | K14: =C14/G14*100 -> 3.7484533 | L14: =D14/H14*100 -> 3.6214354 | M14: =E14/I14*100 -> 3.8003148
B15: 25-34 | C15: 3102 | D15: 3184 | E15: 3424 | G15: 81392 | H15: 81325 | I15: 83468 | K15: =C15/G15*100 -> 3.8111854 | L15: =D15/H15*100 -> 3.9151552 | M15: =E15/I15*100 -> 4.1021709
B16: 35-44 | C16: 2964 | D16: 3076 | E16: 3116 | G16: 79140 | H16: 79164 | I16: 78668 | K16: =C16/G16*100 -> 3.7452616 | L16: =D16/H16*100 -> 3.8856046 | M16: =E16/I16*100 -> 3.9609498
B17: 45-54 | C17: 2335 | D17: 2423 | E17: 2470 | G17: 65364 | H17: 65335 | I17: 64873 | K17: =C17/G17*100 -> 3.5723028 | L17: =D17/H17*100 -> 3.7085789 | M17: =E17/I17*100 -> 3.8074392
B18: 55-66* | C18: 2170 | D18: 2249 | E18: 2172 | G18: 66843 | H18: 66759 | I18: 61158 | K18: =C18/G18*100 -> 3.2464132 | L18: =D18/H18*100 -> 3.3688342 | M18: =E18/I18*100 -> 3.5514569
B19: 16-66* | C19: 12115 | D19: 12361 | E19: 12685 | G19: 342163 | H19: 341762 | I19: 336158 | K19: =C19/G19*100 -> 3.5407101 | L19: =D19/H19*100 -> 3.6168445 | M19: =E19/I19*100 -> 3.7735232
A21: Samtliga | B21: 16-19 | C21: 865 | D21: 725 | E21: 863 | G21: 43157 | H21: 43076 | I21: 41893 | K21: =C21/G21*100 -> 2.0043098 | L21: =D21/H21*100 -> 1.6830718 | M21: =E21/I21*100 -> 2.06001
B22: 20-24 | C22: 1730 | D22: 1617 | E22: 1733 | G22: 55115 | H22: 54869 | I22: 53745 | K22: =C22/G22*100 -> 3.1388914 | L22: =D22/H22*100 -> 2.9470193 | M22: =E22/I22*100 -> 3.224486
B23: 25-34 | C23: 6356 | D23: 6585 | E23: 6884 | G23: 165950 | H23: 165896 | I23: 169681 | K23: =C23/G23*100 -> 3.8300693 | L23: =D23/H23*100 -> 3.9693543 | M23: =E23/I23*100 -> 4.0570247
B24: 35-44 | C24: 6288 | D24: 6530 | E24: 6630 | G24: 155656 | H24: 155691 | I24: 154451 | K24: =C24/G24*100 -> 4.0396772 | L24: =D24/H24*100 -> 4.1942052 | M24: =E24/I24*100 -> 4.2926236
B25: 45-54 | C25: 4574 | D25: 4852 | E25: 4848 | G25: 129838 | H25: 129701 | I25: 128679 | K25: =C25/G25*100 -> 3.5228516 | L25: =D25/H25*100 -> 3.7409118 | M25: =E25/I25*100 -> 3.7675145
B26: 55-66* | C26: 4155 | D26: 4331 | E26: 4055 | G26: 136272 | H26: 136067 | I26: 124626 | K26: =C26/G26*100 -> 3.049049 | L26: =D26/H26*100 -> 3.1829907 | M26: =E26/I26*100 -> 3.2537352
B27: 16-66* | C27: 23968 | D27: 24640 | E27: 25013 | G27: 685988 | H27: 685300 | I27: 673075 | K27: =C27/G27*100 -> 3.4939387 | L27: =D27/H27*100 -> 3.5955056 | M27: =E27/I27*100 -> 3.7162278
A28: * Redovisningen t.o.m. december 2025 sker för åldersgruppen 16-65 år. Fr.o.m januari 2026 sker redovisningen för åldersgruppen 16-66 år, p.g.a. att pensionsåldern höjts till 67 år.

Sheet Tab3
A1: Tabell 3 Andelen långtidsarbetslösa1 av öppet arbetslösa i Hela staden efter ålder och kön över tid
C2: Öppet arbetslösa | G2: Varav långtidsarbetslösa | K2: Långtidsarbetslösas andel av öppet arbetslösa (%)
C3: =Månad!A2 -> Aug-26 | D3: =Månad!A3 -> Jul-26 | E3: =Månad!A4 -> Aug-25 | G3: =C3 -> Aug-26 | H3: =D3 -> Jul-26 | I3: =E3 -> Aug-25 | K3: =C3 -> Aug-26 | L3: =D3 -> Jul-26 | M3: =E3 -> Aug-25
A4: Kön | B4: Ålder | C4: M1 | D4: M2 | E4: M3 | G4: M1 | H4: M2 | I4: M3
A5: Kvinnor | B5: 16-19 | C5: 351 | D5: 284 | E5: 374 | G5: 32 | H5: 37 | I5: 32 | K5: =G5/C5*100 -> 9.1168091 | L5: =H5/D5*100 -> 13.028169 | M5: =I5/E5*100 -> 8.5561497
B6: 20-24 | C6: 700 | D6: 629 | E6: 719 | G6: 182 | H6: 176 | I6: 184 | K6: =G6/C6*100 -> 26 | L6: =H6/D6*100 -> 27.980922 | M6: =I6/E6*100 -> 25.591099
B7: 25-34 | C7: 3254 | D7: 3401 | E7: 3460 | G7: 522 | H7: 507 | I7: 567 | K7: =G7/C7*100 -> 16.041795 | L7: =H7/D7*100 -> 14.90738 | M7: =I7/E7*100 -> 16.387283
B8: 35-44 | C8: 3324 | D8: 3454 | E8: 3514 | G8: 828 | H8: 847 | I8: 877 | K8: =G8/C8*100 -> 24.909747 | L8: =H8/D8*100 -> 24.522293 | M8: =I8/E8*100 -> 24.957314
B9: 45-54 | C9: 2239 | D9: 2429 | E9: 2378 | G9: 600 | H9: 656 | I9: 687 | K9: =G9/C9*100 -> 26.797678 | L9: =H9/D9*100 -> 27.006999 | M9: =I9/E9*100 -> 28.889823
B10: 55-66* | C10: 1985 | D10: 2082 | E10: 1883 | G10: 550 | H10: 590 | I10: 524 | K10: =G10/C10*100 -> 27.707809 | L10: =H10/D10*100 -> 28.338136 | M10: =I10/E10*100 -> 27.827934
B11: 16-66* | C11: 11853 | D11: 12279 | E11: 12328 | G11: 2714 | H11: 2813 | I11: 2871 | K11: =G11/C11*100 -> 22.897157 | L11: =H11/D11*100 -> 22.909032 | M11: =I11/E11*100 -> 23.288449
A13: Män | B13: 16-19 | C13: 514 | D13: 441 | E13: 489 | G13: 44 | H13: 50 | I13: 42 | K13: =G13/C13*100 -> 8.5603113 | L13: =H13/D13*100 -> 11.337868 | M13: =I13/E13*100 -> 8.5889571
B14: 20-24 | C14: 1030 | D14: 988 | E14: 1014 | G14: 292 | H14: 270 | I14: 300 | K14: =G14/C14*100 -> 28.349515 | L14: =H14/D14*100 -> 27.327935 | M14: =I14/E14*100 -> 29.585799
B15: 25-34 | C15: 3102 | D15: 3184 | E15: 3424 | G15: 465 | H15: 477 | I15: 567 | K15: =G15/C15*100 -> 14.990329 | L15: =H15/D15*100 -> 14.981156 | M15: =I15/E15*100 -> 16.559579
B16: 35-44 | C16: 2964 | D16: 3076 | E16: 3116 | G16: 658 | H16: 655 | I16: 658 | K16: =G16/C16*100 -> 22.19973 | L16: =H16/D16*100 -> 21.293888 | M16: =I16/E16*100 -> 21.116816
B17: 45-54 | C17: 2335 | D17: 2423 | E17: 2470 | G17: 606 | H17: 611 | I17: 600 | K17: =G17/C17*100 -> 25.952891 | L17: =H17/D17*100 -> 25.216674 | M17: =I17/E17*100 -> 24.291498
B18: 55-66* | C18: 2170 | D18: 2249 | E18: 2172 | G18: 627 | H18: 644 | I18: 579 | K18: =G18/C18*100 -> 28.894009 | L18: =H18/D18*100 -> 28.634949 | M18: =I18/E18*100 -> 26.657459
B19: 16-66* | C19: 12115 | D19: 12361 | E19: 12685 | G19: 2692 | H19: 2707 | I19: 2746 | K19: =G19/C19*100 -> 22.220388 | L19: =H19/D19*100 -> 21.899523 | M19: =I19/E19*100 -> 21.647615
A21: Samtliga | B21: 16-19 | C21: 865 | D21: 725 | E21: 863 | G21: 76 | H21: 87 | I21: 74 | K21: =G21/C21*100 -> 8.7861272 | L21: =H21/D21*100 -> 12 | M21: =I21/E21*100 -> 8.5747393
B22: 20-24 | C22: 1730 | D22: 1617 | E22: 1733 | G22: 474 | H22: 446 | I22: 484 | K22: =G22/C22*100 -> 27.398844 | L22: =H22/D22*100 -> 27.581942 | M22: =I22/E22*100 -> 27.928448
B23: 25-34 | C23: 6356 | D23: 6585 | E23: 6884 | G23: 987 | H23: 984 | I23: 1134 | K23: =G23/C23*100 -> 15.528634 | L23: =H23/D23*100 -> 14.943052 | M23: =I23/E23*100 -> 16.472981
B24: 35-44 | C24: 6288 | D24: 6530 | E24: 6630 | G24: 1486 | H24: 1502 | I24: 1535 | K24: =G24/C24*100 -> 23.632316 | L24: =H24/D24*100 -> 23.001531 | M24: =I24/E24*100 -> 23.152338
B25: 45-54 | C25: 4574 | D25: 4852 | E25: 4848 | G25: 1206 | H25: 1267 | I25: 1287 | K25: =G25/C25*100 -> 26.366419 | L25: =H25/D25*100 -> 26.112943 | M25: =I25/E25*100 -> 26.54703
B26: 55-66* | C26: 4155 | D26: 4331 | E26: 4055 | G26: 1177 | H26: 1234 | I26: 1103 | K26: =G26/C26*100 -> 28.327316 | L26: =H26/D26*100 -> 28.492265 | M26: =I26/E26*100 -> 27.200986
B27: 16-66* | C27: 23968 | D27: 24640 | E27: 25013 | G27: 5406 | H27: 5520 | I27: 5617 | K27: =G27/C27*100 -> 22.555073 | L27: =H27/D27*100 -> 22.402597 | M27: =I27/E27*100 -> 22.456323
A28: 1 Arbetslösa 25 år eller äldre som varit anmälda hos Arbetsförmedlingen i minst 12 månader och under den tiden inte haft ett arbete eller deltagit i ett program med aktivitetsstöd. Ungdomar under 25 år räknas som långtidsarbetslösa efter 6 månader.
A29: * Redovisningen t.o.m. december 2025 sker för åldersgruppen 16-65 år. Fr.o.m januari 2026 sker redovisningen för åldersgruppen 16-66 år, p.g.a. att pensionsåldern höjts till 67 år.

Sheet Tab4
A1: Tabell 4 Antalet sökande 16-66* år per sökandegrupp i Hela staden efter födelseland över tid
B2: Svenskfödd | F2: Utlandsfödd | J2: Samtliga
B3: =Månad!A2 -> Aug-26 | C3: =Månad!A3 -> Jul-26 | D3: =Månad!A4 -> Aug-25 | F3: =B3 -> Aug-26 | G3: =C3 -> Jul-26 | H3: =D3 -> Aug-25 | J3: =F3 -> Aug-26 | K3: =G3 -> Jul-26 | L3: =H3 -> Aug-25
B4: SverigeM1 | C4: SverigeM2 | D4: SverigeM3 | E4: TOM1 | F4: utlandM1 | G4: utlandM2 | H4: utlandM3
A5: Öppet Arbetslösa | B5: 12930 | C5: 13428 | D5: 12980 | F5: 11038 | G5: 11212 | H5: 12033 | J5: =B5+F5 -> 23968 | K5: =C5+G5 -> 24640 | L5: =D5+H5 -> 25013
A6: Prog med aktivitetsstöd | B6: 5687 | C6: 5725 | D6: 5764 | F6: 8496 | G6: 8466 | H6: 9253 | J6: =B6+F6 -> 14183 | K6: =C6+G6 -> 14191 | L6: =D6+H6 -> 15017
A7: Arbete utan stöd | B7: 4135 | C7: 4099 | D7: 4063 | F7: 4571 | G7: 4628 | H7: 4554 | J7: =B7+F7 -> 8706 | K7: =C7+G7 -> 8727 | L7: =D7+H7 -> 8617
A8: Arbete med stöd | B8: 1981 | C8: 1979 | D8: 1849 | F8: 1028 | G8: 1036 | H8: 1000 | J8: =B8+F8 -> 3009 | K8: =C8+G8 -> 3015 | L8: =D8+H8 -> 2849
A9: Övrigt inskrivna | B9: 1771 | C9: 1866 | D9: 1742 | F9: 1644 | G9: 1749 | H9: 1676 | J9: =B9+F9 -> 3415 | K9: =C9+G9 -> 3615 | L9: =D9+H9 -> 3418
A10: Nystartsjobb/Etableringsjobb | B10: 226 | C10: 226 | D10: 250 | F10: 971 | G10: 972 | H10: 1026 | J10: =B10+F10 -> 1197 | K10: =C10+G10 -> 1198 | L10: =D10+H10 -> 1276
A11: Samtliga sökande | B11: 26730 | C11: 27323 | D11: 26648 | F11: 27748 | G11: 28063 | H11: 29542 | J11: =B11+F11 -> 54478 | K11: =C11+G11 -> 55386 | L11: =D11+H11 -> 56190
B13: Andel av samtliga sökande (%)
A14: Öppet Arbetslösa | B14: =B5/B$11*100 -> 48.372615 | C14: =C5/C$11*100 -> 49.145409 | D14: =D5/D$11*100 -> 48.709096 | F14: =F5/F$11*100 -> 39.779444 | G14: =G5/G$11*100 -> 39.952963 | H14: =H5/H$11*100 -> 40.731839 | J14: =J5/J$11*100 -> 43.995741 | K14: =K5/K$11*100 -> 44.487777 | L14: =L5/L$11*100 -> 44.515038
A15: Prog med aktivitetsstöd | B15: =B6/B$11*100 -> 21.27572 | C15: =C6/C$11*100 -> 20.953043 | D15: =D6/D$11*100 -> 21.630141 | F15: =F6/F$11*100 -> 30.618423 | G15: =G6/G$11*100 -> 30.167837 | H15: =H6/H$11*100 -> 31.321508 | J15: =J6/J$11*100 -> 26.034362 | K15: =K6/K$11*100 -> 25.621998 | L15: =L6/L$11*100 -> 26.725396
A16: Arbete utan stöd | B16: =B7/B$11*100 -> 15.46951 | C16: =C7/C$11*100 -> 15.002013 | D16: =D7/D$11*100 -> 15.246923 | F16: =F7/F$11*100 -> 16.473259 | G16: =G7/G$11*100 -> 16.491466 | H16: =H7/H$11*100 -> 15.415341 | J16: =J7/J$11*100 -> 15.980763 | K16: =K7/K$11*100 -> 15.756689 | L16: =L7/L$11*100 -> 15.335469
A17: Arbete med stöd | B17: =B8/B$11*100 -> 7.4111485 | C17: =C8/C$11*100 -> 7.2429821 | D17: =D8/D$11*100 -> 6.938607 | F17: =F8/F$11*100 -> 3.7047715 | G17: =G8/G$11*100 -> 3.6916937 | H17: =H8/H$11*100 -> 3.3850112 | J17: =J8/J$11*100 -> 5.5233305 | K17: =K8/K$11*100 -> 5.4436139 | L17: =L8/L$11*100 -> 5.0702972
A18: Övrigt inskrivna | B18: =B9/B$11*100 -> 6.6255144 | C18: =C9/C$11*100 -> 6.8294111 | D18: =D9/D$11*100 -> 6.537076 | F18: =F9/F$11*100 -> 5.9247513 | G18: =G9/G$11*100 -> 6.2324057 | H18: =H9/H$11*100 -> 5.6732787 | J18: =J9/J$11*100 -> 6.2685855 | K18: =K9/K$11*100 -> 6.5269202 | L18: =L9/L$11*100 -> 6.0829329
A19: Nystartsjobb/Etableringsjobb | B19: =B10/B$11*100 -> 0.84549196 | C19: =C10/C$11*100 -> 0.82714197 | D19: =D10/D$11*100 -> 0.93815671 | F19: =F10/F$11*100 -> 3.4993513 | G19: =G10/G$11*100 -> 3.4636354 | H19: =H10/H$11*100 -> 3.4730215 | J19: =J10/J$11*100 -> 2.1972172 | K19: =K10/K$11*100 -> 2.1630015 | L19: =L10/L$11*100 -> 2.2708667
A20: Samtliga sökande | B20: =B11/B$11*100 -> 100 | C20: =C11/C$11*100 -> 100 | D20: =D11/D$11*100 -> 100 | F20: =F11/F$11*100 -> 100 | G20: =G11/G$11*100 -> 100 | H20: =H11/H$11*100 -> 100 | J20: =J11/J$11*100 -> 100 | K20: =K11/K$11*100 -> 100 | L20: =L11/L$11*100 -> 100
A23: Varav antalet sökande i åldrarna 18-24 år
B24: SverigeM1 | C24: SverigeM2 | D24: SverigeM3 | E24: TOM1 | F24: utlandM1 | G24: utlandM2 | H24: utlandM3
A25: Öppet Arbetslösa | B25: 1925 | C25: 1708 | D25: 1837 | F25: 657 | G25: 623 | H25: 744 | J25: =B25+F25 -> 2582 | K25: =C25+G25 -> 2331 | L25: =D25+H25 -> 2581
A26: Prog med aktivitetsstöd | B26: 510 | C26: 553 | D26: 571 | F26: 339 | G26: 352 | H26: 399 | J26: =B26+F26 -> 849 | K26: =C26+G26 -> 905 | L26: =D26+H26 -> 970
A27: Arbete utan stöd | B27: 519 | C27: 510 | D27: 513 | F27: 201 | G27: 209 | H27: 210 | J27: =B27+F27 -> 720 | K27: =C27+G27 -> 719 | L27: =D27+H27 -> 723
A28: Arbete med stöd | B28: 160 | C28: 172 | D28: 141 | F28: 47 | G28: 44 | H28: 52 | J28: =B28+F28 -> 207 | K28: =C28+G28 -> 216 | L28: =D28+H28 -> 193
A29: Övrigt inskrivna | B29: 184 | C29: 209 | D29: 178 | F29: 59 | G29: 75 | H29: 64 | J29: =B29+F29 -> 243 | K29: =C29+G29 -> 284 | L29: =D29+H29 -> 242
A30: Nystartsjobb/Etableringsjobb | B30: 13 | C30: 14 | D30: 24 | F30: 41 | G30: 40 | H30: 50 | J30: =B30+F30 -> 54 | K30: =C30+G30 -> 54 | L30: =D30+H30 -> 74
A31: Samtliga sökande | B31: 3311 | C31: 3166 | D31: 3264 | F31: 1344 | G31: 1343 | H31: 1519 | J31: =B31+F31 -> 4655 | K31: =C31+G31 -> 4509 | L31: =D31+H31 -> 4783
B33: Andel av samtliga sökande (%)
A34: Öppet Arbetslösa | B34: =B25/B$31*100 -> 58.139535 | C34: =C25/C$31*100 -> 53.9482 | D34: =D25/D$31*100 -> 56.280637 | F34: =F25/F$31*100 -> 48.883929 | G34: =G25/G$31*100 -> 46.388682 | H34: =H25/H$31*100 -> 48.979592 | J34: =J25/J$31*100 -> 55.46724 | K34: =K25/K$31*100 -> 51.696607 | L34: =L25/L$31*100 -> 53.961949
A35: Prog med aktivitetsstöd | B35: =B26/B$31*100 -> 15.403201 | C35: =C26/C$31*100 -> 17.466835 | D35: =D26/D$31*100 -> 17.493873 | F35: =F26/F$31*100 -> 25.223214 | G35: =G26/G$31*100 -> 26.209978 | H35: =H26/H$31*100 -> 26.267281 | J35: =J26/J$31*100 -> 18.238453 | K35: =K26/K$31*100 -> 20.070969 | L35: =L26/L$31*100 -> 20.280159
A36: Arbete utan stöd | B36: =B27/B$31*100 -> 15.675023 | C36: =C27/C$31*100 -> 16.108654 | D36: =D27/D$31*100 -> 15.716912 | F36: =F27/F$31*100 -> 14.955357 | G36: =G27/G$31*100 -> 15.562174 | H36: =H27/H$31*100 -> 13.824885 | J36: =J27/J$31*100 -> 15.46724 | K36: =K27/K$31*100 -> 15.945886 | L36: =L27/L$31*100 -> 15.116036
A37: Arbete med stöd | B37: =B28/B$31*100 -> 4.8323769 | C37: =C28/C$31*100 -> 5.4327227 | D37: =D28/D$31*100 -> 4.3198529 | F37: =F28/F$31*100 -> 3.4970238 | G37: =G28/G$31*100 -> 3.2762472 | H37: =H28/H$31*100 -> 3.4233048 | J37: =J28/J$31*100 -> 4.4468314 | K37: =K28/K$31*100 -> 4.7904192 | L37: =L28/L$31*100 -> 4.0351244
A38: Övrigt inskrivna | B38: =B29/B$31*100 -> 5.5572335 | C38: =C29/C$31*100 -> 6.6013898 | D38: =D29/D$31*100 -> 5.4534314 | F38: =F29/F$31*100 -> 4.389881 | G38: =G29/G$31*100 -> 5.5845123 | H38: =H29/H$31*100 -> 4.2132982 | J38: =J29/J$31*100 -> 5.2201933 | K38: =K29/K$31*100 -> 6.2985141 | L38: =L29/L$31*100 -> 5.059586
A39: Nystartsjobb/Etableringsjobb | B39: =B30/B$31*100 -> 0.39263063 | C39: =C30/C$31*100 -> 0.44219836 | D39: =D30/D$31*100 -> 0.73529412 | F39: =F30/F$31*100 -> 3.0505952 | G39: =G30/G$31*100 -> 2.9784066 | H39: =H30/H$31*100 -> 3.2916392 | J39: =J30/J$31*100 -> 1.160043 | K39: =K30/K$31*100 -> 1.1976048 | L39: =L30/L$31*100 -> 1.5471461
A40: Samtliga sökande | B40: =B31/B$31*100 -> 100 | C40: =C31/C$31*100 -> 100 | D40: =D31/D$31*100 -> 100 | F40: =F31/F$31*100 -> 100 | G40: =G31/G$31*100 -> 100 | H40: =H31/H$31*100 -> 100 | J40: =J31/J$31*100 -> 100 | K40: =K31/K$31*100 -> 100 | L40: =L31/L$31*100 -> 100
A41: Not. I sökandekategori "Övrigt inskrivna" ingår sökandekategori 15: Kommuninsats, sökandekategori 40: Yrkesintroduktion och sökandekategori 32: Utbildningskontrakt
A42: * Redovisningen t.o.m. december 2025 sker för åldersgruppen 16-65 år. Fr.o.m januari 2026 sker redovisningen för åldersgruppen 16-66 år, p.g.a. att pensionsåldern höjts till 67 år.

Sheet Tab5
A1: Tabell 5 Antalet sökande 16-66* år per sökandegrupp i Hela staden efter om man är nyanländ1 eller ej över tid
B2: Nyanländ | F2: Ej nyanländ | J2: Samtliga
A3: Sökandegrupp | B3: =Månad!A2 -> Aug-26 | C3: =Månad!A3 -> Jul-26 | D3: =Månad!A4 -> Aug-25 | F3: =B3 -> Aug-26 | G3: =C3 -> Jul-26 | H3: =D3 -> Aug-25 | J3: =F3 -> Aug-26 | K3: =G3 -> Jul-26 | L3: =H3 -> Aug-25
B4: NyM1 | C4: NyM2 | D4: NyM3 | E4: TOM1 | F4: EjM1 | G4: EjM2 | H4: EjM3
A5: Öppet Arbetslösa | B5: 904 | C5: 900 | D5: 1019 | F5: 23064 | G5: 23740 | H5: 23994 | J5: =B5+F5 -> 23968 | K5: =C5+G5 -> 24640 | L5: =D5+H5 -> 25013
A6: Prog med aktivitetsstöd | B6: 1069 | C6: 1070 | D6: 1169 | F6: 13114 | G6: 13121 | H6: 13848 | J6: =B6+F6 -> 14183 | K6: =C6+G6 -> 14191 | L6: =D6+H6 -> 15017
A7: Arbete utan stöd | B7: 225 | C7: 230 | D7: 266 | F7: 8481 | G7: 8497 | H7: 8351 | J7: =B7+F7 -> 8706 | K7: =C7+G7 -> 8727 | L7: =D7+H7 -> 8617
A8: Arbete med stöd | B8: 91 | C8: 92 | D8: 141 | F8: 2918 | G8: 2923 | H8: 2708 | J8: =B8+F8 -> 3009 | K8: =C8+G8 -> 3015 | L8: =D8+H8 -> 2849
A9: Övrigt inskrivna | B9: 87 | C9: 93 | D9: 106 | F9: 3328 | G9: 3522 | H9: 3312 | J9: =B9+F9 -> 3415 | K9: =C9+G9 -> 3615 | L9: =D9+H9 -> 3418
A10: Nystartsjobb/Etableringsjobb | B10: 122 | C10: 123 | D10: 135 | F10: 1075 | G10: 1075 | H10: 1141 | J10: =B10+F10 -> 1197 | K10: =C10+G10 -> 1198 | L10: =D10+H10 -> 1276
A11: Samtliga sökande | B11: 2498 | C11: 2508 | D11: 2836 | F11: 51980 | G11: 52878 | H11: 53354 | J11: =B11+F11 -> 54478 | K11: =C11+G11 -> 55386 | L11: =D11+H11 -> 56190
B13: Andel av samtliga sökande (%)
A14: Öppet Arbetslösa | B14: =B5/B$11*100 -> 36.188951 | C14: =C5/C$11*100 -> 35.885167 | D14: =D5/D$11*100 -> 35.930889 | F14: =F5/F$11*100 -> 44.370912 | G14: =G5/G$11*100 -> 44.895798 | H14: =H5/H$11*100 -> 44.971324 | J14: =J5/J$11*100 -> 43.995741 | K14: =K5/K$11*100 -> 44.487777 | L14: =L5/L$11*100 -> 44.515038
A15: Prog med aktivitetsstöd | B15: =B6/B$11*100 -> 42.794235 | C15: =C6/C$11*100 -> 42.663477 | D15: =D6/D$11*100 -> 41.220028 | F15: =F6/F$11*100 -> 25.228934 | G15: =G6/G$11*100 -> 24.813722 | H15: =H6/H$11*100 -> 25.954942 | J15: =J6/J$11*100 -> 26.034362 | K15: =K6/K$11*100 -> 25.621998 | L15: =L6/L$11*100 -> 26.725396
A16: Arbete utan stöd | B16: =B7/B$11*100 -> 9.0072058 | C16: =C7/C$11*100 -> 9.1706539 | D16: =D7/D$11*100 -> 9.3794076 | F16: =F7/F$11*100 -> 16.315891 | G16: =G7/G$11*100 -> 16.069065 | H16: =H7/H$11*100 -> 15.65206 | J16: =J7/J$11*100 -> 15.980763 | K16: =K7/K$11*100 -> 15.756689 | L16: =L7/L$11*100 -> 15.335469
A17: Arbete med stöd | B17: =B8/B$11*100 -> 3.6429143 | C17: =C8/C$11*100 -> 3.6682616 | D17: =D8/D$11*100 -> 4.9717913 | F17: =F8/F$11*100 -> 5.6136976 | G17: =G8/G$11*100 -> 5.5278188 | H17: =H8/H$11*100 -> 5.0755332 | J17: =J8/J$11*100 -> 5.5233305 | K17: =K8/K$11*100 -> 5.4436139 | L17: =L8/L$11*100 -> 5.0702972
A18: Övrigt inskrivna | B18: =B9/B$11*100 -> 3.4827862 | C18: =C9/C$11*100 -> 3.708134 | D18: =D9/D$11*100 -> 3.7376587 | F18: =F9/F$11*100 -> 6.4024625 | G18: =G9/G$11*100 -> 6.660615 | H18: =H9/H$11*100 -> 6.2075946 | J18: =J9/J$11*100 -> 6.2685855 | K18: =K9/K$11*100 -> 6.5269202 | L18: =L9/L$11*100 -> 6.0829329
A19: Nystartsjobb/Etableringsjobb | B19: =B10/B$11*100 -> 4.8839071 | C19: =C10/C$11*100 -> 4.9043062 | D19: =D10/D$11*100 -> 4.7602257 | F19: =F10/F$11*100 -> 2.0681031 | G19: =G10/G$11*100 -> 2.0329816 | H19: =H10/H$11*100 -> 2.1385463 | J19: =J10/J$11*100 -> 2.1972172 | K19: =K10/K$11*100 -> 2.1630015 | L19: =L10/L$11*100 -> 2.2708667
A20: Samtliga sökande | B20: =B11/B$11*100 -> 100 | C20: =C11/C$11*100 -> 100 | D20: =D11/D$11*100 -> 100 | F20: =F11/F$11*100 -> 100 | G20: =G11/G$11*100 -> 100 | H20: =H11/H$11*100 -> 100 | J20: =J11/J$11*100 -> 100 | K20: =K11/K$11*100 -> 100 | L20: =L11/L$11*100 -> 100
A23: Därav antalet sökande i åldrarna 18-24 år
B24: NyM1 | C24: NyM2 | D24: NyM3 | E24: TOM1 | F24: EjM1 | G24: EjM2 | H24: EjM3
A25: Öppet Arbetslösa | B25: 70 | C25: 70 | D25: 98 | F25: 2512 | G25: 2261 | H25: 2483 | J25: =B25+F25 -> 2582 | K25: =C25+G25 -> 2331 | L25: =D25+H25 -> 2581
A26: Prog med aktivitetsstöd | B26: 140 | C26: 142 | D26: 157 | F26: 709 | G26: 763 | H26: 813 | J26: =B26+F26 -> 849 | K26: =C26+G26 -> 905 | L26: =D26+H26 -> 970
A27: Arbete utan stöd | B27: 18 | C27: 20 | D27: 21 | F27: 702 | G27: 699 | H27: 702 | J27: =B27+F27 -> 720 | K27: =C27+G27 -> 719 | L27: =D27+H27 -> 723
A28: Arbete med stöd | B28: 7 | C28: 7 | D28: 14 | F28: 200 | G28: 209 | H28: 179 | J28: =B28+F28 -> 207 | K28: =C28+G28 -> 216 | L28: =D28+H28 -> 193
A29: Övrigt inskrivna | B29: 8 | C29: 8 | D29: 6 | F29: 235 | G29: 276 | H29: 236 | J29: =B29+F29 -> 243 | K29: =C29+G29 -> 284 | L29: =D29+H29 -> 242
A30: Nystartsjobb/Etableringsjobb | B30: 8 | C30: 9 | D30: 13 | F30: 46 | G30: 45 | H30: 61 | J30: =B30+F30 -> 54 | K30: =C30+G30 -> 54 | L30: =D30+H30 -> 74
A31: Samtliga sökande | B31: 251 | C31: 256 | D31: 309 | F31: 4404 | G31: 4253 | H31: 4474 | J31: =B31+F31 -> 4655 | K31: =C31+G31 -> 4509 | L31: =D31+H31 -> 4783
B33: Andel av samtliga sökande (%)
A34: Öppet Arbetslösa | B34: =B25/B$31*100 -> 27.888446 | C34: =C25/C$31*100 -> 27.34375 | D34: =D25/D$31*100 -> 31.71521 | E34: =E25/E$31*100 -> #DIV/0! | F34: =F25/F$31*100 -> 57.039055 | G34: =G25/G$31*100 -> 53.162474 | H34: =H25/H$31*100 -> 55.498435 | I34: =I25/I$31*100 -> #DIV/0! | ... L34: =L25/L$31*100 -> 53.961949
A35: Prog med aktivitetsstöd | B35: =B26/B$31*100 -> 55.776892 | C35: =C26/C$31*100 -> 55.46875 | D35: =D26/D$31*100 -> 50.809061 | E35: =E26/E$31*100 -> #DIV/0! | F35: =F26/F$31*100 -> 16.099001 | G35: =G26/G$31*100 -> 17.940277 | H35: =H26/H$31*100 -> 18.171658 | I35: =I26/I$31*100 -> #DIV/0! | ... L35: =L26/L$31*100 -> 20.280159
A36: Arbete utan stöd | B36: =B27/B$31*100 -> 7.1713147 | C36: =C27/C$31*100 -> 7.8125 | D36: =D27/D$31*100 -> 6.7961165 | E36: =E27/E$31*100 -> #DIV/0! | F36: =F27/F$31*100 -> 15.940054 | G36: =G27/G$31*100 -> 16.435457 | H36: =H27/H$31*100 -> 15.690657 | I36: =I27/I$31*100 -> #DIV/0! | ... L36: =L27/L$31*100 -> 15.116036
A37: Arbete med stöd | B37: =B28/B$31*100 -> 2.7888446 | C37: =C28/C$31*100 -> 2.734375 | D37: =D28/D$31*100 -> 4.5307443 | E37: =E28/E$31*100 -> #DIV/0! | F37: =F28/F$31*100 -> 4.5413261 | G37: =G28/G$31*100 -> 4.9141782 | H37: =H28/H$31*100 -> 4.0008941 | I37: =I28/I$31*100 -> #DIV/0! | ... L37: =L28/L$31*100 -> 4.0351244
A38: Övrigt inskrivna | B38: =B29/B$31*100 -> 3.187251 | C38: =C29/C$31*100 -> 3.125 | D38: =D29/D$31*100 -> 1.9417476 | E38: =E29/E$31*100 -> #DIV/0! | F38: =F29/F$31*100 -> 5.3360581 | G38: =G29/G$31*100 -> 6.4895368 | H38: =H29/H$31*100 -> 5.2749218 | I38: =I29/I$31*100 -> #DIV/0! | ... L38: =L29/L$31*100 -> 5.059586
A39: Nystartsjobb/Etableringsjobb | B39: =B30/B$31*100 -> 3.187251 | C39: =C30/C$31*100 -> 3.515625 | D39: =D30/D$31*100 -> 4.2071197 | E39: =E30/E$31*100 -> #DIV/0! | F39: =F30/F$31*100 -> 1.044505 | G39: =G30/G$31*100 -> 1.0580767 | H39: =H30/H$31*100 -> 1.3634332 | I39: =I30/I$31*100 -> #DIV/0! | ... L39: =L30/L$31*100 -> 1.5471461
A40: Samtliga sökande | B40: =B31/B$31*100 -> 100 | C40: =C31/C$31*100 -> 100 | D40: =D31/D$31*100 -> 100 | E40: =E31/E$31*100 -> #DIV/0! | F40: =F31/F$31*100 -> 100 | G40: =G31/G$31*100 -> 100 | H40: =H31/H$31*100 -> 100 | I40: =I31/I$31*100 -> #DIV/0! | ... L40: =L31/L$31*100 -> 100
A41: 1 En sökande kategoriseras som nyanländ fram till tre år efter första folkbokföringen i Sverige.
A42: Not. I sökandekategori "Övrigt inskrivna" ingår sökandekategori 15: Kommuninsats, sökandekategori 40: Yrkesintroduktion och sökandekategori 32: Utbildningskontrakt
A43: * Redovisningen t.o.m. december 2025 sker för åldersgruppen 16-65 år. Fr.o.m januari 2026 sker redovisningen för åldersgruppen 16-66 år, p.g.a. att pensionsåldern höjts till 67 år.

Sheet Tab6
A1: ="Tabell 6 Antalet öppet arbetslösa i Hela staden efter kassatillhörighet, ålder och kön - kvarstående sista "&(TEXT('Tab1'!$D$2,"MMMM"))&" "&TEXT('Tab1'!$D$2,"ÅÅÅÅ") -> Tabell 6 Antalet öppet arbetslösa i Hela staden efter kassatillhörighet, ålder och kön - kvarstående sista augusti 2026
C2: Kassatillhörighet | I2: Ingen kassatillhörighet | L2: Totalt
C3: A-kassa | F3: Alfa
A4: Kön | B4: Ålder | C4: Antal | D4: % av öppet arbetslösa | F4: Antal | G4: % av öppet arbetslösa | I4: Antal | J4: % av öppet arbetslösa | L4: Antal | M4: % av öppet arbetslösa
C5: k1 | D5: col1 | E5: col2 | F5: k2 | G5: co14 | H5: col4 | I5: k3 | J5: col5
A6: Kvinnor | B6: 16-19 | C6: 24 | D6: 6.8376068 | F6: 38 | G6: 10.826211 | I6: 289 | J6: 82.336182 | L6: =C6+F6+I6 -> 351 | M6: =L6/L6*100 -> 100
B7: 20-24 | C7: 201 | D7: 28.714286 | F7: 138 | G7: 19.714286 | I7: 361 | J7: 51.571429 | L7: =C7+F7+I7 -> 700 | M7: =L7/L7*100 -> 100
B8: 25-34 | C8: 1928 | D8: 59.250154 | F8: 437 | G8: 13.429625 | I8: 889 | J8: 27.320221 | L8: =C8+F8+I8 -> 3254 | M8: =L8/L8*100 -> 100
B9: 35-44 | C9: 2233 | D9: 67.178099 | F9: 336 | G9: 10.108303 | I9: 755 | J9: 22.713598 | L9: =C9+F9+I9 -> 3324 | M9: =L9/L9*100 -> 100
B10: 45-54 | C10: 1613 | D10: 72.04109 | F10: 200 | G10: 8.9325592 | I10: 426 | J10: 19.026351 | L10: =C10+F10+I10 -> 2239 | M10: =L10/L10*100 -> 100
B11: 55-66* | C11: 1559 | D11: 78.539043 | F11: 129 | G11: 6.4987406 | I11: 297 | J11: 14.962217 | L11: =C11+F11+I11 -> 1985 | M11: =L11/L11*100 -> 100
B12: 16-66* | C12: 7558 | D12: 63.764448 | F12: 1278 | G12: 10.78208 | I12: 3017 | J12: 25.453472 | L12: =C12+F12+I12 -> 11853 | M12: =L12/L12*100 -> 100
A14: Män | B14: 16-19 | C14: 30 | D14: 5.8365759 | F14: 50 | G14: 9.7276265 | I14: 434 | J14: 84.435798 | L14: =C14+F14+I14 -> 514 | M14: =L14/L14*100 -> 100
B15: 20-24 | C15: 245 | D15: 23.786408 | F15: 233 | G15: 22.621359 | I15: 552 | J15: 53.592233 | L15: =C15+F15+I15 -> 1030 | M15: =L15/L15*100 -> 100
B16: 25-34 | C16: 1733 | D16: 55.867182 | F16: 557 | G16: 17.956157 | I16: 812 | J16: 26.17666 | L16: =C16+F16+I16 -> 3102 | M16: =L16/L16*100 -> 100
B17: 35-44 | C17: 1970 | D17: 66.464238 | F17: 427 | G17: 14.406208 | I17: 567 | J17: 19.129555 | L17: =C17+F17+I17 -> 2964 | M17: =L17/L17*100 -> 100
B18: 45-54 | C18: 1653 | D18: 70.792291 | F18: 277 | G18: 11.862955 | I18: 405 | J18: 17.344754 | L18: =C18+F18+I18 -> 2335 | M18: =L18/L18*100 -> 100
B19: 55-66* | C19: 1608 | D19: 74.101382 | F19: 216 | G19: 9.9539171 | I19: 346 | J19: 15.9447 | L19: =C19+F19+I19 -> 2170 | M19: =L19/L19*100 -> 100
B20: 16-66* | C20: 7239 | D20: 59.752373 | F20: 1760 | G20: 14.527445 | I20: 3116 | J20: 25.720182 | L20: =C20+F20+I20 -> 12115 | M20: =L20/L20*100 -> 100
A22: Samtliga | B22: 16-19 | C22: 54 | D22: 6.2427746 | F22: 88 | G22: 10.17341 | I22: 723 | J22: 83.583815 | L22: =C22+F22+I22 -> 865 | M22: =L22/L22*100 -> 100
B23: 20-24 | C23: 446 | D23: 25.780347 | F23: 371 | G23: 21.445087 | I23: 913 | J23: 52.774566 | L23: =C23+F23+I23 -> 1730 | M23: =L23/L23*100 -> 100
B24: 25-34 | C24: 3661 | D24: 57.599119 | F24: 994 | G24: 15.638767 | I24: 1701 | J24: 26.762115 | L24: =C24+F24+I24 -> 6356 | M24: =L24/L24*100 -> 100
B25: 35-44 | C25: 4203 | D25: 66.841603 | F25: 763 | G25: 12.134224 | I25: 1322 | J25: 21.024173 | L25: =C25+F25+I25 -> 6288 | M25: =L25/L25*100 -> 100
B26: 45-54 | C26: 3266 | D26: 71.403585 | F26: 477 | G26: 10.428509 | I26: 831 | J26: 18.167906 | L26: =C26+F26+I26 -> 4574 | M26: =L26/L26*100 -> 100
B27: 55-66* | C27: 3167 | D27: 76.22142 | F27: 345 | G27: 8.3032491 | I27: 643 | J27: 15.475331 | L27: =C27+F27+I27 -> 4155 | M27: =L27/L27*100 -> 100
B28: 16-66* | C28: 14797 | D28: 61.736482 | F28: 3038 | G28: 12.675234 | I28: 6133 | J28: 25.588284 | L28: =C28+F28+I28 -> 23968 | M28: =L28/L28*100 -> 100
A29: * Redovisningen t.o.m. december 2025 sker för åldersgruppen 16-65 år. Fr.o.m januari 2026 sker redovisningen för åldersgruppen 16-66 år, p.g.a. att pensionsåldern höjts till 67 år.

Sheet Tab7
A1: Tabell 7 Antalet sökande som fått arbete1 samt kvarstående öppet arbetslösa i Hela staden efter ålder och kön över tid
C2: Sökande som fått arbete | G2: Varav ej kvarvarande sökande hos AF2 | K2: Öppet arbetslösa
A3: Kön | B3: Ålder | C3: =Månad!A2 -> Aug-26 | D3: =Månad!A3 -> Jul-26 | E3: =Månad!A4 -> Aug-25 | G3: =C3 -> Aug-26 | H3: =D3 -> Jul-26 | I3: =E3 -> Aug-25 | K3: =C3 -> Aug-26 | L3: =D3 -> Jul-26 | M3: =E3 -> Aug-25
C4: FAM1 | D4: FAM2 | E4: FAM3 | F4: col1 | G4: EJM1 | H4: EJM2 | I4: EJM3 | J4: col2 | K4: M1 | L4: M2 | M4: M3
A5: Kvinnor | B5: 16-19 | C5: 38 | D5: 23 | E5: 30 | G5: 29 | H5: 16 | I5: 20 | K5: 351 | L5: 284 | M5: 374
B6: 20-24 | C6: 96 | D6: 74 | E6: 109 | G6: 80 | H6: 47 | I6: 74 | K6: 700 | L6: 629 | M6: 719
B7: 25-34 | C7: 629 | D7: 282 | E7: 655 | G7: 472 | H7: 198 | I7: 507 | K7: 3254 | L7: 3401 | M7: 3460
B8: 35-44 | C8: 561 | D8: 249 | E8: 574 | G8: 414 | H8: 151 | I8: 406 | K8: 3324 | L8: 3454 | M8: 3514
B9: 45-54 | C9: 445 | D9: 215 | E9: 421 | G9: 320 | H9: 114 | I9: 300 | K9: 2239 | L9: 2429 | M9: 2378
B10: 55-66* | C10: 310 | D10: 164 | E10: 306 | G10: 176 | H10: 80 | I10: 197 | K10: 1985 | L10: 2082 | M10: 1883
B11: 16-66* | C11: 2079 | D11: 1007 | E11: 2095 | G11: 1491 | H11: 606 | I11: 1504 | K11: 11853 | L11: 12279 | M11: 12328
A13: Män | B13: 16-19 | C13: 52 | D13: 34 | E13: 50 | G13: 40 | H13: 27 | I13: 35 | K13: 514 | L13: 441 | M13: 489
B14: 20-24 | C14: 116 | D14: 110 | E14: 111 | G14: 83 | H14: 76 | I14: 76 | K14: 1030 | L14: 988 | M14: 1014
B15: 25-34 | C15: 449 | D15: 301 | E15: 520 | G15: 359 | H15: 214 | I15: 418 | K15: 3102 | L15: 3184 | M15: 3424
B16: 35-44 | C16: 428 | D16: 234 | E16: 389 | G16: 323 | H16: 165 | I16: 305 | K16: 2964 | L16: 3076 | M16: 3116
B17: 45-54 | C17: 344 | D17: 174 | E17: 328 | G17: 258 | H17: 103 | I17: 252 | K17: 2335 | L17: 2423 | M17: 2470
B18: 55-66* | C18: 276 | D18: 150 | E18: 221 | G18: 184 | H18: 87 | I18: 153 | K18: 2170 | L18: 2249 | M18: 2172
B19: 16-66* | C19: 1665 | D19: 1003 | E19: 1619 | G19: 1247 | H19: 672 | I19: 1239 | K19: 12115 | L19: 12361 | M19: 12685
A21: Samtliga | B21: 16-19 | C21: 90 | D21: 57 | E21: 80 | G21: 69 | H21: 43 | I21: 55 | K21: 865 | L21: 725 | M21: 863
B22: 20-24 | C22: 212 | D22: 184 | E22: 220 | G22: 163 | H22: 123 | I22: 150 | K22: 1730 | L22: 1617 | M22: 1733
B23: 25-34 | C23: 1078 | D23: 583 | E23: 1175 | G23: 831 | H23: 412 | I23: 925 | K23: 6356 | L23: 6585 | M23: 6884
B24: 35-44 | C24: 989 | D24: 483 | E24: 963 | G24: 737 | H24: 316 | I24: 711 | K24: 6288 | L24: 6530 | M24: 6630
B25: 45-54 | C25: 789 | D25: 389 | E25: 749 | G25: 578 | H25: 217 | I25: 552 | K25: 4574 | L25: 4852 | M25: 4848
B26: 55-66* | C26: 586 | D26: 314 | E26: 527 | G26: 360 | H26: 167 | I26: 350 | K26: 4155 | L26: 4331 | M26: 4055
B27: 16-66* | C27: 3744 | D27: 2010 | E27: 3714 | G27: 2738 | H27: 1278 | I27: 2743 | K27: 23968 | L27: 24640 | M27: 25013
A28: 1 Tillståndsförändring där det nya tillståndet innebär att man befinner sig i arbete enligt arbetsförmedlingens definition. En person har arbete om personen befinner sig i någon sökandekategori som innebär arbete eller om personen är avaktualiserad med en kod som innebär arbete.
A29: 2 Har fått tillsvidare anställning, tidsbegränsad anställning, fortsatt anställning hos samma arbetsgivare eller anställning hos Samhall.
A30: * Redovisningen t.o.m. december 2025 sker för åldersgruppen 16-65 år. Fr.o.m januari 2026 sker redovisningen för åldersgruppen 16-66 år, p.g.a. att pensionsåldern höjts till 67 år.

Sheet Tab8
A1: Tabell 8 Antalet långtidsarbetslösa1 i Hela staden efter ålder och kön över tid
C2: Antalet långtidsarbetslösa
A3: Kön | B3: Ålder | C3: =Månad!A2 -> Aug-26 | D3: =Månad!A3 -> Jul-26 | E3: =Månad!A4 -> Aug-25
C4: M1 | D4: M2 | E4: M3
A5: Kvinnor | B5: 16-24 | C5: 214 | D5: 213 | E5: 216
B6: 25-54 | C6: 1950 | D6: 2010 | E6: 2131
B7: 55-66* | C7: 550 | D7: 590 | E7: 524
B8: 16-66* | C8: 2714 | D8: 2813 | E8: 2871
A10: Män | B10: 16-24 | C10: 336 | D10: 320 | E10: 342
B11: 25-54 | C11: 1729 | D11: 1743 | E11: 1825
B12: 55-66* | C12: 627 | D12: 644 | E12: 579
B13: 16-66* | C13: 2692 | D13: 2707 | E13: 2746
A15: Samtliga | B15: 16-24 | C15: 550 | D15: 533 | E15: 558
B16: 25-54 | C16: 3679 | D16: 3753 | E16: 3956
B17: 55-66* | C17: 1177 | D17: 1234 | E17: 1103
B18: 16-66* | C18: 5406 | D18: 5520 | E18: 5617
A19: 1 Arbetslösa 25 år eller äldre som varit anmälda hos Arbetsförmedlingen i minst 12 månader och under den tiden inte haft ett arbete eller deltagit i ett program med aktivitetsstöd. Ungdomar under 25 år räknas som långtidsarbetslösa efter 6 månader.
A20: * Redovisningen t.o.m. december 2025 sker för åldersgruppen 16-65 år. Fr.o.m januari 2026 sker redovisningen för åldersgruppen 16-66 år, p.g.a. att pensionsåldern höjts till 67 år.

Sheet Tab9
A1: Tabell 9 Antalet kvarstående i UGA1 eller JOB i Hela staden efter kön över tid
D2: Kvinnor | H2: Män | L2: Samtliga
D3: =Månad!A2 -> Aug-26 | E3: =Månad!A3 -> Jul-26 | F3: =Månad!A4 -> Aug-25 | H3: =D3 -> Aug-26 | I3: =E3 -> Jul-26 | J3: =F3 -> Aug-25 | L3: =D3 -> Aug-26 | M3: =E3 -> Jul-26 | N3: =F3 -> Aug-25
D4: K1M1 | E4: K1M2 | F4: K1M3 | G4: col1 | H4: K2M1 | I4: K2M2 | J4: K2M3 | K4: col2 | L4: K3M1 | M4: K3M2 | N4: K3M3
A5: Kvarstående sökande i UGA | D5: 254 | E5: 279 | F5: 249 | H5: 322 | I5: 350 | J5: 402 | L5: 576 | M5: 629 | N5: 651
A6: Kvarstående sökande i JOB | D6: 4879 | E6: 4916 | F6: 5010 | H6: 4618 | I6: 4658 | J6: 4765 | L6: 9497 | M6: 9574 | N6: 9775
A7: 1 Jobbagaranti för ungdomar är en aktivitet för ungdomar som fyllt 16 men inte 25 år, och som under en period om tre sammanhängande månader varit arbetslösa och anmälda som arbetssökande hos Arbetsförmedlingen.
A8: * Redovisningen t.o.m. december 2025 sker för åldersgruppen 16-65 år. Fr.o.m januari 2026 sker redovisningen för åldersgruppen 16-66 år, p.g.a. att pensionsåldern höjts till 67 år.

Sheet Tab10
A1: Tabell 10 Antalet sökande i hela staden som fått arbete1 efter kassatillhörighet, ålder och kön
C2: Kassatillhörighet | I2: Ingen kassatillhörighet | L2: Totalt
C3: A-kassa | F3: Alfa
A4: Kön | B4: Ålder | C4: Antal | D4: % av öppet arbetslösa som fått arbete | F4: Antal | G4: % av öppet arbetslösa som fått arbete | I4: Antal | J4: % av öppet arbetslösa som fått arbete | L4: Antal | M4: % av öppet arbetslösa som fått arbete
C5: k1 | D5: col1 | E5: col2 | F5: k2 | G5: co14 | H5: col4 | I5: k3 | J5: col5 | K5: col6 | L5: col7 | M5: col8
A6: Kvinnor | B6: 16-24 | C6: 41 | D6: 30.597015 | F6: 18 | G6: 13.432836 | I6: 75 | J6: 55.970149 | L6: 134 | M6: 100
B7: 25-54 | C7: 1316 | D7: 80.489297 | F7: 138 | G7: 8.440367 | I7: 181 | J7: 11.070336 | L7: 1635 | M7: 100
B8: 55-66* | C8: 275 | D8: 88.709677 | F8: 16 | G8: 5.1612903 | I8: 19 | J8: 6.1290323 | L8: 310 | M8: 100
B9: 16-66* | C9: 1632 | D9: 78.499278 | F9: 172 | G9: 8.2732083 | I9: 275 | J9: 13.227513 | L9: 2079 | M9: 100
A11: Män | B11: 16-24 | C11: 45 | D11: 26.785714 | F11: 29 | G11: 17.261905 | I11: 94 | J11: 55.952381 | L11: 168 | M11: 100
B12: 25-54 | C12: 941 | D12: 77.067977 | F12: 141 | G12: 11.547912 | I12: 139 | J12: 11.384111 | L12: 1221 | M12: 100
B13: 55-66* | C13: 230 | D13: 83.333333 | F13: 22 | G13: 7.9710145 | I13: 24 | J13: 8.6956522 | L13: 276 | M13: 100
B14: 16-66* | C14: 1216 | D14: 73.033033 | F14: 192 | G14: 11.531532 | I14: 257 | J14: 15.435435 | L14: 1665 | M14: 100
A16: Samtliga | B16: 16-24 | C16: 86 | D16: 28.476821 | F16: 47 | G16: 15.562914 | I16: 169 | J16: 55.960265 | L16: 302 | M16: 100
B17: 25-54 | C17: 2257 | D17: 79.026611 | F17: 279 | G17: 9.7689076 | I17: 320 | J17: 11.204482 | L17: 2856 | M17: 100
B18: 55-66* | C18: 505 | D18: 86.177474 | F18: 38 | G18: 6.4846416 | I18: 43 | J18: 7.337884 | L18: 586 | M18: 100
B19: 16-66* | C19: 2848 | D19: 76.068376 | F19: 364 | G19: 9.7222222 | I19: 532 | J19: 14.209402 | L19: 3744 | M19: 100
A20: 1 Tillståndsförändring där det nya tillståndet innebär att man befinner sig i arbete enligt arbetsförmedlingens definition. En person har arbete om personen befinner sig i någon sökandekategori som innebär arbete eller om personen är avaktualiserad med en kod som innebär arbete.
A21: * Redovisningen t.o.m. december 2025 sker för åldersgruppen 16-65 år. Fr.o.m januari 2026 sker redovisningen för åldersgruppen 16-66 år, p.g.a. att pensionsåldern höjts till 67 år.

Sheet Tab11
A1: ="Tabell 11 Antalet sökande 16-66* år efter sökandegrupp i stadsdelsområdena - kvarstående sista "&(TEXT('Tab1'!$D$2,"MMMM"))&" "&TEXT('Tab1'!$D$2,"ÅÅÅÅ") -> Tabell 11 Antalet sökande 16-66* år efter sökandegrupp i stadsdelsområdena - kvarstående sista augusti 2026
B2: Öppet Arbetslösa | C2: Program med aktivitetsstöd | D2: Arbete utan stöd | E2: Arbete med stöd | F2: Övrigt inskrivna | G2: Nystartsjobb/ Etableringsjobb | H2: Samtliga sökande
B3: ARB | C3: PGM | D3: AUS | E3: AMS | F3: OVRYRI | G3: NYJ | H3: TOT
A4: Järva | B4: 3494 | C4: 3097 | D4: 1700 | E4: 368 | F4: 442 | G4: 327 | H4: 9428
A5: Hässelby-Vällingby | B5: 2246 | C5: 1697 | D5: 963 | E5: 379 | F5: 322 | G5: 152 | H5: 5759
A6: Bromma | B6: 1463 | C6: 716 | D6: 483 | E6: 211 | F6: 202 | G6: 44 | H6: 3119
A7: Kungsholmen | B7: 1347 | C7: 511 | D7: 345 | E7: 116 | F7: 121 | G7: 28 | H7: 2468
A8: Norra innerstaden | B8: 2569 | C8: 967 | D8: 678 | E8: 183 | F8: 269 | G8: 38 | H8: 4704
A9: Södermalm | B9: 2390 | C9: 1126 | D9: 822 | E9: 245 | F9: 343 | G9: 49 | H9: 4975
A10: Enskede-Årsta-Vantör | B10: 2634 | C10: 1676 | D10: 973 | E10: 410 | F10: 424 | G10: 146 | H10: 6263
A11: Skarpnäck | B11: 1159 | C11: 575 | D11: 406 | E11: 167 | F11: 173 | G11: 46 | H11: 2526
A12: Farsta | B12: 1487 | C12: 873 | D12: 545 | E12: 272 | F12: 275 | G12: 77 | H12: 3529
A13: Hägersten-Älvsjö | B13: 2608 | C13: 1263 | D13: 835 | E13: 336 | F13: 368 | G13: 74 | H13: 5484
A14: Skärholmen | B14: 1382 | C14: 1080 | D14: 517 | E14: 165 | F14: 246 | G14: 122 | H14: 3512
A15: Ej skrivna i Stockholms stad | B15: 1189 | C15: 602 | D15: 439 | E15: 157 | F15: 230 | G15: 94 | H15: 2711
A16: Hela staden | B16: 23968 | C16: 14183 | D16: 8706 | E16: 3009 | F16: 3415 | G16: 1197 | H16: 54478
A17: * Redovisningen t.o.m. december 2025 sker för åldersgruppen 16-65 år. Fr.o.m januari 2026 sker redovisningen för åldersgruppen 16-66 år, p.g.a. att pensionsåldern höjts till 67 år.

Sheet Tab12
A1: Tabell 12 Antalet sökande i JOB1 i stadsdelsområdena
B2: Sökande i JOB
B3: =Månad!A2 -> Aug-26 | C3: =Månad!A3 -> Jul-26 | D3: =Månad!A4 -> Aug-25
B4: M1 | C4: M2 | D4: M3
A5: Järva | B5: 2149 | C5: 2154 | D5: 2205
A6: Hässelby-Vällingby | B6: 1119 | C6: 1134 | D6: 1146
A7: Bromma | B7: 481 | C7: 493 | D7: 441
A8: Kungsholmen | B8: 354 | C8: 366 | D8: 364
A9: Norra innerstaden | B9: 670 | C9: 676 | D9: 614
A10: Södermalm | B10: 800 | C10: 815 | D10: 806
A11: Enskede-Årsta-Vantör | B11: 1026 | C11: 1026 | D11: 1039
A12: Skarpnäck | B12: 384 | C12: 382 | D12: 371
A13: Farsta | B13: 596 | C13: 596 | D13: 604
A14: Hägersten-Älvsjö | B14: 796 | C14: 816 | D14: 821
A15: Skärholmen | B15: 737 | C15: 728 | D15: 741
A16: Ej skrivna i Stockholms stad | B16: 385 | C16: 388 | D16: 623
A17: Hela staden | B17: 9497 | C17: 9574 | D17: 9775
A18: 1 Jobb och utvecklingsgarantin är en individuellt utformad åtgärd i anslutning till att den sökande blir utförsäkrad. Programmet är indelat i tre faser och ersatte aktivitetsgarantin som avskaffades 2 juli 2007.
A19: * Redovisningen t.o.m. december 2025 sker för åldersgruppen 16-65 år. Fr.o.m januari 2026 sker redovisningen för åldersgruppen 16-66 år, p.g.a. att pensionsåldern höjts till 67 år.

Sheet Tab13
A1: ="Tabell 13 Andelen öppet arbetslösa av befolkningen i stadsdelsområdena efter ålder och kön - kvarstående sista "&(TEXT('Tab1'!$D$2,"MMMM"))&" "&TEXT('Tab1'!$D$2,"ÅÅÅÅ") -> Tabell 13 Andelen öppet arbetslösa av befolkningen i stadsdelsområdena efter ålder och kön - kvarstående sista augusti 2026
C2: Öppet arbetslösa | G2: Befolkning | K2: % av befolkningen
B3: Ålder | C3: Kvinnor | D3: Män | E3: Totalt | G3: Kvinnor | H3: Män | I3: Totalt | K3: Kvinnor | L3: Män | M3: Totalt
C4: arb1 | D4: arb2 | E4: arb3 | F4: col1 | G4: bef1 | H4: bef2 | I4: bef3
A5: Järva | B5: 16-24 | C5: 194 | D5: 257 | E5: 451 | G5: 6223 | H5: 6373 | I5: 12596 | K5: =C5/G5*100 -> 3.1174675 | L5: =D5/H5*100 -> 4.0326377 | M5: =E5/I5*100 -> 3.5805017
B6: 25-54 | C6: 1421 | D6: 1169 | E6: 2590 | G6: 20567 | H6: 22845 | I6: 43412 | K6: =C6/G6*100 -> 6.9091263 | L6: =D6/H6*100 -> 5.1170935 | M6: =E6/I6*100 -> 5.9660923
B7: 55-66* | C7: 200 | D7: 253 | E7: 453 | G7: 5787 | H7: 6112 | I7: 11899 | K7: =C7/G7*100 -> 3.4560221 | L7: =D7/H7*100 -> 4.1393979 | M7: =E7/I7*100 -> 3.8070426
B8: 16-66* | C8: 1815 | D8: 1679 | E8: 3494 | G8: 32577 | H8: 35330 | I8: 67907 | K8: =C8/G8*100 -> 5.5714154 | L8: =D8/H8*100 -> 4.7523351 | M8: =E8/I8*100 -> 5.1452722
A10: Hässelby-Vällingby | B10: 16-24 | C10: 114 | D10: 193 | E10: 307 | G10: 4010 | H10: 4323 | I10: 8333 | K10: =C10/G10*100 -> 2.8428928 | L10: =D10/H10*100 -> 4.4644923 | M10: =E10/I10*100 -> 3.6841474
B11: 25-54 | C11: 828 | D11: 776 | E11: 1604 | G11: 16010 | H11: 16631 | I11: 32641 | K11: =C11/G11*100 -> 5.1717676 | L11: =D11/H11*100 -> 4.6659852 | M11: =E11/I11*100 -> 4.9140651
B12: 55-66* | C12: 165 | D12: 170 | E12: 335 | G12: 4842 | H12: 5111 | I12: 9953 | K12: =C12/G12*100 -> 3.4076828 | L12: =D12/H12*100 -> 3.3261593 | M12: =E12/I12*100 -> 3.3658194
B13: 16-66* | C13: 1107 | D13: 1139 | E13: 2246 | G13: 24862 | H13: 26065 | I13: 50927 | K13: =C13/G13*100 -> 4.4525782 | L13: =D13/H13*100 -> 4.3698446 | M13: =E13/I13*100 -> 4.4102343
A15: Bromma | B15: 16-24 | C15: 64 | D15: 84 | E15: 148 | G15: 4089 | H15: 4125 | I15: 8214 | K15: =C15/G15*100 -> 1.5651749 | L15: =D15/H15*100 -> 2.0363636 | M15: =E15/I15*100 -> 1.8018018
B16: 25-54 | C16: 504 | D16: 536 | E16: 1040 | G16: 18455 | H16: 18185 | I16: 36640 | K16: =C16/G16*100 -> 2.7309672 | L16: =D16/H16*100 -> 2.9474842 | M16: =E16/I16*100 -> 2.8384279
B17: 55-66* | C17: 137 | D17: 138 | E17: 275 | G17: 5816 | H17: 5529 | I17: 11345 | K17: =C17/G17*100 -> 2.3555708 | L17: =D17/H17*100 -> 2.4959305 | M17: =E17/I17*100 -> 2.4239753
B18: 16-66* | C18: 705 | D18: 758 | E18: 1463 | G18: 28360 | H18: 27839 | I18: 56199 | K18: =C18/G18*100 -> 2.4858956 | L18: =D18/H18*100 -> 2.722799 | M18: =E18/I18*100 -> 2.6032492
A20: Kungsholmen | B20: 16-24 | C20: 44 | D20: 42 | E20: 86 | G20: 2805 | H20: 2637 | I20: 5442 | K20: =C20/G20*100 -> 1.5686275 | L20: =D20/H20*100 -> 1.592719 | M20: =E20/I20*100 -> 1.5803014
B21: 25-54 | C21: 506 | D21: 457 | E21: 963 | G21: 17105 | H21: 16821 | I21: 33926 | K21: =C21/G21*100 -> 2.9581994 | L21: =D21/H21*100 -> 2.716842 | M21: =E21/I21*100 -> 2.8385309
B22: 55-66* | C22: 142 | D22: 156 | E22: 298 | G22: 5672 | H22: 5198 | I22: 10870 | K22: =C22/G22*100 -> 2.5035261 | L22: =D22/H22*100 -> 3.0011543 | M22: =E22/I22*100 -> 2.7414903
B23: 16-66* | C23: 692 | D23: 655 | E23: 1347 | G23: 25582 | H23: 24656 | I23: 50238 | K23: =C23/G23*100 -> 2.705027 | L23: =D23/H23*100 -> 2.6565542 | M23: =E23/I23*100 -> 2.6812373
A25: Norra innerstaden | B25: 16-24 | C25: 73 | D25: 102 | E25: 175 | G25: 7999 | H25: 8069 | I25: 16068 | K25: =C25/G25*100 -> 0.91261408 | L25: =D25/H25*100 -> 1.2640972 | M25: =E25/I25*100 -> 1.0891212
B26: 25-54 | C26: 945 | D26: 904 | E26: 1849 | G26: 34816 | H26: 35405 | I26: 70221 | K26: =C26/G26*100 -> 2.7142693 | L26: =D26/H26*100 -> 2.5533117 | M26: =E26/I26*100 -> 2.6331154
B27: 55-66* | C27: 291 | D27: 254 | E27: 545 | G27: 10985 | H27: 10279 | I27: 21264 | K27: =C27/G27*100 -> 2.6490669 | L27: =D27/H27*100 -> 2.4710575 | M27: =E27/I27*100 -> 2.5630173
B28: 16-66* | C28: 1309 | D28: 1260 | E28: 2569 | G28: 53800 | H28: 53753 | I28: 107553 | K28: =C28/G28*100 -> 2.4330855 | L28: =D28/H28*100 -> 2.3440552 | M28: =E28/I28*100 -> 2.3885898
A30: Södermalm | B30: 16-24 | C30: 78 | D30: 151 | E30: 229 | G30: 5562 | H30: 5396 | I30: 10958 | K30: =C30/G30*100 -> 1.4023732 | L30: =D30/H30*100 -> 2.7983692 | M30: =E30/I30*100 -> 2.0897974
B31: 25-54 | C31: 767 | D31: 817 | E31: 1584 | G31: 27995 | H31: 27654 | I31: 55649 | K31: =C31/G31*100 -> 2.739775 | L31: =D31/H31*100 -> 2.9543646 | M31: =E31/I31*100 -> 2.8464123
B32: 55-66* | C32: 276 | D32: 301 | E32: 577 | G32: 11428 | H32: 10530 | I32: 21958 | K32: =C32/G32*100 -> 2.4151208 | L32: =D32/H32*100 -> 2.8584995 | M32: =E32/I32*100 -> 2.6277439
B33: 16-66* | C33: 1121 | D33: 1269 | E33: 2390 | G33: 44985 | H33: 43580 | I33: 88565 | K33: =C33/G33*100 -> 2.4919418 | L33: =D33/H33*100 -> 2.9118862 | M33: =E33/I33*100 -> 2.698583
A35: Enskede-Årsta-Vantör | B35: 16-24 | C35: 121 | D35: 192 | E35: 313 | G35: 4927 | H35: 5084 | I35: 10011 | K35: =C35/G35*100 -> 2.4558555 | L35: =D35/H35*100 -> 3.7765539 | M35: =E35/I35*100 -> 3.1265608
B36: 25-54 | C36: 1033 | D36: 895 | E36: 1928 | G36: 25927 | H36: 25720 | I36: 51647 | K36: =C36/G36*100 -> 3.9842635 | L36: =D36/H36*100 -> 3.4797823 | M36: =E36/I36*100 -> 3.7330339
B37: 55-66* | C37: 174 | D37: 219 | E37: 393 | G37: 6729 | H37: 6695 | I37: 13424 | K37: =C37/G37*100 -> 2.5858226 | L37: =D37/H37*100 -> 3.2710978 | M37: =E37/I37*100 -> 2.9275924
B38: 16-66* | C38: 1328 | D38: 1306 | E38: 2634 | G38: 37583 | H38: 37499 | I38: 75082 | K38: =C38/G38*100 -> 3.5335125 | L38: =D38/H38*100 -> 3.4827595 | M38: =E38/I38*100 -> 3.5081644
A40: Skarpnäck | B40: 16-24 | C40: 52 | D40: 91 | E40: 143 | G40: 2160 | H40: 2187 | I40: 4347 | K40: =C40/G40*100 -> 2.4074074 | L40: =D40/H40*100 -> 4.1609511 | M40: =E40/I40*100 -> 3.289625
B41: 25-54 | C41: 418 | D41: 394 | E41: 812 | G41: 10936 | H41: 10088 | I41: 21024 | K41: =C41/G41*100 -> 3.8222385 | L41: =D41/H41*100 -> 3.9056305 | M41: =E41/I41*100 -> 3.8622527
B42: 55-66* | C42: 97 | D42: 107 | E42: 204 | G42: 3454 | H42: 3070 | I42: 6524 | K42: =C42/G42*100 -> 2.8083382 | L42: =D42/H42*100 -> 3.485342 | M42: =E42/I42*100 -> 3.126916
B43: 16-66* | C43: 567 | D43: 592 | E43: 1159 | G43: 16550 | H43: 15345 | I43: 31895 | K43: =C43/G43*100 -> 3.4259819 | L43: =D43/H43*100 -> 3.8579342 | M43: =E43/I43*100 -> 3.6337984
A45: Farsta | B45: 16-24 | C45: 84 | D45: 100 | E45: 184 | G45: 3092 | H45: 3176 | I45: 6268 | J45: 0 | K45: =C45/G45*100 -> 2.7166882 | L45: =D45/H45*100 -> 3.1486146 | M45: =E45/I45*100 -> 2.9355456
B46: 25-54 | C46: 514 | D46: 545 | E46: 1059 | G46: 13921 | H46: 13490 | I46: 27411 | J46: 0 | K46: =C46/G46*100 -> 3.6922635 | L46: =D46/H46*100 -> 4.0400297 | M46: =E46/I46*100 -> 3.8634125
B47: 55-66* | C47: 117 | D47: 127 | E47: 244 | G47: 4190 | H47: 3953 | I47: 8143 | J47: 0 | K47: =C47/G47*100 -> 2.7923628 | L47: =D47/H47*100 -> 3.2127498 | M47: =E47/I47*100 -> 2.9964387
B48: 16-66* | C48: 715 | D48: 772 | E48: 1487 | G48: 21203 | H48: 20619 | I48: 41822 | J48: 0 | K48: =C48/G48*100 -> 3.3721643 | L48: =D48/H48*100 -> 3.7441195 | M48: =E48/I48*100 -> 3.5555449
A50: Hägersten-Älvsjö | B50: 16-24 | C50: 112 | D50: 171 | E50: 283 | G50: 5833 | H50: 5767 | I50: 11600 | K50: =C50/G50*100 -> 1.9201097 | L50: =D50/H50*100 -> 2.9651465 | M50: =E50/I50*100 -> 2.4396552
B51: 25-54 | C51: 942 | D51: 914 | E51: 1856 | G51: 31463 | H51: 30267 | I51: 61730 | K51: =C51/G51*100 -> 2.9939929 | L51: =D51/H51*100 -> 3.0197905 | M51: =E51/I51*100 -> 3.0066418
B52: 55-66* | C52: 226 | D52: 243 | E52: 469 | G52: 8098 | H52: 7762 | I52: 15860 | K52: =C52/G52*100 -> 2.7908125 | L52: =D52/H52*100 -> 3.1306364 | M52: =E52/I52*100 -> 2.9571248
B53: 16-66* | C53: 1280 | D53: 1328 | E53: 2608 | G53: 45394 | H53: 43796 | I53: 89190 | K53: =C53/G53*100 -> 2.8197559 | L53: =D53/H53*100 -> 3.0322404 | M53: =E53/I53*100 -> 2.9240946
A54: ="fortsättning Tabell 13 Andelen öppet arbetslösa av befolkningen i stadsdelsområdena efter ålder och kön - kvarstående sista "&(TEXT('Tab1'!$D$2,"MMMM"))&" "&TEXT('Tab1'!$D$2,"ÅÅÅÅ") -> fortsättning Tabell 13 Andelen öppet arbetslösa av befolkningen i stadsdelsområdena efter ålder och kön - kvarstående sista augusti 2026
C55: Öppet arbetslösa | G55: Befolkning | K55: % av befolkningen
B56: Ålder | C56: Kvinnor | D56: Män | E56: Totalt | G56: Kvinnor | H56: Män | I56: Totalt | K56: Kvinnor | L56: Män | M56: Totalt
C57: arb1 | D57: arb2 | E57: arb3 | F57: col1 | G57: bef1 | H57: bef2 | I57: bef3
A58: Skärholmen | B58: 16-24 | C58: 65 | D58: 93 | E58: 158 | G58: 2148 | H58: 2287 | I58: 4435 | K58: =C58/G58*100 -> 3.0260708 | L58: =D58/H58*100 -> 4.0664626 | M58: =E58/I58*100 -> 3.5625705
B59: 25-54 | C59: 514 | D59: 479 | E59: 993 | G59: 8353 | H59: 8790 | I59: 17143 | K59: =C59/G59*100 -> 6.1534778 | L59: =D59/H59*100 -> 5.4493743 | M59: =E59/I59*100 -> 5.7924517
B60: 55-66* | C60: 111 | D60: 120 | E60: 231 | G60: 2428 | H60: 2604 | I60: 5032 | K60: =C60/G60*100 -> 4.5716639 | L60: =D60/H60*100 -> 4.6082949 | M60: =E60/I60*100 -> 4.59062
B61: 16-66* | C61: 690 | D61: 692 | E61: 1382 | G61: 12929 | H61: 13681 | I61: 26610 | K61: =C61/G61*100 -> 5.3368397 | L61: =D61/H61*100 -> 5.0581098 | M61: =E61/I61*100 -> 5.1935363
C62: arb1 | D62: arb2 | E62: arb3
A63: Ej skrivna i | B63: 16-24 | C63: 50 | D63: 68 | E63: 118 | G63: − | H63: − | I63: − | K63: − | L63: − | M63: −
A64: Stockholms stad | B64: 25-54 | C64: 425 | D64: 515 | E64: 940 | G64: − | H64: − | I64: − | K64: − | L64: − | M64: −
B65: 55-66* | C65: 49 | D65: 82 | E65: 131 | G65: − | H65: − | I65: − | K65: − | L65: − | M65: −
B66: 16-66* | C66: 524 | D66: 665 | E66: 1189 | G66: − | H66: − | I66: − | K66: − | L66: − | M66: −
C67: arb1 | D67: arb2 | E67: arb3 | F67: col1 | G67: bef1 | H67: bef2 | I67: bef3
A68: Hela staden | B68: 16-24 | C68: 1051 | D68: 1544 | E68: 2595 | G68: 48848 | H68: 49424 | I68: 98272 | K68: =C68/G68*100 -> 2.1515722 | L68: =D68/H68*100 -> 3.1239883 | M68: =E68/I68*100 -> 2.6406301
B69: 25-54 | C69: 8817 | D69: 8401 | E69: 17218 | G69: 225548 | H69: 225896 | I69: 451444 | K69: =C69/G69*100 -> 3.9091457 | L69: =D69/H69*100 -> 3.718968 | M69: =E69/I69*100 -> 3.8139836
B70: 55-66* | C70: 1985 | D70: 2170 | E70: 4155 | G70: 69429 | H70: 66843 | I70: 136272 | K70: =C70/G70*100 -> 2.8590358 | L70: =D70/H70*100 -> 3.2464132 | M70: =E70/I70*100 -> 3.049049
B71: 16-66* | C71: 11853 | D71: 12115 | E71: 23968 | G71: 343825 | H71: 342163 | I71: 685988 | K71: =C71/G71*100 -> 3.4473933 | L71: =D71/H71*100 -> 3.5407101 | M71: =E71/I71*100 -> 3.4939387
A72: * Redovisningen t.o.m. december 2025 sker för åldersgruppen 16-65 år. Fr.o.m januari 2026 sker redovisningen för åldersgruppen 16-66 år, p.g.a. att pensionsåldern höjts till 67 år.

Sheet Tab14
A1: Tabell 14 Andelen öppet arbetslösa av befolkningen i stadsdelsområdena efter ålder över tid
C2: Öppet arbetslösa | G2: Befolkning | K2: % av befolkningen
B3: Ålder | C3: =Månad!A2 -> Aug-26 | D3: =Månad!A3 -> Jul-26 | E3: =Månad!A4 -> Aug-25 | G3: =C3 -> Aug-26 | H3: =D3 -> Jul-26 | I3: =E3 -> Aug-25 | K3: =C3 -> Aug-26 | L3: =D3 -> Jul-26 | M3: =E3 -> Aug-25
C4: arbM1 | D4: arbM2 | E4: arbM3 | F4: col1 | G4: befM1 | H4: befM2 | I4: befM3
A5: Järva | B5: 16-24 | C5: 451 | D5: 417 | E5: 443 | G5: 12596 | H5: 12422 | I5: 12298 | K5: =C5/G5*100 -> 3.5805017 | L5: =D5/H5*100 -> 3.3569474 | M5: =E5/I5*100 -> 3.6022117
B6: 25-54 | C6: 2590 | D6: 2586 | E6: 2553 | G6: 43412 | H6: 43287 | I6: 42468 | K6: =C6/G6*100 -> 5.9660923 | L6: =D6/H6*100 -> 5.97408 | M6: =E6/I6*100 -> 6.0115852
B7: 55-66* | C7: 453 | D7: 471 | E7: 456 | G7: 11899 | H7: 11909 | I7: 11019 | K7: =C7/G7*100 -> 3.8070426 | L7: =D7/H7*100 -> 3.954992 | M7: =E7/I7*100 -> 4.1383066
B8: 16-66* | C8: 3494 | D8: 3474 | E8: 3452 | G8: 67907 | H8: 67618 | I8: 65785 | K8: =C8/G8*100 -> 5.1452722 | L8: =D8/H8*100 -> 5.1376852 | M8: =E8/I8*100 -> 5.2473968
A10: Hässelby- | B10: 16-24 | C10: 307 | D10: 282 | E10: 307 | G10: 8333 | H10: 8384 | I10: 8263 | K10: =C10/G10*100 -> 3.6841474 | L10: =D10/H10*100 -> 3.3635496 | M10: =E10/I10*100 -> 3.7153576
A11: Vällingby | B11: 25-54 | C11: 1604 | D11: 1682 | E11: 1708 | G11: 32641 | H11: 32610 | I11: 32937 | K11: =C11/G11*100 -> 4.9140651 | L11: =D11/H11*100 -> 5.157927 | M11: =E11/I11*100 -> 5.1856575
B12: 55-66* | C12: 335 | D12: 339 | E12: 330 | G12: 9953 | H12: 9942 | I12: 9108 | K12: =C12/G12*100 -> 3.3658194 | L12: =D12/H12*100 -> 3.4097767 | M12: =E12/I12*100 -> 3.6231884
B13: 16-66* | C13: 2246 | D13: 2303 | E13: 2345 | G13: 50927 | H13: 50936 | I13: 50308 | K13: =C13/G13*100 -> 4.4102343 | L13: =D13/H13*100 -> 4.5213601 | M13: =E13/I13*100 -> 4.6612865
A15: Bromma | B15: 16-24 | C15: 148 | D15: 134 | E15: 140 | G15: 8214 | H15: 8283 | I15: 8097 | K15: =C15/G15*100 -> 1.8018018 | L15: =D15/H15*100 -> 1.6177713 | M15: =E15/I15*100 -> 1.7290354
B16: 25-54 | C16: 1040 | D16: 1138 | E16: 982 | G16: 36640 | H16: 36688 | I16: 36969 | K16: =C16/G16*100 -> 2.8384279 | L16: =D16/H16*100 -> 3.1018317 | M16: =E16/I16*100 -> 2.6562796
B17: 55-66* | C17: 275 | D17: 268 | E17: 267 | G17: 11345 | H17: 11279 | I17: 10308 | K17: =C17/G17*100 -> 2.4239753 | L17: =D17/H17*100 -> 2.3760972 | M17: =E17/I17*100 -> 2.5902212
B18: 16-66* | C18: 1463 | D18: 1540 | E18: 1389 | G18: 56199 | H18: 56250 | I18: 55374 | K18: =C18/G18*100 -> 2.6032492 | L18: =D18/H18*100 -> 2.7377778 | M18: =E18/I18*100 -> 2.5083974
A20: Kungsholmen | B20: 16-24 | C20: 86 | D20: 77 | E20: 76 | G20: 5442 | H20: 5455 | I20: 5140 | K20: =C20/G20*100 -> 1.5803014 | L20: =D20/H20*100 -> 1.411549 | M20: =E20/I20*100 -> 1.4785992
B21: 25-54 | C21: 963 | D21: 1006 | E21: 955 | G21: 33926 | H21: 33872 | I21: 34245 | K21: =C21/G21*100 -> 2.8385309 | L21: =D21/H21*100 -> 2.9700047 | M21: =E21/I21*100 -> 2.7887283
B22: 55-66* | C22: 298 | D22: 329 | E22: 272 | G22: 10870 | H22: 10854 | I22: 9884 | K22: =C22/G22*100 -> 2.7414903 | L22: =D22/H22*100 -> 3.0311406 | M22: =E22/I22*100 -> 2.7519223
B23: 16-66* | C23: 1347 | D23: 1412 | E23: 1303 | G23: 50238 | H23: 50181 | I23: 49269 | K23: =C23/G23*100 -> 2.6812373 | L23: =D23/H23*100 -> 2.813814 | M23: =E23/I23*100 -> 2.644665
A25: Norra innerstaden | B25: 16-24 | C25: 175 | D25: 139 | E25: 170 | G25: 16068 | H25: 15700 | I25: 15538 | J25: 0 | K25: =C25/G25*100 -> 1.0891212 | L25: =D25/H25*100 -> 0.88535032 | M25: =E25/I25*100 -> 1.0940919
B26: 25-54 | C26: 1849 | D26: 1993 | E26: 1952 | G26: 70221 | H26: 70168 | I26: 70651 | K26: =C26/G26*100 -> 2.6331154 | L26: =D26/H26*100 -> 2.8403261 | M26: =E26/I26*100 -> 2.7628767
B27: 55-66* | C27: 545 | D27: 578 | E27: 496 | G27: 21264 | H27: 21235 | I27: 19406 | K27: =C27/G27*100 -> 2.5630173 | L27: =D27/H27*100 -> 2.7219214 | M27: =E27/I27*100 -> 2.5559105
B28: 16-66* | C28: 2569 | D28: 2710 | E28: 2618 | G28: 107553 | H28: 107103 | I28: 105595 | K28: =C28/G28*100 -> 2.3885898 | L28: =D28/H28*100 -> 2.5302746 | M28: =E28/I28*100 -> 2.4792841
A30: Södermalm | B30: 16-24 | C30: 229 | D30: 196 | E30: 201 | G30: 10958 | H30: 10995 | I30: 10640 | K30: =C30/G30*100 -> 2.0897974 | L30: =D30/H30*100 -> 1.7826285 | M30: =E30/I30*100 -> 1.8890977
B31: 25-54 | C31: 1584 | D31: 1701 | E31: 1695 | G31: 55649 | H31: 55719 | I31: 56266 | K31: =C31/G31*100 -> 2.8464123 | L31: =D31/H31*100 -> 3.0528186 | M31: =E31/I31*100 -> 3.0124765
B32: 55-66* | C32: 577 | D32: 605 | E32: 522 | G32: 21958 | H32: 21933 | I32: 20044 | K32: =C32/G32*100 -> 2.6277439 | L32: =D32/H32*100 -> 2.7584006 | M32: =E32/I32*100 -> 2.6042706
B33: 16-66* | C33: 2390 | D33: 2502 | E33: 2418 | G33: 88565 | H33: 88647 | I33: 86950 | K33: =C33/G33*100 -> 2.698583 | L33: =D33/H33*100 -> 2.8224305 | M33: =E33/I33*100 -> 2.7809086
A35: Enskede-Årsta- | B35: 16-24 | C35: 313 | D35: 291 | E35: 318 | G35: 10011 | H35: 10060 | I35: 9791 | K35: =C35/G35*100 -> 3.1265608 | L35: =D35/H35*100 -> 2.8926441 | M35: =E35/I35*100 -> 3.2478807
A36: Vantör | B36: 25-54 | C36: 1928 | D36: 1984 | E36: 2067 | G36: 51647 | H36: 51543 | I36: 51600 | J36: 0 | K36: =C36/G36*100 -> 3.7330339 | L36: =D36/H36*100 -> 3.8492133 | M36: =E36/I36*100 -> 4.005814
B37: 55-66* | C37: 393 | D37: 424 | E37: 400 | G37: 13424 | H37: 13387 | I37: 12348 | K37: =C37/G37*100 -> 2.9275924 | L37: =D37/H37*100 -> 3.1672518 | M37: =E37/I37*100 -> 3.239391
B38: 16-66* | C38: 2634 | D38: 2699 | E38: 2785 | G38: 75082 | H38: 74990 | I38: 73739 | K38: =C38/G38*100 -> 3.5081644 | L38: =D38/H38*100 -> 3.5991466 | M38: =E38/I38*100 -> 3.7768345
A40: Skarpnäck | B40: 16-24 | C40: 143 | D40: 114 | E40: 103 | G40: 4347 | H40: 4322 | I40: 4279 | K40: =C40/G40*100 -> 3.289625 | L40: =D40/H40*100 -> 2.6376677 | M40: =E40/I40*100 -> 2.4071045
B41: 25-54 | C41: 812 | D41: 889 | E41: 761 | G41: 21024 | H41: 21003 | I41: 21186 | K41: =C41/G41*100 -> 3.8622527 | L41: =D41/H41*100 -> 4.2327287 | M41: =E41/I41*100 -> 3.5919947
B42: 55-66* | C42: 204 | D42: 206 | E42: 196 | G42: 6524 | H42: 6507 | I42: 6077 | K42: =C42/G42*100 -> 3.126916 | L42: =D42/H42*100 -> 3.1658214 | M42: =E42/I42*100 -> 3.2252756
B43: 16-66* | C43: 1159 | D43: 1209 | E43: 1060 | G43: 31895 | H43: 31832 | I43: 31542 | K43: =C43/G43*100 -> 3.6337984 | L43: =D43/H43*100 -> 3.7980648 | M43: =E43/I43*100 -> 3.3605986
A45: Farsta | B45: 16-24 | C45: 184 | D45: 176 | E45: 201 | G45: 6268 | H45: 6256 | I45: 6118 | J45: 0 | K45: =C45/G45*100 -> 2.9355456 | L45: =D45/H45*100 -> 2.8132992 | M45: =E45/I45*100 -> 3.2853874
B46: 25-54 | C46: 1059 | D46: 1090 | E46: 1087 | G46: 27411 | H46: 27410 | I46: 27330 | J46: 0 | K46: =C46/G46*100 -> 3.8634125 | L46: =D46/H46*100 -> 3.9766509 | M46: =E46/I46*100 -> 3.9773143
B47: 55-66* | C47: 244 | D47: 254 | E47: 243 | G47: 8143 | H47: 8131 | I47: 7390 | J47: 0 | K47: =C47/G47*100 -> 2.9964387 | L47: =D47/H47*100 -> 3.123847 | M47: =E47/I47*100 -> 3.2882273
B48: 16-66* | C48: 1487 | D48: 1520 | E48: 1531 | G48: 41822 | H48: 41797 | I48: 40838 | J48: 0 | K48: =C48/G48*100 -> 3.5555449 | L48: =D48/H48*100 -> 3.6366246 | M48: =E48/I48*100 -> 3.7489593
A50: Hägersten-Älvsjö | B50: 16-24 | C50: 283 | D50: 254 | E50: 251 | G50: 11600 | H50: 11624 | I50: 11088 | K50: =C50/G50*100 -> 2.4396552 | L50: =D50/H50*100 -> 2.1851342 | M50: =E50/I50*100 -> 2.2637085
B51: 25-54 | C51: 1856 | D51: 1948 | E51: 1815 | G51: 61730 | H51: 61838 | I51: 61991 | K51: =C51/G51*100 -> 3.0066418 | L51: =D51/H51*100 -> 3.1501666 | M51: =E51/I51*100 -> 2.9278444
B52: 55-66* | C52: 469 | D52: 484 | E52: 419 | G52: 15860 | H52: 15856 | I52: 14362 | K52: =C52/G52*100 -> 2.9571248 | L52: =D52/H52*100 -> 3.0524723 | M52: =E52/I52*100 -> 2.917421
B53: 16-66* | C53: 2608 | D53: 2686 | E53: 2485 | G53: 89190 | H53: 89318 | I53: 87441 | K53: =C53/G53*100 -> 2.9240946 | L53: =D53/H53*100 -> 3.0072326 | M53: =E53/I53*100 -> 2.8419163
A54: ="fortsättning Tabell 14 Andelen öppet arbetslösa av befolkningen i stadsdelsområdena efter ålder över sista "&(TEXT('Tab1'!$D$2,"MMMM"))&" "&TEXT('Tab1'!$D$2,"ÅÅÅÅ") -> fortsättning Tabell 14 Andelen öppet arbetslösa av befolkningen i stadsdelsområdena efter ålder över sista augusti 2026
C55: Öppet arbetslösa | G55: Befolkning | K55: % av befolkningen
B56: Ålder | C56: =C3 -> Aug-26 | D56: =D3 -> Jul-26 | E56: =E3 -> Aug-25 | G56: =G3 -> Aug-26 | H56: =H3 -> Jul-26 | I56: =I3 -> Aug-25 | K56: =C56 -> Aug-26 | L56: =D56 -> Jul-26 | M56: =E56 -> Aug-25
C57: arbM1 | D57: arbM2 | E57: arbM3 | F57: col1 | G57: befM1 | H57: befM2 | I57: befM3
A58: Skärholmen | B58: 16-24 | C58: 158 | D58: 145 | E58: 167 | G58: 4435 | H58: 4444 | I58: 4386 | K58: =C58/G58*100 -> 3.5625705 | L58: =D58/H58*100 -> 3.2628263 | M58: =E58/I58*100 -> 3.8075695
B59: 25-54 | C59: 993 | D59: 1018 | E59: 1070 | G59: 17143 | H59: 17150 | I59: 17168 | K59: =C59/G59*100 -> 5.7924517 | L59: =D59/H59*100 -> 5.9358601 | M59: =E59/I59*100 -> 6.2325256
B60: 55-66* | C60: 231 | D60: 233 | E60: 240 | G60: 5032 | H60: 5034 | I60: 4680 | K60: =C60/G60*100 -> 4.59062 | L60: =D60/H60*100 -> 4.628526 | M60: =E60/I60*100 -> 5.1282051
B61: 16-66* | C61: 1382 | D61: 1396 | E61: 1477 | G61: 26610 | H61: 26628 | I61: 26234 | K61: =C61/G61*100 -> 5.1935363 | L61: =D61/H61*100 -> 5.2426018 | M61: =E61/I61*100 -> 5.6300983
C62: arbM1 | D62: arbM2 | E62: arbM3
A63: Ej skrivna i | B63: 16-24 | C63: 118 | D63: 117 | E63: 219 | G63: − | H63: − | I63: − | K63: − | L63: − | M63: −
A64: Stockholms stad | B64: 25-54 | C64: 940 | D64: 932 | E64: 1717 | G64: − | H64: − | I64: − | K64: − | L64: − | M64: −
B65: 55-66* | C65: 131 | D65: 140 | E65: 214 | G65: − | H65: − | I65: − | K65: − | L65: − | M65: −
B66: 16-66* | C66: 1189 | D66: 1189 | E66: 2150 | G66: − | H66: − | I66: − | K66: − | L66: − | M66: −
C67: arbM1 | D67: arbM2 | E67: arbM3 | F67: col1 | G67: befM1 | H67: befM2 | I67: befM3
A68: Hela staden | B68: 16-24 | C68: 2595 | D68: 2342 | E68: 2596 | G68: 98272 | H68: 97945 | I68: 95638 | K68: =C68/G68*100 -> 2.6406301 | L68: =D68/H68*100 -> 2.3911379 | M68: =E68/I68*100 -> 2.7144022
B69: 25-54 | C69: 17218 | D69: 17967 | E69: 18362 | G69: 451444 | H69: 451288 | I69: 452811 | K69: =C69/G69*100 -> 3.8139836 | L69: =D69/H69*100 -> 3.9812714 | M69: =E69/I69*100 -> 4.0551135
B70: 55-66* | C70: 4155 | D70: 4331 | E70: 4055 | G70: 136272 | H70: 136067 | I70: 124626 | K70: =C70/G70*100 -> 3.049049 | L70: =D70/H70*100 -> 3.1829907 | M70: =E70/I70*100 -> 3.2537352
B71: 16-66* | C71: 23968 | D71: 24640 | E71: 25013 | G71: 685988 | H71: 685300 | I71: 673075 | K71: =C71/G71*100 -> 3.4939387 | L71: =D71/H71*100 -> 3.5955056 | M71: =E71/I71*100 -> 3.7162278
A72: * Redovisningen t.o.m. december 2025 sker för åldersgruppen 16-65 år. Fr.o.m januari 2026 sker redovisningen för åldersgruppen 16-66 år, p.g.a. att pensionsåldern höjts till 67 år.

Sheet Tab15
A1: Tabell 15 Andelen långtidsarbetslösa1 av öppet arbetslösa 16-66* år i stadsdelsområdena över tid
B2: Öppet arbetslösa | F2: Varav långtidsarbetslösa | J2: Långtidsarbetslösas andel av öppet arbetslösa (%)
B3: =Månad!A2 -> Aug-26 | C3: =Månad!A3 -> Jul-26 | D3: =Månad!A4 -> Aug-25 | F3: =B3 -> Aug-26 | G3: =C3 -> Jul-26 | H3: =D3 -> Aug-25 | I3: =E3 -> 0 | J3: =B3 -> Aug-26 | K3: =C3 -> Jul-26 | L3: =D3 -> Aug-25
B4: M1 | C4: M2 | D4: M3 | E4: col1 | F4: LAM1 | G4: LAM2 | H4: LAM3
A5: Järva | B5: 3494 | C5: 3474 | D5: 3452 | F5: 898 | G5: 876 | H5: 941 | J5: =F5/B5*100 -> 25.701202 | K5: =G5/C5*100 -> 25.215889 | L5: =H5/D5*100 -> 27.25956
A6: Hässelby-Vällingby | B6: 2246 | C6: 2303 | D6: 2345 | F6: 610 | G6: 616 | H6: 614 | J6: =F6/B6*100 -> 27.159394 | K6: =G6/C6*100 -> 26.74772 | L6: =H6/D6*100 -> 26.183369
A7: Bromma | B7: 1463 | C7: 1540 | D7: 1389 | F7: 292 | G7: 316 | H7: 263 | J7: =F7/B7*100 -> 19.958988 | K7: =G7/C7*100 -> 20.519481 | L7: =H7/D7*100 -> 18.934485
A8: Kungsholmen | B8: 1347 | C8: 1412 | D8: 1303 | F8: 241 | G8: 257 | H8: 214 | J8: =F8/B8*100 -> 17.891611 | K8: =G8/C8*100 -> 18.201133 | L8: =H8/D8*100 -> 16.423638
A9: Norra innerstaden | B9: 2569 | C9: 2710 | D9: 2618 | F9: 507 | G9: 521 | H9: 450 | J9: =F9/B9*100 -> 19.735306 | K9: =G9/C9*100 -> 19.225092 | L9: =H9/D9*100 -> 17.188694
A10: Södermalm | B10: 2390 | C10: 2502 | D10: 2418 | F10: 418 | G10: 439 | H10: 460 | J10: =F10/B10*100 -> 17.48954 | K10: =G10/C10*100 -> 17.545963 | L10: =H10/D10*100 -> 19.023987
A11: Enskede-Årsta-Vantör | B11: 2634 | C11: 2699 | D11: 2785 | F11: 580 | G11: 597 | H11: 629 | J11: =F11/B11*100 -> 22.019742 | K11: =G11/C11*100 -> 22.119303 | L11: =H11/D11*100 -> 22.585278
A12: Skarpnäck | B12: 1159 | C12: 1209 | D12: 1060 | F12: 248 | G12: 258 | H12: 238 | J12: =F12/B12*100 -> 21.397757 | K12: =G12/C12*100 -> 21.33995 | L12: =H12/D12*100 -> 22.45283
A13: Farsta | B13: 1487 | C13: 1520 | D13: 1531 | F13: 365 | G13: 372 | H13: 385 | J13: =F13/B13*100 -> 24.546066 | K13: =G13/C13*100 -> 24.473684 | L13: =H13/D13*100 -> 25.146963
A14: Hägersten-Älvsjö | B14: 2608 | C14: 2686 | D14: 2485 | F14: 517 | G14: 514 | H14: 488 | J14: =F14/B14*100 -> 19.82362 | K14: =G14/C14*100 -> 19.136262 | L14: =H14/D14*100 -> 19.637827
A15: Skärholmen | B15: 1382 | C15: 1396 | D15: 1477 | F15: 391 | G15: 403 | H15: 431 | J15: =F15/B15*100 -> 28.29233 | K15: =G15/C15*100 -> 28.868195 | L15: =H15/D15*100 -> 29.180772
A16: Ej skrivna i Stockholms stad | B16: 1189 | C16: 1189 | D16: 2150 | F16: 339 | G16: 351 | H16: 504 | J16: =F16/B16*100 -> 28.511354 | K16: =G16/C16*100 -> 29.520606 | L16: =H16/D16*100 -> 23.44186
A17: Hela staden | B17: 23968 | C17: 24640 | D17: 25013 | F17: 5406 | G17: 5520 | H17: 5617 | J17: =F17/B17*100 -> 22.555073 | K17: =G17/C17*100 -> 22.402597 | L17: =H17/D17*100 -> 22.456323
A18: 1 Arbetslösa 25 år eller äldre som varit anmälda hos Arbetsförmedlingen i minst 12 månader och under den tiden inte haft ett arbete eller deltagit i ett program med aktivitetsstöd. Ungdomar under 25 år räknas som långtidsarbetslösa efter 6 månader.
A19: * Redovisningen t.o.m. december 2025 sker för åldersgruppen 16-65 år. Fr.o.m januari 2026 sker redovisningen för åldersgruppen 16-66 år, p.g.a. att pensionsåldern höjts till 67 år.

Sheet Tab16
A1: ="Tabell 16 Andelen öppet arbetslösa av befolkningen i stadsdelsområdena efter ålder och födelseland - kvarstående sista "&(TEXT('Tab1'!$D$2,"MMMM"))&" "&TEXT('Tab1'!$D$2,"ÅÅÅÅ") -> Tabell 16 Andelen öppet arbetslösa av befolkningen i stadsdelsområdena efter ålder och födelseland - kvarstående sista augusti 2026
C2: Öppet arbetslösa | G2: Befolkning | K2: % av befolkningen
B3: Ålder | C3: Sv.född | D3: Utl.född | E3: Samtliga | G3: Sv.född | H3: Utl.född | I3: Samtliga | K3: Sv.född | L3: Utl.född | M3: Samtliga
C4: arb1 | D4: arb2 | E4: arb3 | F4: col1 | G4: bef1 | H4: bef2 | I4: bef3
A5: Järva | B5: 16-24 | C5: 271 | D5: 180 | E5: 451 | G5: 7918 | H5: 4678 | I5: 12596 | K5: =C5/G5*100 -> 3.4225815 | L5: =D5/H5*100 -> 3.8477982 | M5: =E5/I5*100 -> 3.5805017
B6: 25-54 | C6: 557 | D6: 2033 | E6: 2590 | G6: 13191 | H6: 30221 | I6: 43412 | K6: =C6/G6*100 -> 4.222576 | L6: =D6/H6*100 -> 6.7271103 | M6: =E6/I6*100 -> 5.9660923
B7: 55-66* | C7: 72 | D7: 381 | E7: 453 | G7: 2929 | H7: 8970 | I7: 11899 | K7: =C7/G7*100 -> 2.4581769 | L7: =D7/H7*100 -> 4.2474916 | M7: =E7/I7*100 -> 3.8070426
B8: 16-66* | C8: 900 | D8: 2594 | E8: 3494 | G8: 24038 | H8: 43869 | I8: 67907 | K8: =C8/G8*100 -> 3.7440719 | L8: =D8/H8*100 -> 5.9130593 | M8: =E8/I8*100 -> 5.1452722
A10: Hässelby- | B10: 16-24 | C10: 222 | D10: 85 | E10: 307 | G10: 6440 | H10: 1893 | I10: 8333 | K10: =C10/G10*100 -> 3.447205 | L10: =D10/H10*100 -> 4.4902272 | M10: =E10/I10*100 -> 3.6841474
A11: Vällingby | B11: 25-54 | C11: 525 | D11: 1079 | E11: 1604 | G11: 15946 | H11: 16695 | I11: 32641 | K11: =C11/G11*100 -> 3.2923617 | L11: =D11/H11*100 -> 6.4630129 | M11: =E11/I11*100 -> 4.9140651
B12: 55-66* | C12: 144 | D12: 191 | E12: 335 | G12: 5401 | H12: 4552 | I12: 9953 | K12: =C12/G12*100 -> 2.6661729 | L12: =D12/H12*100 -> 4.1959578 | M12: =E12/I12*100 -> 3.3658194
B13: 16-66* | C13: 891 | D13: 1355 | E13: 2246 | G13: 27787 | H13: 23140 | I13: 50927 | K13: =C13/G13*100 -> 3.2065354 | L13: =D13/H13*100 -> 5.8556612 | M13: =E13/I13*100 -> 4.4102343
A15: Bromma | B15: 16-24 | C15: 127 | D15: 21 | E15: 148 | G15: 7317 | H15: 897 | I15: 8214 | K15: =C15/G15*100 -> 1.735684 | L15: =D15/H15*100 -> 2.3411371 | M15: =E15/I15*100 -> 1.8018018
B16: 25-54 | C16: 620 | D16: 420 | E16: 1040 | G16: 27377 | H16: 9263 | I16: 36640 | K16: =C16/G16*100 -> 2.2646747 | L16: =D16/H16*100 -> 4.5341682 | M16: =E16/I16*100 -> 2.8384279
B17: 55-66* | C17: 208 | D17: 67 | E17: 275 | G17: 9298 | H17: 2047 | I17: 11345 | K17: =C17/G17*100 -> 2.2370402 | L17: =D17/H17*100 -> 3.2730826 | M17: =E17/I17*100 -> 2.4239753
B18: 16-66* | C18: 955 | D18: 508 | E18: 1463 | G18: 43992 | H18: 12207 | I18: 56199 | K18: =C18/G18*100 -> 2.1708492 | L18: =D18/H18*100 -> 4.1615467 | M18: =E18/I18*100 -> 2.6032492
A20: Kungsholmen | B20: 16-24 | C20: 66 | D20: 20 | E20: 86 | G20: 4738 | H20: 704 | I20: 5442 | K20: =C20/G20*100 -> 1.3929928 | L20: =D20/H20*100 -> 2.8409091 | M20: =E20/I20*100 -> 1.5803014
B21: 25-54 | C21: 642 | D21: 321 | E21: 963 | G21: 26087 | H21: 7839 | I21: 33926 | K21: =C21/G21*100 -> 2.4609959 | L21: =D21/H21*100 -> 4.0949101 | M21: =E21/I21*100 -> 2.8385309
B22: 55-66* | C22: 245 | D22: 53 | E22: 298 | G22: 8970 | H22: 1900 | I22: 10870 | K22: =C22/G22*100 -> 2.7313266 | L22: =D22/H22*100 -> 2.7894737 | M22: =E22/I22*100 -> 2.7414903
B23: 16-66* | C23: 953 | D23: 394 | E23: 1347 | G23: 39795 | H23: 10443 | I23: 50238 | K23: =C23/G23*100 -> 2.3947732 | L23: =D23/H23*100 -> 3.7728622 | M23: =E23/I23*100 -> 2.6812373
A25: Norra innerstaden | B25: 16-24 | C25: 142 | D25: 33 | E25: 175 | G25: 12832 | H25: 3236 | I25: 16068 | K25: =C25/G25*100 -> 1.1066085 | L25: =D25/H25*100 -> 1.0197775 | M25: =E25/I25*100 -> 1.0891212
B26: 25-54 | C26: 1229 | D26: 620 | E26: 1849 | G26: 52052 | H26: 18169 | I26: 70221 | K26: =C26/G26*100 -> 2.3611004 | L26: =D26/H26*100 -> 3.4124057 | M26: =E26/I26*100 -> 2.6331154
B27: 55-66* | C27: 439 | D27: 106 | E27: 545 | G27: 17696 | H27: 3568 | I27: 21264 | K27: =C27/G27*100 -> 2.4807866 | L27: =D27/H27*100 -> 2.970852 | M27: =E27/I27*100 -> 2.5630173
B28: 16-66* | C28: 1810 | D28: 759 | E28: 2569 | G28: 82580 | H28: 24973 | I28: 107553 | K28: =C28/G28*100 -> 2.191814 | L28: =D28/H28*100 -> 3.0392824 | M28: =E28/I28*100 -> 2.3885898
A30: Södermalm | B30: 16-24 | C30: 202 | D30: 27 | E30: 229 | G30: 9846 | H30: 1112 | I30: 10958 | K30: =C30/G30*100 -> 2.0515946 | L30: =D30/H30*100 -> 2.4280576 | M30: =E30/I30*100 -> 2.0897974
B31: 25-54 | C31: 1124 | D31: 460 | E31: 1584 | G31: 43811 | H31: 11838 | I31: 55649 | K31: =C31/G31*100 -> 2.5655657 | L31: =D31/H31*100 -> 3.8857915 | M31: =E31/I31*100 -> 2.8464123
B32: 55-66* | C32: 470 | D32: 107 | E32: 577 | G32: 18503 | H32: 3455 | I32: 21958 | K32: =C32/G32*100 -> 2.5401286 | L32: =D32/H32*100 -> 3.0969609 | M32: =E32/I32*100 -> 2.6277439
B33: 16-66* | C33: 1796 | D33: 594 | E33: 2390 | G33: 72160 | H33: 16405 | I33: 88565 | K33: =C33/G33*100 -> 2.4889135 | L33: =D33/H33*100 -> 3.6208473 | M33: =E33/I33*100 -> 2.698583
A35: Enskede-Årsta- | B35: 16-24 | C35: 234 | D35: 79 | E35: 313 | G35: 7973 | H35: 2038 | I35: 10011 | K35: =C35/G35*100 -> 2.9349053 | L35: =D35/H35*100 -> 3.8763494 | M35: =E35/I35*100 -> 3.1265608
A36: Vantör | B36: 25-54 | C36: 967 | D36: 961 | E36: 1928 | G36: 33085 | H36: 18562 | I36: 51647 | K36: =C36/G36*100 -> 2.9227747 | L36: =D36/H36*100 -> 5.1772438 | M36: =E36/I36*100 -> 3.7330339
B37: 55-66* | C37: 187 | D37: 206 | E37: 393 | G37: 8552 | H37: 4872 | I37: 13424 | K37: =C37/G37*100 -> 2.186623 | L37: =D37/H37*100 -> 4.228243 | M37: =E37/I37*100 -> 2.9275924
B38: 16-66* | C38: 1388 | D38: 1246 | E38: 2634 | G38: 49610 | H38: 25472 | I38: 75082 | K38: =C38/G38*100 -> 2.797823 | L38: =D38/H38*100 -> 4.8916457 | M38: =E38/I38*100 -> 3.5081644
A40: Skarpnäck | B40: 16-24 | C40: 114 | D40: 29 | E40: 143 | G40: 3825 | H40: 522 | I40: 4347 | K40: =C40/G40*100 -> 2.9803922 | L40: =D40/H40*100 -> 5.5555556 | M40: =E40/I40*100 -> 3.289625
B41: 25-54 | C41: 489 | D41: 323 | E41: 812 | G41: 15847 | H41: 5177 | I41: 21024 | K41: =C41/G41*100 -> 3.0857576 | L41: =D41/H41*100 -> 6.2391346 | M41: =E41/I41*100 -> 3.8622527
B42: 55-66* | C42: 129 | D42: 75 | E42: 204 | G42: 4858 | H42: 1666 | I42: 6524 | K42: =C42/G42*100 -> 2.6554138 | L42: =D42/H42*100 -> 4.5018007 | M42: =E42/I42*100 -> 3.126916
B43: 16-66* | C43: 732 | D43: 427 | E43: 1159 | G43: 24530 | H43: 7365 | I43: 31895 | K43: =C43/G43*100 -> 2.9841011 | L43: =D43/H43*100 -> 5.7976918 | M43: =E43/I43*100 -> 3.6337984
A45: Farsta | B45: 16-24 | C45: 153 | D45: 31 | E45: 184 | G45: 5417 | H45: 851 | I45: 6268 | K45: =C45/G45*100 -> 2.8244416 | L45: =D45/H45*100 -> 3.6427732 | M45: =E45/I45*100 -> 2.9355456
B46: 25-54 | C46: 573 | D46: 486 | E46: 1059 | G46: 18730 | H46: 8681 | I46: 27411 | K46: =C46/G46*100 -> 3.0592632 | L46: =D46/H46*100 -> 5.5984334 | M46: =E46/I46*100 -> 3.8634125
B47: 55-66* | C47: 122 | D47: 122 | E47: 244 | G47: 5376 | H47: 2767 | I47: 8143 | K47: =C47/G47*100 -> 2.2693452 | L47: =D47/H47*100 -> 4.4091073 | M47: =E47/I47*100 -> 2.9964387
B48: 16-66* | C48: 848 | D48: 639 | E48: 1487 | G48: 29523 | H48: 12299 | I48: 41822 | K48: =C48/G48*100 -> 2.8723368 | L48: =D48/H48*100 -> 5.1955444 | M48: =E48/I48*100 -> 3.5555449
A50: Hägersten-Älvsjö | B50: 16-24 | C50: 237 | D50: 46 | E50: 283 | G50: 10320 | H50: 1280 | I50: 11600 | K50: =C50/G50*100 -> 2.2965116 | L50: =D50/H50*100 -> 3.59375 | M50: =E50/I50*100 -> 2.4396552
B51: 25-54 | C51: 1171 | D51: 685 | E51: 1856 | G51: 45637 | H51: 16093 | I51: 61730 | K51: =C51/G51*100 -> 2.5659005 | L51: =D51/H51*100 -> 4.256509 | M51: =E51/I51*100 -> 3.0066418
B52: 55-66* | C52: 310 | D52: 159 | E52: 469 | G52: 12243 | H52: 3617 | I52: 15860 | K52: =C52/G52*100 -> 2.5320591 | L52: =D52/H52*100 -> 4.3959082 | M52: =E52/I52*100 -> 2.9571248
B53: 16-66* | C53: 1718 | D53: 890 | E53: 2608 | G53: 68200 | H53: 20990 | I53: 89190 | K53: =C53/G53*100 -> 2.5190616 | L53: =D53/H53*100 -> 4.2401143 | M53: =E53/I53*100 -> 2.9240946
A54: ="Tabell 16 Andelen öppet arbetslösa av befolkningen i stadsdelsområdena efter ålder och födelseland - kvarstående sista "&(TEXT('Tab1'!$D$2,"MMMM"))&" "&TEXT('Tab1'!$D$2,"ÅÅÅÅ") -> Tabell 16 Andelen öppet arbetslösa av befolkningen i stadsdelsområdena efter ålder och födelseland - kvarstående sista augusti 2026
C55: Öppet arbetslösa | G55: Befolkning | K55: % av befolkningen
B56: Ålder | C56: Sv.född | D56: Utl.född | E56: Samtliga | G56: Sv.född | H56: Utl.född | I56: Samtliga | K56: Sv.född | L56: Utl.född | M56: Samtliga
C57: arb1 | D57: arb2 | E57: arb3 | F57: col1 | G57: bef1 | H57: bef2 | I57: bef3
A58: Skärholmen | B58: 16-24 | C58: 100 | D58: 58 | E58: 158 | G58: 2982 | H58: 1453 | I58: 4435 | K58: =C58/G58*100 -> 3.3534541 | L58: =D58/H58*100 -> 3.9917412 | M58: =E58/I58*100 -> 3.5625705
B59: 25-54 | C59: 270 | D59: 723 | E59: 993 | G59: 5746 | H59: 11397 | I59: 17143 | K59: =C59/G59*100 -> 4.698921 | L59: =D59/H59*100 -> 6.3437747 | M59: =E59/I59*100 -> 5.7924517
B60: 55-66* | C60: 37 | D60: 194 | E60: 231 | G60: 1055 | H60: 3977 | I60: 5032 | K60: =C60/G60*100 -> 3.507109 | L60: =D60/H60*100 -> 4.8780488 | M60: =E60/I60*100 -> 4.59062
B61: 16-66* | C61: 407 | D61: 975 | E61: 1382 | G61: 9783 | H61: 16827 | I61: 26610 | K61: =C61/G61*100 -> 4.160278 | L61: =D61/H61*100 -> 5.7942592 | M61: =E61/I61*100 -> 5.1935363
C62: arb1 | D62: arb2 | E62: arb3
A63: Ej skrivna i | B63: 16-24 | C63: 69 | D63: 49 | E63: 118 | G63: − | H63: − | I63: − | K63: − | L63: − | M63: −
A64: Stockholms stad | B64: 25-54 | C64: 407 | D64: 533 | E64: 940 | G64: − | H64: − | I64: − | K64: − | L64: − | M64: −
B65: 55-66* | C65: 56 | D65: 75 | E65: 131 | G65: − | H65: − | I65: − | K65: − | L65: − | M65: −
B66: 16-66* | C66: 532 | D66: 657 | E66: 1189 | G66: − | H66: − | I66: − | K66: − | L66: − | M66: −
C67: arb1 | D67: arb2 | E67: arb3 | F67: col1 | G67: bef1 | H67: bef2 | I67: bef3
A68: Hela staden | B68: 16-24 | C68: 1937 | D68: 658 | E68: 2595 | G68: 79608 | H68: 18664 | I68: 98272 | K68: =C68/G68*100 -> 2.4331725 | L68: =D68/H68*100 -> 3.5255036 | M68: =E68/I68*100 -> 2.6406301
B69: 25-54 | C69: 8574 | D69: 8644 | E69: 17218 | G69: 297509 | H69: 153935 | I69: 451444 | K69: =C69/G69*100 -> 2.8819296 | L69: =D69/H69*100 -> 5.6153571 | M69: =E69/I69*100 -> 3.8139836
B70: 55-66* | C70: 2419 | D70: 1736 | E70: 4155 | G70: 94881 | H70: 41391 | I70: 136272 | K70: =C70/G70*100 -> 2.5495094 | L70: =D70/H70*100 -> 4.1941485 | M70: =E70/I70*100 -> 3.049049
B71: 16-66* | C71: 12930 | D71: 11038 | E71: 23968 | G71: 471998 | H71: 213990 | I71: 685988 | K71: =C71/G71*100 -> 2.7394184 | L71: =D71/H71*100 -> 5.158185 | M71: =E71/I71*100 -> 3.4939387
A72: * Redovisningen t.o.m. december 2025 sker för åldersgruppen 16-65 år. Fr.o.m januari 2026 sker redovisningen för åldersgruppen 16-66 år, p.g.a. att pensionsåldern höjts till 67 år.

Sheet Tab17
A1: ="Tabell 17 Antalet öppet arbetslösa efter födelseland i stadsdelsområdena, 16-66* år - kvarstående sista "&(TEXT('Tab1'!$D$2,"MMMM"))&" "&TEXT('Tab1'!$D$2,"ÅÅÅÅ") -> Tabell 17 Antalet öppet arbetslösa efter födelseland i stadsdelsområdena, 16-66* år - kvarstående sista augusti 2026
B2: Sverige | E2: Norden (exkl Sv) | H2: EU (exkl Norden) | K2: Övriga Europa (exkl Norden och EU) | N2: Övriga världen (exkl Europa) | Q2: Totalt
B3: Antal | C3: % | E3: Antal | F3: % | H3: Antal | I3: % | K3: Antal | L3: % | N3: Antal | O3: % | Q3: Antal | R3: %
B4: Fl1 | C4: kv1 | D4: col1 | E4: Fl2 | F4: kv2 | G4: col2 | H4: Fl3 | I4: kv3 | J4: col3 | K4: Fl4 | L4: kv4 | M4: col4 | N4: Fl5 | O4: kv5 | P4: col5 | Q4: fl6 | R4: kv6
A5: Järva | B5: 900 | C5: 33.23486 | E5: 13 | F5: 0.48005908 | H5: 114 | I5: 4.2097489 | K5: 177 | L5: 6.5361891 | N5: 2290 | O5: 84.564254 | Q5: 3494 | R5: 100
A6: Hässelby-Vällingby | B6: 891 | C6: 58.773087 | E6: 17 | F6: 1.121372 | H6: 161 | I6: 10.620053 | K6: 164 | L6: 10.817942 | N6: 1013 | O6: 66.82058 | Q6: 2246 | R6: 100
A7: Bromma | B7: 955 | C7: 159.43239 | E7: 28 | F7: 4.6744574 | H7: 91 | I7: 15.191987 | K7: 78 | L7: 13.021703 | N7: 311 | O7: 51.919866 | Q7: 1463 | R7: 100
A8: Kungsholmen | B8: 953 | C8: 204.94624 | E8: 26 | F8: 5.5913978 | H8: 71 | I8: 15.268817 | K8: 70 | L8: 15.053763 | N8: 227 | O8: 48.817204 | Q8: 1347 | R8: 100
A9: Norra innerstaden | B9: 1810 | C9: 204.05862 | E9: 48 | F9: 5.4114994 | H9: 128 | I9: 14.430665 | K9: 126 | L9: 14.205186 | N9: 457 | O9: 51.521984 | Q9: 2569 | R9: 100
A10: Södermalm | B10: 1796 | C10: 252.60197 | E10: 49 | F10: 6.8917018 | H10: 117 | I10: 16.455696 | K10: 97 | L10: 13.642757 | N10: 331 | O10: 46.554149 | Q10: 2390 | R10: 100
A11: Enskede-Årsta-Vantör | B11: 1388 | C11: 99.284692 | E11: 38 | F11: 2.7181688 | H11: 152 | I11: 10.872675 | K11: 204 | L11: 14.592275 | N11: 852 | O11: 60.944206 | Q11: 2634 | R11: 100
A12: Skarpnäck | B12: 732 | C12: 146.4 | E12: 27 | F12: 5.4 | H12: 73 | I12: 14.6 | K12: 64 | L12: 12.8 | N12: 263 | O12: 52.6 | Q12: 1159 | R12: 100
A13: Farsta | B13: 848 | C13: 117.28907 | E13: 13 | F13: 1.7980636 | H13: 84 | I13: 11.618257 | K13: 93 | L13: 12.863071 | N13: 449 | O13: 62.102351 | Q13: 1487 | R13: 100
A14: Hägersten-Älvsjö | B14: 1718 | C14: 167.77344 | E14: 38 | F14: 3.7109375 | H14: 134 | I14: 13.085938 | K14: 177 | L14: 17.285156 | N14: 541 | O14: 52.832031 | Q14: 2608 | R14: 100
A15: Skärholmen | B15: 407 | C15: 38.215962 | E15: 14 | F15: 1.314554 | H15: 90 | I15: 8.4507042 | K15: 155 | L15: 14.553991 | N15: 716 | O15: 67.230047 | Q15: 1382 | R15: 100
A16: Ej skrivna i Stockholms stad | B16: 532 | C16: 74.198047 | E16: 10 | F16: 1.3947001 | H16: 60 | I16: 8.3682008 | K16: 72 | L16: 10.041841 | N16: 515 | O16: 71.827057 | Q16: 1189 | R16: 100
A17: Hela staden | B17: 12930 | C17: 105.01096 | E17: 321 | F17: 2.6070007 | H17: 1275 | I17: 10.354909 | K17: 1477 | L17: 11.995452 | N17: 7965 | O17: 64.687728 | Q17: 23968 | R17: 100
A18: * Redovisningen t.o.m. december 2025 sker för åldersgruppen 16-65 år. Fr.o.m januari 2026 sker redovisningen för åldersgruppen 16-66 år, p.g.a. att pensionsåldern höjts till 67 år.

Sheet Tab18
A1: Tabell 18 Antalet arbetssökande 16-66* år som är nyanlända1 i stadsdelsområdena över tid
B2: Samtliga sökande | F2: Varav öppet arbetslösa
B3: =Månad!A2 -> Aug-26 | C3: =Månad!A3 -> Jul-26 | D3: =Månad!A4 -> Aug-25 | F3: =B3 -> Aug-26 | G3: =C3 -> Jul-26 | H3: =D3 -> Aug-25 | I3: =E3 -> 0
B4: M1 | C4: M2 | D4: M3 | E4: col1 | F4: OAM1 | G4: OAM2 | H4: OAM3
A5: Järva | B5: 460 | C5: 452 | D5: 465 | F5: 211 | G5: 207 | H5: 210
A6: Hässelby-Vällingby | B6: 410 | C6: 399 | D6: 458 | F6: 136 | G6: 125 | H6: 141
A7: Bromma | B7: 112 | C7: 114 | D7: 98 | F7: 51 | G7: 54 | H7: 41
A8: Kungsholmen | B8: 76 | C8: 76 | D8: 81 | F8: 30 | G8: 29 | H8: 23
A9: Norra innerstaden | B9: 98 | C9: 113 | D9: 118 | F9: 52 | G9: 60 | H9: 55
A10: Södermalm | B10: 94 | C10: 96 | D10: 128 | F10: 33 | G10: 34 | H10: 52
A11: Enskede-Årsta-Vantör | B11: 467 | C11: 468 | D11: 527 | F11: 136 | G11: 137 | H11: 138
A12: Skarpnäck | B12: 69 | C12: 63 | D12: 71 | F12: 32 | G12: 27 | H12: 28
A13: Farsta | B13: 130 | C13: 135 | D13: 160 | F13: 52 | G13: 50 | H13: 64
A14: Hägersten-Älvsjö | B14: 235 | C14: 238 | D14: 247 | F14: 67 | G14: 70 | H14: 71
A15: Skärholmen | B15: 225 | C15: 220 | D15: 244 | F15: 65 | G15: 62 | H15: 86
A16: Ej skrivna i Stockholms stad | B16: 122 | C16: 134 | D16: 239 | F16: 39 | G16: 45 | H16: 110
A17: Hela staden | B17: 2498 | C17: 2508 | D17: 2836 | F17: 904 | G17: 900 | H17: 1019
A18: 1 En sökande kategoriseras som nyanländ fram till tre år efter första folkbokföringen i Sverige.
A19: * Redovisningen t.o.m. december 2025 sker för åldersgruppen 16-65 år. Fr.o.m januari 2026 sker redovisningen för åldersgruppen 16-66 år, p.g.a. att pensionsåldern höjts till 67 år.

Sheet Tab19
A1: ="Tabell 19 Antalet öppet arbetslösa 16-66* år efter kassatillhörighet i stadsdelsområdena - kvarstående sista "&(TEXT('Tab1'!$D$2,"MMMM"))&" "&TEXT('Tab1'!$D$2,"ÅÅÅÅ") -> Tabell 19 Antalet öppet arbetslösa 16-66* år efter kassatillhörighet i stadsdelsområdena - kvarstående sista augusti 2026
B2: Kassatillhörighet | H2: Ingen kassatillhörighet | K2: Totalt
B3: A-kassa | E3: Alfa
B4: Antal | C4: % av öppet arbetslösa | E4: Antal | F4: % av öppet arbetslösa | H4: Antal | I4: % av öppet arbetslösa | K4: Antal | L4: % av öppet arbetslösa
B5: K1 | C5: kv1 | D5: col1 | E5: K2 | F5: kv2 | G5: col2 | H5: K3 | I5: kv3 | J5: col3 | K5: K4 | L5: kv4
A6: Järva | B6: 1764 | C6: 50.486548 | E6: 477 | F6: 13.651975 | H6: 1253 | I6: 35.861477 | K6: 3494 | L6: 100
A7: Hässelby-Vällingby | B7: 1237 | C7: 55.07569 | E7: 309 | F7: 13.757792 | H7: 700 | I7: 31.166518 | K7: 2246 | L7: 100
A8: Bromma | B8: 963 | C8: 65.82365 | E8: 182 | F8: 12.440191 | H8: 318 | I8: 21.736159 | K8: 1463 | L8: 100
A9: Kungsholmen | B9: 993 | C9: 73.719376 | E9: 132 | F9: 9.7995546 | H9: 222 | I9: 16.481069 | K9: 1347 | L9: 100
A10: Norra innerstaden | B10: 1850 | C10: 72.012456 | E10: 278 | F10: 10.821331 | H10: 441 | I10: 17.166213 | K10: 2569 | L10: 100
A11: Södermalm | B11: 1714 | C11: 71.715481 | E11: 249 | F11: 10.41841 | H11: 427 | I11: 17.866109 | K11: 2390 | L11: 100
A12: Enskede-Årsta-Vantör | B12: 1572 | C12: 59.681093 | E12: 366 | F12: 13.895216 | H12: 696 | I12: 26.42369 | K12: 2634 | L12: 100
A13: Skarpnäck | B13: 719 | C13: 62.036238 | E13: 139 | F13: 11.993097 | H13: 301 | I13: 25.970664 | K13: 1159 | L13: 100
A14: Farsta | B14: 882 | C14: 59.314055 | E14: 211 | F14: 14.189644 | H14: 394 | I14: 26.496301 | K14: 1487 | L14: 100
A15: Hägersten-Älvsjö | B15: 1736 | C15: 66.564417 | E15: 299 | F15: 11.464724 | H15: 573 | I15: 21.970859 | K15: 2608 | L15: 100
A16: Skärholmen | B16: 772 | C16: 55.861071 | E16: 210 | F16: 15.195369 | H16: 400 | I16: 28.94356 | K16: 1382 | L16: 100
A17: Ej skrivna i Stockholms stad | B17: 595 | C17: 50.042052 | E17: 186 | F17: 15.643398 | H17: 408 | I17: 34.31455 | K17: 1189 | L17: 100
A18: Hela staden | B18: 14797 | C18: 61.736482 | E18: 3038 | F18: 12.675234 | H18: 6133 | I18: 25.588284 | K18: 23968 | L18: 100
A19: * Redovisningen t.o.m. december 2025 sker för åldersgruppen 16-65 år. Fr.o.m januari 2026 sker redovisningen för åldersgruppen 16-66 år, p.g.a. att pensionsåldern höjts till 67 år.

Sheet Tab20-21
A1: Tabell 20 Antalet öppet sökande 16-66* år som fått arbete1 samt kvarstående arbetslösa i stadsdelsområdena över tid
B2: Sökande som fått arbete | G2: Öppet Arbetslösa
B3: =Månad!A2 -> Aug-26 | C3: =Månad!A3 -> Jul-26 | D3: =Månad!A4 -> Aug-25 | G3: =B24 -> Aug-26 | H3: =C3 -> Jul-26 | I3: =D3 -> Aug-25
B4: LMM1 | C4: LMM2 | D4: LMM3 | E4: col1 | F4: col2 | G4: M1 | H4: M2 | I4: M3
A5: Järva | B5: 375 | C5: 340 | D5: 347 | G5: 3494 | H5: 3474 | I5: 3452
A6: Hässelby-Vällingby | B6: 312 | C6: 188 | D6: 265 | G6: 2246 | H6: 2303 | I6: 2345
A7: Bromma | B7: 266 | C7: 118 | D7: 232 | G7: 1463 | H7: 1540 | I7: 1389
A8: Kungsholmen | B8: 227 | C8: 88 | D8: 216 | G8: 1347 | H8: 1412 | I8: 1303
A9: Norra innerstaden | B9: 443 | C9: 152 | D9: 422 | G9: 2569 | H9: 2710 | I9: 2618
A10: Södermalm | B10: 453 | C10: 219 | D10: 469 | G10: 2390 | H10: 2502 | I10: 2418
A11: Enskede-Årsta-Vantör | B11: 413 | C11: 229 | D11: 419 | G11: 2634 | H11: 2699 | I11: 2785
A12: Skarpnäck | B12: 215 | C12: 86 | D12: 170 | G12: 1159 | H12: 1209 | I12: 1060
A13: Farsta | B13: 257 | C13: 135 | D13: 233 | G13: 1487 | H13: 1520 | I13: 1531
A14: Hägersten-Älvsjö | B14: 474 | C14: 220 | D14: 442 | G14: 2608 | H14: 2686 | I14: 2485
A15: Skärholmen | B15: 167 | C15: 141 | D15: 174 | G15: 1382 | H15: 1396 | I15: 1477
A16: Ej skrivna i Stockholms stad | B16: 142 | C16: 94 | D16: 325 | G16: 1189 | H16: 1189 | I16: 2150
A17: Hela staden | B17: 3744 | C17: 2010 | D17: 3714 | G17: 23968 | H17: 24640 | I17: 25013
A18: 1 Tillståndsförändring där det nya tillståndet innebär att man befinner sig i arbete enligt arbetsförmdlingens definition. En person har arbete om personen befinner sig i någon sökandekategori som innebär arbete eller om personen är avaktualiserad med en kod som innebär arbete.
A19: * Redovisningen t.o.m. december 2025 sker för åldersgruppen 16-65 år. Fr.o.m januari 2026 sker redovisningen för åldersgruppen 16-66 år, p.g.a. att pensionsåldern höjts till 67 år.
A22: Tabell 21 Antalet långtidsarbetslösa1 16-66* år per stadsdelsområdena över tid
B23: Antalet långtidsarbetslösa
B24: =Månad!A2 -> Aug-26 | C24: =Månad!A3 -> Jul-26 | D24: =Månad!A4 -> Aug-25
B25: M1 | C25: M2 | D25: M3
A26: Järva | B26: 898 | C26: 876 | D26: 941
A27: Hässelby-Vällingby | B27: 610 | C27: 616 | D27: 614
A28: Bromma | B28: 292 | C28: 316 | D28: 263
A29: Kungsholmen | B29: 241 | C29: 257 | D29: 214
A30: Norra innerstaden | B30: 507 | C30: 521 | D30: 450
A31: Södermalm | B31: 418 | C31: 439 | D31: 460
A32: Enskede-Årsta-Vantör | B32: 580 | C32: 597 | D32: 629
A33: Skarpnäck | B33: 248 | C33: 258 | D33: 238
A34: Farsta | B34: 365 | C34: 372 | D34: 385
A35: Hägersten-Älvsjö | B35: 517 | C35: 514 | D35: 488
A36: Skärholmen | B36: 391 | C36: 403 | D36: 431
A37: Ej skrivna i Stockholms stad | B37: 339 | C37: 351 | D37: 504
A38: Samtliga | B38: 5406 | C38: 5520 | D38: 5617
A39: 1 Arbetslösa 25 år eller äldre som varit anmälda hos Arbetsförmedlingen i minst 12 månader och under den tiden inte haft ett arbete eller deltagit i ett program med aktivitetsstöd. Ungdomar under 25 år räknas som långtidsarbetslösa efter 6 månader.
A40: * Redovisningen t.o.m. december 2025 sker för åldersgruppen 16-65 år. Fr.o.m januari 2026 sker redovisningen för åldersgruppen 16-66 år, p.g.a. att pensionsåldern höjts till 67 år.

Sheet Tab22
A1: ="Tabell 22 Antalet sökande 16-66* år som fått arbete" & CHAR(185) & " eller är kvarstående arbetslösa efter födelseland i stadsdelsområdena - sista "&(TEXT(Månad!A2,"MMMM"))&" "&TEXT(Månad!A2,"ÅÅÅÅ") -> Tabell 22 Antalet sökande 16-66* år som fått arbete¹ eller är kvarstående arbetslösa efter födelseland i stadsdelsområdena - sista augusti 2026
B2: Sökande som fått arbete | F2: Varav ej kvarvarande sökande hos AF2 | J2: Öppet Arbetslösa
B3: Svensk- födda | C3: Utlands-födda | D3: Samtliga | F3: Svensk- födda | G3: Utlands-födda | H3: Samtliga | J3: Svensk- födda | K3: Utlands-födda | L3: Samtliga
B4: FA1 | C4: FA2 | D4: fa3 | E4: col1 | F4: EJ1 | G4: EJ2 | H4: ej3 | I4: col2 | J4: OA1 | K4: OA2 | L4: oa3
A5: Järva | B5: 106 | C5: 269 | D5: 375 | F5: 88 | G5: 167 | H5: 255 | J5: 900 | K5: 2594 | L5: 3494
A6: Hässelby-Vällingby | B6: 145 | C6: 167 | D6: 312 | F6: 108 | G6: 110 | H6: 218 | J6: 891 | K6: 1355 | L6: 2246
A7: Bromma | B7: 189 | C7: 77 | D7: 266 | F7: 146 | G7: 51 | H7: 197 | J7: 955 | K7: 508 | L7: 1463
A8: Kungsholmen | B8: 177 | C8: 50 | D8: 227 | F8: 143 | G8: 33 | H8: 176 | J8: 953 | K8: 394 | L8: 1347
A9: Norra innerstaden | B9: 338 | C9: 105 | D9: 443 | F9: 277 | G9: 86 | H9: 363 | J9: 1810 | K9: 759 | L9: 2569
A10: Södermalm | B10: 360 | C10: 93 | D10: 453 | F10: 274 | G10: 70 | H10: 344 | J10: 1796 | K10: 594 | L10: 2390
A11: Enskede-Årsta-Vantör | B11: 280 | C11: 133 | D11: 413 | F11: 208 | G11: 85 | H11: 293 | J11: 1388 | K11: 1246 | L11: 2634
A12: Skarpnäck | B12: 160 | C12: 55 | D12: 215 | F12: 122 | G12: 38 | H12: 160 | J12: 732 | K12: 427 | L12: 1159
A13: Farsta | B13: 170 | C13: 87 | D13: 257 | F13: 130 | G13: 54 | H13: 184 | J13: 848 | K13: 639 | L13: 1487
A14: Hägersten-Älvsjö | B14: 347 | C14: 127 | D14: 474 | F14: 253 | G14: 89 | H14: 342 | J14: 1718 | K14: 890 | L14: 2608
A15: Skärholmen | B15: 64 | C15: 103 | D15: 167 | F15: 46 | G15: 48 | H15: 94 | J15: 407 | K15: 975 | L15: 1382
A16: Ej skrivna i Stockholms stad | B16: 79 | C16: 63 | D16: 142 | F16: 61 | G16: 51 | H16: 112 | J16: 532 | K16: 657 | L16: 1189
A17: Hela Staden | B17: 2415 | C17: 1329 | D17: 3744 | F17: 1856 | G17: 882 | H17: 2738 | J17: 12930 | K17: 11038 | L17: 23968
A18: 1 Tillståndsförändring där det nya tillståndet innebär att man befinner sig i arbete enligt arbetsförmedlingens definition. En person har arbete om personen befinner sig i någon sökandekategori som innebär arbete eller om personen är avaktualiserad med en kod som innebär arbete.
A19: 2 Har fått tillsvidare anställning, tidsbegränsad anställning, fortsatt anställning hos samma arbetsgivare eller anställning hos Samhall.
A20: * Redovisningen t.o.m. december 2025 sker för åldersgruppen 16-65 år. Fr.o.m januari 2026 sker redovisningen för åldersgruppen 16-66 år, p.g.a. att pensionsåldern höjts till 67 år.

Sheet Tab23
A1: ="Tabell 23 Antalet öppet arbetslösa 16-66* år som fått arbete1 efter kassatillhörighet i stadsdelsområdena - sista "&(TEXT(Månad!A2,"MMMM"))&" "&TEXT(Månad!A2,"ÅÅÅÅ") -> Tabell 23 Antalet öppet arbetslösa 16-66* år som fått arbete1 efter kassatillhörighet i stadsdelsområdena - sista augusti 2026
B2: Kassatillhörighet | H2: Ingen kassatillhörighet | K2: Totalt
B3: A-kassa | E3: Alfa
B4: Antal | C4: % av antal arbetslösa | E4: Antal | F4: % av antal arbetslösa | H4: Antal | I4: % av antal arbetslösa | K4: Antal | L4: % av antal arbetslösa
B5: k1 | C5: col1 | D5: col2 | E5: k2 | F5: co14 | G5: col4 | H5: k3 | I5: col5 | J5: col6 | K5: col7 | L5: col8
A6: Järva | B6: 251 | C6: 66.933333 | E6: 51 | F6: 13.6 | H6: 73 | I6: 19.466667 | K6: 375 | L6: 100
A7: Hässelby-Vällingby | B7: 216 | C7: 69.230769 | E7: 36 | F7: 11.538462 | H7: 60 | I7: 19.230769 | K7: 312 | L7: 100
A8: Bromma | B8: 213 | C8: 80.075188 | E8: 26 | F8: 9.7744361 | H8: 27 | I8: 10.150376 | K8: 266 | L8: 100
A9: Kungsholmen | B9: 179 | C9: 78.854626 | E9: 20 | F9: 8.8105727 | H9: 28 | I9: 12.334802 | K9: 227 | L9: 100
A10: Norra innerstaden | B10: 352 | C10: 79.458239 | E10: 37 | F10: 8.3521445 | H10: 54 | I10: 12.189616 | K10: 443 | L10: 100
A11: Södermalm | B11: 364 | C11: 80.353201 | E11: 40 | F11: 8.8300221 | H11: 49 | I11: 10.816777 | K11: 453 | L11: 100
A12: Enskede-Årsta-Vantör | B12: 316 | C12: 76.513317 | E12: 41 | F12: 9.9273608 | H12: 56 | I12: 13.559322 | K12: 413 | L12: 100
A13: Skarpnäck | B13: 171 | C13: 79.534884 | E13: 18 | F13: 8.372093 | H13: 26 | I13: 12.093023 | K13: 215 | L13: 100
A14: Farsta | B14: 204 | C14: 79.377432 | E14: 20 | F14: 7.7821012 | H14: 33 | I14: 12.840467 | K14: 257 | L14: 100
A15: Hägersten-Älvsjö | B15: 376 | C15: 79.324895 | E15: 33 | F15: 6.9620253 | H15: 65 | I15: 13.71308 | K15: 474 | L15: 100
A16: Skärholmen | B16: 108 | C16: 64.670659 | E16: 23 | F16: 13.772455 | H16: 36 | I16: 21.556886 | K16: 167 | L16: 100
A17: Ej skrivna i Stockholms stad | B17: 98 | C17: 69.014085 | E17: 19 | F17: 13.380282 | H17: 25 | I17: 17.605634 | K17: 142 | L17: 100
A18: Hela staden | B18: 2848 | C18: 76.068376 | E18: 364 | F18: 9.7222222 | H18: 532 | I18: 14.209402 | K18: 3744 | L18: 100
A19: 1 Tillståndsförändring där det nya tillståndet innebär att man befinner sig i arbete enligt arbetsförmdlingens definition. En person har arbete om personen befinner sig i någon sökandekategori som innebär arbete eller om personen är avaktualiserad med en kod som innebär arbete.
A20: * Redovisningen t.o.m. december 2025 sker för åldersgruppen 16-65 år. Fr.o.m januari 2026 sker redovisningen för åldersgruppen 16-66 år, p.g.a. att pensionsåldern höjts till 67 år.

Sheet Tab24
A1: Tabell 24 Tidsserie över antalet öppet arbetslösa i Hela staden och stadsdelsområdena, 16-66* år
A2: Period | B2: Järva | C2: Hässelby-Vällingby | D2: Bromma | E2: Kungs-holmen | F2: Norra-innerstaden | G2: Söder-malm | H2: Enskede-Årsta-Vantör | I2: Skarp-näck | J2: Farsta | K2: Hägersten-Älvsjö | L2: Skär-holmen | M2: Ej skrivna i staden | N2: Hela staden
A4: period | B4: 1 | C4: 4 | D4: 6 | E4: 8 | F4: 9 | G4: 12 | H4: 14 | I4: 15 | J4: 18 | K4: 22 | L4: 24 | M4: 99 | N4: 999
A5: 2023-08 | B5: 3187 | C5: 1878 | D5: 1043 | E5: 977 | F5: 1981 | G5: 2005 | H5: 2283 | I5: 844 | J5: 1215 | K5: 1996 | L5: 1102 | M5: 1525 | N5: 20036
A6: 2023-09 | B6: 3219 | C6: 1959 | D6: 1053 | E6: 981 | F6: 1938 | G6: 1952 | H6: 2247 | I6: 808 | J6: 1182 | K6: 1991 | L6: 1144 | M6: 1559 | N6: 20033
A7: 2023-10 | B7: 3276 | C7: 1934 | D7: 1033 | E7: 981 | F7: 1905 | G7: 1986 | H7: 2287 | I7: 788 | J7: 1189 | K7: 1975 | L7: 1151 | M7: 1618 | N7: 20123
A8: 2023-11 | B8: 3265 | C8: 1896 | D8: 1040 | E8: 988 | F8: 1919 | G8: 1981 | H8: 2251 | I8: 796 | J8: 1184 | K8: 1987 | L8: 1183 | M8: 1567 | N8: 20057
A9: 2023-12 | B9: 3371 | C9: 1957 | D9: 1102 | E9: 1012 | F9: 2022 | G9: 2095 | H9: 2337 | I9: 835 | J9: 1227 | K9: 2080 | L9: 1228 | M9: 1641 | N9: 20907
A10: 2024-01 | B10: 3468 | C10: 1945 | D10: 1147 | E10: 1001 | F10: 2055 | G10: 2119 | H10: 2353 | I10: 860 | J10: 1249 | K10: 2084 | L10: 1258 | M10: 1705 | N10: 21244
A11: 2024-02 | B11: 3376 | C11: 1957 | D11: 1115 | E11: 995 | F11: 2095 | G11: 2088 | H11: 2301 | I11: 882 | J11: 1263 | K11: 2106 | L11: 1280 | M11: 1719 | N11: 21177
A12: 2024-03 | B12: 3223 | C12: 1979 | D12: 1106 | E12: 973 | F12: 2014 | G12: 2103 | H12: 2333 | I12: 883 | J12: 1245 | K12: 2082 | L12: 1306 | M12: 1722 | N12: 20969
A13: 2024-04 | B13: 3195 | C13: 1900 | D13: 1088 | E13: 966 | F13: 2040 | G13: 2058 | H13: 2322 | I13: 889 | J13: 1233 | K13: 2087 | L13: 1337 | M13: 1638 | N13: 20753
A14: 2024-05 | B14: 3165 | C14: 1955 | D14: 1131 | E14: 1008 | F14: 2060 | G14: 2066 | H14: 2353 | I14: 918 | J14: 1262 | K14: 2189 | L14: 1329 | M14: 1644 | N14: 21080
A15: 2024-06 | B15: 3370 | C15: 2127 | D15: 1219 | E15: 1091 | F15: 2217 | G15: 2294 | H15: 2587 | I15: 1008 | J15: 1342 | K15: 2370 | L15: 1332 | M15: 1822 | N15: 22779
A16: 2024-07 | B16: 3478 | C16: 2198 | D16: 1310 | E16: 1193 | F16: 2368 | G16: 2511 | H16: 2699 | I16: 1074 | J16: 1413 | K16: 2602 | L16: 1400 | M16: 1886 | N16: 24132
... A41: 2026-08 | B41: 3494 | C41: 2246 | D41: 1463 | E41: 1347 | F41: 2569 | G41: 2390 | H41: 2634 | I41: 1159 | J41: 1487 | K41: 2608 | L41: 1382 | M41: 1189 | N41: 23968
A42: * Redovisningen t.o.m. december 2025 sker för åldersgruppen 16-65 år. Fr.o.m januari 2026 sker redovisningen för åldersgruppen 16-66 år, p.g.a. att pensionsåldern höjts till 67 år.

Sheet Tab25
A1: Tabell 25 Tidsserie över antalet personer i program med aktivitetsstöd i Hela staden och stadsdelsområdena, 16-66* år
A2: Period | B2: Järva | C2: Hässelby-Vällingby | D2: Bromma | E2: Kungs-holmen | F2: Norra-innerstaden | G2: Söder-malm | H2: Enskede-Årsta-Vantör | I2: Skarp-näck | J2: Farsta | K2: Hägersten-Älvsjö | L2: Skär-holmen | M2: Ej skrivna i staden | N2: Hela staden
A4: period | B4: 1 | C4: 4 | D4: 6 | E4: 8 | F4: 9 | G4: 12 | H4: 14 | I4: 15 | J4: 18 | K4: 22 | L4: 24 | M4: 99 | N4: 999
A5: 2023-08 | B5: 3418 | C5: 1723 | D5: 573 | E5: 410 | F5: 810 | G5: 1125 | H5: 1582 | I5: 495 | J5: 837 | K5: 1179 | L5: 1030 | M5: 846 | N5: 14028
A6: 2023-09 | B6: 3360 | C6: 1682 | D6: 557 | E6: 412 | F6: 805 | G6: 1120 | H6: 1570 | I6: 486 | J6: 844 | K6: 1172 | L6: 986 | M6: 841 | N6: 13835
A7: 2023-10 | B7: 3289 | C7: 1707 | D7: 592 | E7: 431 | F7: 834 | G7: 1123 | H7: 1598 | I7: 514 | J7: 883 | K7: 1178 | L7: 1010 | M7: 848 | N7: 14007
A8: 2023-11 | B8: 3354 | C8: 1730 | D8: 594 | E8: 433 | F8: 850 | G8: 1131 | H8: 1619 | I8: 539 | J8: 907 | K8: 1221 | L8: 1016 | M8: 854 | N8: 14248
A9: 2023-12 | B9: 3342 | C9: 1738 | D9: 612 | E9: 450 | F9: 854 | G9: 1140 | H9: 1642 | I9: 536 | J9: 909 | K9: 1237 | L9: 1031 | M9: 864 | N9: 14355
A10: 2024-01 | B10: 3381 | C10: 1792 | D10: 626 | E10: 491 | F10: 861 | G10: 1150 | H10: 1661 | I10: 555 | J10: 937 | K10: 1254 | L10: 1052 | M10: 879 | N10: 14639
A11: 2024-02 | B11: 3475 | C11: 1822 | D11: 632 | E11: 510 | F11: 882 | G11: 1174 | H11: 1712 | I11: 562 | J11: 961 | K11: 1280 | L11: 1062 | M11: 907 | N11: 14979
A12: 2024-03 | B12: 3485 | C12: 1816 | D12: 641 | E12: 518 | F12: 869 | G12: 1165 | H12: 1700 | I12: 553 | J12: 975 | K12: 1293 | L12: 1047 | M12: 938 | N12: 15000
A13: 2024-04 | B13: 3465 | C13: 1837 | D13: 637 | E13: 531 | F13: 883 | G13: 1148 | H13: 1655 | I13: 541 | J13: 969 | K13: 1279 | L13: 1027 | M13: 970 | N13: 14942
A14: 2024-05 | B14: 3426 | C14: 1800 | D14: 612 | E14: 518 | F14: 874 | G14: 1169 | H14: 1652 | I14: 532 | J14: 943 | K14: 1243 | L14: 1032 | M14: 960 | N14: 14761
A15: 2024-06 | B15: 3297 | C15: 1756 | D15: 609 | E15: 509 | F15: 878 | G15: 1164 | H15: 1593 | I15: 528 | J15: 935 | K15: 1246 | L15: 1015 | M15: 942 | N15: 14472
A16: 2024-07 | B16: 3261 | C16: 1779 | D16: 621 | E16: 521 | F16: 904 | G16: 1184 | H16: 1618 | I16: 535 | J16: 953 | K16: 1283 | L16: 1016 | M16: 963 | N16: 14638
... A41: 2026-08 | B41: 3097 | C41: 1697 | D41: 716 | E41: 511 | F41: 967 | G41: 1126 | H41: 1676 | I41: 575 | J41: 873 | K41: 1263 | L41: 1080 | M41: 602 | N41: 14183
A42: * Redovisningen t.o.m. december 2025 sker för åldersgruppen 16-65 år. Fr.o.m januari 2026 sker redovisningen för åldersgruppen 16-66 år, p.g.a. att pensionsåldern höjts till 67 år.

Sheet Tab26
A1: Tabell 26 Tidsserie över summan av antalet öppet arbetslösa och i program med aktivitetsstöd i Hela staden och stadsdelsområdena, 16-66* år
A2: Period | B2: Järva | C2: Hässelby-Vällingby | D2: Bromma | E2: Kungs-holmen | F2: Norra-innerstaden | G2: Söder-malm | H2: Enskede-Årsta-Vantör | I2: Skarp-näck | J2: Farsta | K2: Hägersten-Älvsjö | L2: Skär-holmen | M2: Ej skrivna i staden | N2: Hela staden
A4: period | B4: 1 | C4: 4 | D4: 6 | E4: 8 | F4: 9 | G4: 12 | H4: 14 | I4: 15 | J4: 18 | K4: 22 | L4: 24 | M4: 99 | N4: 999
A5: 2023-08 | B5: 6605 | C5: 3601 | D5: 1616 | E5: 1387 | F5: 2791 | G5: 3130 | H5: 3865 | I5: 1339 | J5: 2052 | K5: 3175 | L5: 2132 | M5: 2371 | N5: 34064
A6: 2023-09 | B6: 6579 | C6: 3641 | D6: 1610 | E6: 1393 | F6: 2743 | G6: 3072 | H6: 3817 | I6: 1294 | J6: 2026 | K6: 3163 | L6: 2130 | M6: 2400 | N6: 33868
A7: 2023-10 | B7: 6565 | C7: 3641 | D7: 1625 | E7: 1412 | F7: 2739 | G7: 3109 | H7: 3885 | I7: 1302 | J7: 2072 | K7: 3153 | L7: 2161 | M7: 2466 | N7: 34130
A8: 2023-11 | B8: 6619 | C8: 3626 | D8: 1634 | E8: 1421 | F8: 2769 | G8: 3112 | H8: 3870 | I8: 1335 | J8: 2091 | K8: 3208 | L8: 2199 | M8: 2421 | N8: 34305
A9: 2023-12 | B9: 6713 | C9: 3695 | D9: 1714 | E9: 1462 | F9: 2876 | G9: 3235 | H9: 3979 | I9: 1371 | J9: 2136 | K9: 3317 | L9: 2259 | M9: 2505 | N9: 35262
A10: 2024-01 | B10: 6849 | C10: 3737 | D10: 1773 | E10: 1492 | F10: 2916 | G10: 3269 | H10: 4014 | I10: 1415 | J10: 2186 | K10: 3338 | L10: 2310 | M10: 2584 | N10: 35883
A11: 2024-02 | B11: 6851 | C11: 3779 | D11: 1747 | E11: 1505 | F11: 2977 | G11: 3262 | H11: 4013 | I11: 1444 | J11: 2224 | K11: 3386 | L11: 2342 | M11: 2626 | N11: 36156
A12: 2024-03 | B12: 6708 | C12: 3795 | D12: 1747 | E12: 1491 | F12: 2883 | G12: 3268 | H12: 4033 | I12: 1436 | J12: 2220 | K12: 3375 | L12: 2353 | M12: 2660 | N12: 35969
A13: 2024-04 | B13: 6660 | C13: 3737 | D13: 1725 | E13: 1497 | F13: 2923 | G13: 3206 | H13: 3977 | I13: 1430 | J13: 2202 | K13: 3366 | L13: 2364 | M13: 2608 | N13: 35695
A14: 2024-05 | B14: 6591 | C14: 3755 | D14: 1743 | E14: 1526 | F14: 2934 | G14: 3235 | H14: 4005 | I14: 1450 | J14: 2205 | K14: 3432 | L14: 2361 | M14: 2604 | N14: 35841
A15: 2024-06 | B15: 6667 | C15: 3883 | D15: 1828 | E15: 1600 | F15: 3095 | G15: 3458 | H15: 4180 | I15: 1536 | J15: 2277 | K15: 3616 | L15: 2347 | M15: 2764 | N15: 37251
A16: 2024-07 | B16: 6739 | C16: 3977 | D16: 1931 | E16: 1714 | F16: 3272 | G16: 3695 | H16: 4317 | I16: 1609 | J16: 2366 | K16: 3885 | L16: 2416 | M16: 2849 | N16: 38770
... A41: 2026-08 | B41: 6591 | C41: 3943 | D41: 2179 | E41: 1858 | F41: 3536 | G41: 3516 | H41: 4310 | I41: 1734 | J41: 2360 | K41: 3871 | L41: 2462 | M41: 1791 | N41: 38151
A42: * Redovisningen t.o.m. december 2025 sker för åldersgruppen 16-65 år. Fr.o.m januari 2026 sker redovisningen för åldersgruppen 16-66 år, p.g.a. att pensionsåldern höjts till 67 år.

Sheet Tab27
A1: Tabell 27 Tidsserie över antalet unga öppet arbetslösa i Hela staden och stadsdelsområdena, 18-24 år
A2: Period | B2: Järva | C2: Hässelby-Vällingby | D2: Bromma | E2: Kungs-holmen | F2: Norra-innerstaden | G2: Söder-malm | H2: Enskede-Årsta-Vantör | I2: Skarp-näck | J2: Farsta | K2: Hägersten-Älvsjö | L2: Skär-holmen | M2: Ej skrivna i staden | N2: Hela staden
A4: period | B4: 1 | C4: 4 | D4: 6 | E4: 8 | F4: 9 | G4: 12 | H4: 14 | I4: 15 | J4: 18 | K4: 22 | L4: 24 | M4: 99 | N4: 999
A5: 2023-08 | B5: 393 | C5: 191 | D5: 87 | E5: 66 | F5: 133 | G5: 162 | H5: 213 | I5: 91 | J5: 148 | K5: 211 | L5: 123 | M5: 168 | N5: 1986
A6: 2023-09 | B6: 393 | C6: 207 | D6: 92 | E6: 60 | F6: 130 | G6: 165 | H6: 236 | I6: 80 | J6: 123 | K6: 196 | L6: 120 | M6: 189 | N6: 1991
A7: 2023-10 | B7: 397 | C7: 204 | D7: 71 | E7: 65 | F7: 125 | G7: 168 | H7: 228 | I7: 84 | J7: 127 | K7: 194 | L7: 115 | M7: 178 | N7: 1956
A8: 2023-11 | B8: 397 | C8: 216 | D8: 80 | E8: 58 | F8: 118 | G8: 157 | H8: 205 | I8: 83 | J8: 122 | K8: 192 | L8: 113 | M8: 158 | N8: 1899
A9: 2023-12 | B9: 401 | C9: 217 | D9: 77 | E9: 52 | F9: 117 | G9: 153 | H9: 195 | I9: 66 | J9: 116 | K9: 169 | L9: 128 | M9: 170 | N9: 1861
A10: 2024-01 | B10: 452 | C10: 210 | D10: 83 | E10: 52 | F10: 126 | G10: 150 | H10: 190 | I10: 79 | J10: 121 | K10: 162 | L10: 151 | M10: 168 | N10: 1944
A11: 2024-02 | B11: 447 | C11: 223 | D11: 87 | E11: 62 | F11: 141 | G11: 149 | H11: 192 | I11: 78 | J11: 123 | K11: 168 | L11: 158 | M11: 171 | N11: 1999
A12: 2024-03 | B12: 428 | C12: 214 | D12: 83 | E12: 59 | F12: 140 | G12: 138 | H12: 186 | I12: 66 | J12: 106 | K12: 167 | L12: 161 | M12: 173 | N12: 1921
A13: 2024-04 | B13: 385 | C13: 213 | D13: 81 | E13: 66 | F13: 108 | G13: 133 | H13: 178 | I13: 64 | J13: 102 | K13: 157 | L13: 153 | M13: 159 | N13: 1799
A14: 2024-05 | B14: 337 | C14: 214 | D14: 78 | E14: 63 | F14: 120 | G14: 131 | H14: 171 | I14: 64 | J14: 107 | K14: 163 | L14: 133 | M14: 148 | N14: 1729
A15: 2024-06 | B15: 373 | C15: 267 | D15: 106 | E15: 72 | F15: 149 | G15: 183 | H15: 240 | I15: 96 | J15: 135 | K15: 211 | L15: 137 | M15: 173 | N15: 2142
A16: 2024-07 | B16: 391 | C16: 282 | D16: 116 | E16: 74 | F16: 167 | G16: 209 | H16: 270 | I16: 102 | J16: 154 | K16: 242 | L16: 154 | M16: 184 | N16: 2345
... A41: 2026-08 | B41: 449 | C41: 305 | D41: 146 | E41: 86 | F41: 174 | G41: 229 | H41: 312 | I41: 142 | J41: 182 | K41: 281 | L41: 158 | M41: 118 | N41: 2582

Sheet Tab28
A1: Tabell 28 Tidsserie över summan av antalet öppet arbetslösa och i program med aktivitetsstöd i Hela staden och stadsdelsområdena, 18-24 år
A2: Period | B2: Järva | C2: Hässelby-Vällingby | D2: Bromma | E2: Kungs-holmen | F2: Norra-innerstaden | G2: Söder-malm | H2: Enskede-Årsta-Vantör | I2: Skarp-näck | J2: Farsta | K2: Hägersten-Älvsjö | L2: Skär-holmen | M2: Ej skrivna i staden | N2: Hela staden
A4: period | B4: 1 | C4: 4 | D4: 6 | E4: 8 | F4: 9 | G4: 12 | H4: 14 | I4: 15 | J4: 18 | K4: 22 | L4: 24 | M4: 99 | N4: 999
A5: 2023-08 | B5: 637 | C5: 320 | D5: 114 | E5: 83 | F5: 178 | G5: 236 | H5: 333 | I5: 116 | J5: 209 | K5: 281 | L5: 198 | M5: 247 | N5: 2952
A6: 2023-09 | B6: 627 | C6: 335 | D6: 124 | E6: 79 | F6: 175 | G6: 230 | H6: 347 | I6: 108 | J6: 187 | K6: 270 | L6: 189 | M6: 269 | N6: 2940
A7: 2023-10 | B7: 630 | C7: 347 | D7: 118 | E7: 84 | F7: 174 | G7: 236 | H7: 343 | I7: 117 | J7: 200 | K7: 276 | L7: 184 | M7: 265 | N7: 2974
A8: 2023-11 | B8: 639 | C8: 363 | D8: 128 | E8: 81 | F8: 170 | G8: 226 | H8: 327 | I8: 120 | J8: 205 | K8: 288 | L8: 185 | M8: 246 | N8: 2978
A9: 2023-12 | B9: 645 | C9: 357 | D9: 126 | E9: 78 | F9: 167 | G9: 221 | H9: 322 | I9: 104 | J9: 204 | K9: 273 | L9: 203 | M9: 249 | N9: 2949
A10: 2024-01 | B10: 687 | C10: 347 | D10: 123 | E10: 85 | F10: 180 | G10: 216 | H10: 320 | I10: 115 | J10: 210 | K10: 266 | L10: 225 | M10: 252 | N10: 3026
A11: 2024-02 | B11: 684 | C11: 364 | D11: 125 | E11: 92 | F11: 194 | G11: 220 | H11: 320 | I11: 117 | J11: 211 | K11: 272 | L11: 227 | M11: 256 | N11: 3082
A12: 2024-03 | B12: 676 | C12: 358 | D12: 122 | E12: 90 | F12: 195 | G12: 206 | H12: 310 | I12: 108 | J12: 190 | K12: 270 | L12: 232 | M12: 264 | N12: 3021
A13: 2024-04 | B13: 648 | C13: 352 | D13: 117 | E13: 93 | F13: 158 | G13: 207 | H13: 302 | I13: 104 | J13: 188 | K13: 258 | L13: 218 | M13: 254 | N13: 2899
A14: 2024-05 | B14: 604 | C14: 349 | D14: 117 | E14: 90 | F14: 166 | G14: 208 | H14: 298 | I14: 109 | J14: 192 | K14: 266 | L14: 199 | M14: 252 | N14: 2850
A15: 2024-06 | B15: 629 | C15: 395 | D15: 143 | E15: 103 | F15: 197 | G15: 255 | H15: 349 | I15: 137 | J15: 218 | K15: 309 | L15: 207 | M15: 272 | N15: 3214
A16: 2024-07 | B16: 625 | C16: 410 | D16: 159 | E16: 104 | F16: 213 | G16: 283 | H16: 377 | I16: 143 | J16: 236 | K16: 344 | L16: 224 | M16: 281 | N16: 3399
... A41: 2026-08 | B41: 637 | C41: 443 | D41: 177 | E41: 115 | F41: 221 | G41: 282 | H41: 413 | I41: 169 | J41: 237 | K41: 357 | L41: 212 | M41: 168 | N41: 3431

Sheet Tab29
A1: Tabell 29 Tidsserie över andelen öppet arbetslösa i befolkning 16-66* år i Hela staden och stadsdelsområdena
A2: Period | B2: Järva | C2: Hässelby-Vällingby | D2: Bromma | E2: Kungs-holmen | F2: Norra-innerstaden | G2: Söder-malm | H2: Enskede-Årsta-Vantör | I2: Skarp-näck | J2: Farsta | K2: Hägersten-Älvsjö | L2: Skär-holmen | M2: Hela staden
A4: period | B4: 1 | C4: 4 | D4: 6 | E4: 8 | F4: 9 | G4: 12 | H4: 14 | I4: 15 | J4: 18 | K4: 22 | L4: 24 | M4: 999
A5: 2023-08 | B5: 5.123959 | C5: 3.7541229 | D5: 1.8808721 | E5: 1.9637796 | F5: 1.8701735 | G5: 2.2869592 | H5: 3.1492261 | I5: 2.6478431 | J5: 2.9773574 | K5: 2.3288646 | L5: 4.3647022 | M5: 3.0031957
A6: 2023-09 | B6: 5.1669342 | C6: 3.9170599 | D6: 1.8991451 | E6: 1.9710273 | F6: 1.8231592 | G6: 2.2263535 | H6: 3.1014921 | I6: 2.5343454 | J6: 2.8991906 | K6: 2.3214869 | L6: 4.5341049 | M6: 3.0007445
A7: 2023-10 | B7: 5.2516832 | C7: 3.8668399 | D7: 1.8603562 | E7: 1.9682196 | F7: 1.7931268 | G7: 2.2613924 | H7: 3.1542652 | I7: 2.4693679 | J7: 2.9216631 | K7: 2.2994796 | L7: 4.5642002 | M7: 3.0122267
A8: 2023-11 | B8: 5.2236657 | C8: 3.795036 | D8: 1.8741778 | E8: 1.9856902 | F8: 1.8107873 | G8: 2.2557504 | H8: 3.1066273 | I8: 2.4988228 | J8: 2.9114515 | K8: 2.311594 | L8: 4.6916518 | M8: 3.0040739
A9: 2023-12 | B9: 5.3913572 | C9: 3.9264862 | D9: 1.9859076 | E9: 2.0365861 | F9: 1.9113699 | G9: 2.3858602 | H9: 3.2292833 | I9: 2.6266121 | J9: 3.0229865 | K9: 2.4181266 | L9: 4.8730159 | M9: 3.1339612
A10: 2024-01 | B10: 5.5316298 | C10: 3.9083693 | D10: 2.0682318 | E10: 2.0161128 | F10: 1.9446784 | G10: 2.4143471 | H10: 3.2521112 | I10: 2.7063599 | J10: 3.0791608 | K10: 2.4211725 | L10: 4.9815863 | M10: 3.1848786
A11: 2024-02 | B11: 5.3771662 | C11: 3.9346174 | D11: 2.0090814 | E11: 2.002939 | F11: 1.9830752 | G11: 2.3782134 | H11: 3.176115 | I11: 2.7816324 | J11: 3.1165178 | K11: 2.4451978 | L11: 5.0829958 | M11: 3.1743486
A12: 2024-03 | B12: 5.1176601 | C12: 3.9847777 | D12: 1.9936549 | E12: 1.9590867 | F12: 1.906114 | G12: 2.3967724 | H12: 3.2167774 | I12: 2.7869836 | J12: 3.0729359 | K12: 2.4160139 | L12: 5.1862441 | M12: 3.1425155
A13: 2024-04 | B13: 5.0698996 | C13: 3.8286382 | D13: 1.9579614 | E13: 1.9473451 | F13: 1.9339243 | G13: 2.3484036 | H13: 3.200419 | I13: 2.8097345 | J13: 3.0445948 | K13: 2.4198224 | L13: 5.3127235 | M13: 3.1112031
A14: 2024-05 | B14: 5.0241285 | C14: 3.9349476 | D14: 2.0370671 | E14: 2.0353357 | F14: 1.9578027 | G14: 2.3574249 | H14: 3.2429676 | I14: 2.907916 | J14: 3.117897 | K14: 2.5360892 | L14: 5.291237 | M14: 3.1622403
A15: 2024-06 | B15: 5.3393751 | C15: 4.2775264 | D15: 2.1920912 | E15: 2.2062243 | F15: 2.1079755 | G15: 2.6204864 | H15: 3.5646375 | I15: 3.1959417 | J15: 3.3140712 | K15: 2.7401695 | L15: 5.2989617 | M15: 3.4159106
A16: 2024-07 | B16: 5.4945576 | C16: 4.4091392 | D16: 2.353533 | E16: 2.414491 | F16: 2.2552166 | G16: 2.8674203 | H16: 3.7071121 | I16: 3.3993796 | J16: 3.4855325 | K16: 2.9998386 | L16: 5.560189 | M16: 3.6144795
... A41: 2026-08 | B41: 5.1452722 | C41: 4.4102343 | D41: 2.6032492 | E41: 2.6812373 | F41: 2.3885898 | G41: 2.698583 | H41: 3.5081644 | I41: 3.6337984 | J41: 3.5555449 | K41: 2.9240946 | L41: 5.1935363 | M41: 3.4939387
A42: * Redovisningen t.o.m. december 2025 sker för åldersgruppen 16-65 år. Fr.o.m januari 2026 sker redovisningen för åldersgruppen 16-66 år, p.g.a. att pensionsåldern höjts till 67 år.

Sheet Tab30
A1: Tabell 30 Tidsserie över andelen i program med aktivitetsstöd i befolkningen 16-66* år i Hela staden och stadsdelsområdena
A2: Period | B2: Järva | C2: Hässelby-Vällingby | D2: Bromma | E2: Kungs-holmen | F2: Norra-innerstaden | G2: Söder-malm | H2: Enskede-Årsta-Vantör | I2: Skarp-näck | J2: Farsta | K2: Hägersten-Älvsjö | L2: Skär-holmen | M2: Hela staden
A4: period | B4: 1 | C4: 4 | D4: 6 | E4: 8 | F4: 9 | G4: 12 | H4: 14 | I4: 15 | J4: 18 | K4: 22 | L4: 24 | M4: 999
A5: 2023-08 | B5: 5.4953535 | C5: 3.4442779 | D5: 1.0333075 | E5: 0.82410404 | F5: 0.76468478 | G5: 1.2832065 | H5: 2.1822496 | I5: 1.5529412 | J5: 2.0510684 | K5: 1.3756169 | L5: 4.0795311 | M5: 2.1026567
A6: 2023-09 | B6: 5.3932584 | C6: 3.3631928 | D6: 1.004581 | E6: 0.82779128 | F6: 0.75729781 | G6: 1.277416 | H6: 2.1670416 | I6: 1.5243711 | J6: 2.0701496 | K6: 1.3665407 | L6: 3.9078911 | M6: 2.0723456
A7: 2023-10 | B7: 5.2725232 | C7: 3.4129761 | D7: 1.066148 | E7: 0.86473255 | F7: 0.78502245 | G7: 1.2787229 | H7: 2.2039859 | I7: 1.6107298 | J7: 2.1697464 | K7: 1.3715377 | L7: 4.0050757 | M7: 2.0967182
A8: 2023-11 | B8: 5.3660566 | C8: 3.4627702 | D8: 1.0704439 | E8: 0.8702468 | F8: 0.80206839 | G8: 1.2878615 | H8: 2.2343979 | I8: 1.6920421 | J8: 2.2303096 | K8: 1.4204612 | L8: 4.0293476 | M8: 2.1340203
A9: 2023-12 | B9: 5.3449765 | C9: 3.4870889 | D9: 1.1028815 | E9: 0.90559659 | F9: 0.80727493 | G9: 1.2982724 | H9: 2.2689273 | I9: 1.6860648 | J9: 2.239523 | K9: 1.4380878 | L9: 4.0912698 | M9: 2.1518158
A10: 2024-01 | B10: 5.3928606 | C10: 3.6009243 | D10: 1.1287821 | E10: 0.98892246 | F10: 0.81477766 | G10: 1.3102875 | H10: 2.2956892 | I10: 1.7465462 | J10: 2.3099869 | K10: 1.4568859 | L10: 4.1658417 | M10: 2.1946638
A11: 2024-02 | B11: 5.5348496 | C11: 3.6631951 | D11: 1.1387798 | E11: 1.026632 | F11: 0.83487941 | G11: 1.3371755 | H11: 2.3631068 | I11: 1.7724234 | J11: 2.3713172 | K11: 1.4861601 | L11: 4.2172981 | M11: 2.2452929
A12: 2024-03 | B12: 5.5336784 | C12: 3.6565722 | D12: 1.1554546 | E12: 1.042967 | F12: 0.82244937 | G12: 1.3277412 | H12: 2.343987 | I12: 1.7454155 | J12: 2.4065161 | K12: 1.5004352 | L12: 4.1577317 | M12: 2.2479723
A13: 2024-04 | B13: 5.4983418 | C13: 3.7016886 | D13: 1.1463432 | E13: 1.070435 | F13: 0.83708584 | G13: 1.3099938 | H13: 2.2810911 | I13: 1.7098609 | J13: 2.3927108 | K13: 1.4829673 | L13: 4.0809028 | M13: 2.2400422
A14: 2024-05 | B14: 5.4384405 | C14: 3.6229696 | D14: 1.1022856 | E14: 1.0459364 | F14: 0.83064056 | G14: 1.3338963 | H14: 2.2768306 | I14: 1.6851975 | J14: 2.3297757 | K14: 1.4400908 | L14: 4.108771 | M14: 2.2143183
A15: 2024-06 | B15: 5.2237151 | C15: 3.5314228 | D15: 1.0951465 | E15: 1.0293017 | F15: 0.83482296 | G15: 1.3296627 | H15: 2.195001 | I15: 1.6740647 | J15: 2.308984 | K15: 1.4406123 | L15: 4.0378725 | M15: 2.1702032
A16: 2024-07 | B16: 5.1517402 | C16: 3.5686345 | D16: 1.1156824 | E16: 1.0544424 | F16: 0.86094418 | G16: 1.3520612 | H16: 2.2223443 | I16: 1.6933595 | J16: 2.3508227 | K16: 1.4791671 | L16: 4.0351086 | M16: 2.1924727
... A41: 2026-08 | B41: 4.5606491 | C41: 3.3322206 | D41: 1.274044 | E41: 1.0171583 | F41: 0.89909161 | G41: 1.2713826 | H41: 2.2322261 | I41: 1.8027904 | J41: 2.0874181 | K41: 1.416078 | L41: 4.0586246 | M41: 2.0675289
A42: * Redovisningen t.o.m. december 2025 sker för åldersgruppen 16-65 år. Fr.o.m januari 2026 sker redovisningen för åldersgruppen 16-66 år, p.g.a. att pensionsåldern höjts till 67 år.

Sheet Tab31
A1: Tabell 31 Tidsserie över andelen öppet arbetslösa och i program med aktivitetsstöd i befolkningen 16-66* år i Hela staden och stadsdelsområdena
A2: Period | B2: Järva | C2: Hässelby-Vällingby | D2: Bromma | E2: Kungs-holmen | F2: Norra-innerstaden | G2: Söder-malm | H2: Enskede-Årsta-Vantör | I2: Skarp-näck | J2: Farsta | K2: Hägersten-Älvsjö | L2: Skär-holmen | M2: Hela staden
A4: period | B4: 1 | C4: 4 | D4: 6 | E4: 8 | F4: 9 | G4: 12 | H4: 14 | I4: 15 | J4: 18 | K4: 22 | L4: 24 | M4: 999
A5: 2023-08 | B5: 10.619313 | C5: 7.1984008 | D5: 2.9141796 | E5: 2.7878837 | F5: 2.6348583 | G5: 3.5701657 | H5: 5.3314757 | I5: 4.2007843 | J5: 5.0284258 | K5: 3.7044815 | L5: 8.4442332 | M5: 5.1058523
A6: 2023-09 | B6: 10.560193 | C6: 7.2802527 | D6: 2.9037261 | E6: 2.7988186 | F6: 2.580457 | G6: 3.5037695 | H6: 5.2685337 | I6: 4.0587165 | J6: 4.9693402 | K6: 3.6880276 | L6: 8.441996 | M6: 5.0730901
A7: 2023-10 | B7: 10.524206 | C7: 7.2798161 | D7: 2.9265042 | E7: 2.8329521 | F7: 2.5781493 | G7: 3.5401152 | H7: 5.3582512 | I7: 4.0800978 | J7: 5.0914095 | K7: 3.6710172 | L7: 8.5692759 | M7: 5.1089449
A8: 2023-11 | B8: 10.589722 | C8: 7.2578062 | D8: 2.9446217 | E8: 2.855937 | F8: 2.6128557 | G8: 3.5436119 | H8: 5.3410251 | I8: 4.1908649 | J8: 5.1417611 | K8: 3.7320552 | L8: 8.7209994 | M8: 5.1380942
A9: 2023-12 | B9: 10.736334 | C9: 7.4135752 | D9: 3.0887892 | E9: 2.9421827 | F9: 2.7186448 | G9: 3.6841326 | H9: 5.4982106 | I9: 4.3126769 | J9: 5.2625095 | K9: 3.8562145 | L9: 8.9642857 | M9: 5.285777
A10: 2024-01 | B10: 10.92449 | C10: 7.5092937 | D10: 3.197014 | E10: 3.0050352 | F10: 2.7594561 | G10: 3.7246345 | H10: 5.5478004 | I10: 4.4529062 | J10: 5.3891477 | K10: 3.8780584 | L10: 9.147428 | M10: 5.3795424
A11: 2024-02 | B11: 10.912016 | C11: 7.5978125 | D11: 3.1478612 | E11: 3.029571 | F11: 2.8179546 | G11: 3.7153889 | H11: 5.5392218 | I11: 4.5540558 | J11: 5.487835 | K11: 3.931358 | L11: 9.3002939 | M11: 5.4196415
A12: 2024-03 | B12: 10.651339 | C12: 7.6413499 | D12: 3.1491095 | E12: 3.0020537 | F12: 2.7285633 | G12: 3.7245136 | H12: 5.5607644 | I12: 4.5323991 | J12: 5.4794521 | K12: 3.9164491 | L12: 9.3439759 | M12: 5.3904878
A13: 2024-04 | B13: 10.568241 | C13: 7.5303268 | D13: 3.1043046 | E13: 3.0177801 | F13: 2.7710101 | G13: 3.6583974 | H13: 5.4815101 | I13: 4.5195954 | J13: 5.4373055 | K13: 3.9027897 | L13: 9.3936263 | M13: 5.3512453
A14: 2024-05 | B14: 10.462569 | C14: 7.5579172 | D14: 3.1393527 | E14: 3.0812721 | F14: 2.7884433 | G14: 3.6913211 | H14: 5.5197982 | I14: 4.5931135 | J14: 5.4476727 | K14: 3.97618 | L14: 9.400008 | M14: 5.3765586
A15: 2024-06 | B15: 10.56309 | C15: 7.8089492 | D15: 3.2872377 | E15: 3.2355261 | F15: 2.9427985 | G15: 3.9501491 | H15: 5.7596384 | I15: 4.8700063 | J15: 5.6230553 | K15: 4.1807818 | L15: 9.3368341 | M15: 5.5861138
A16: 2024-07 | B16: 10.646298 | C16: 7.9777738 | D16: 3.4692154 | E16: 3.4689334 | F16: 3.1161608 | G16: 4.2194816 | H16: 5.9294564 | I16: 5.0927391 | J16: 5.8363551 | K16: 4.4790057 | L16: 9.5952977 | M16: 5.8069522
... A41: 2026-08 | B41: 9.7059213 | C41: 7.7424549 | D41: 3.8772932 | E41: 3.6983956 | F41: 3.2876814 | G41: 3.9699656 | H41: 5.7403905 | I41: 5.4365888 | J41: 5.642963 | K41: 4.3401727 | L41: 9.2521608 | M41: 5.5614675
A42: * Redovisningen t.o.m. december 2025 sker för åldersgruppen 16-65 år. Fr.o.m januari 2026 sker redovisningen för åldersgruppen 16-66 år, p.g.a. att pensionsåldern höjts till 67 år.

Sheet Tab32
A1: Tabell 32 Tidsserie över andelen öppet arbetslösa i befolkning 18-24 år i Hela staden och stadsdelsområdena
A2: Period | B2: Järva | C2: Hässelby-Vällingby | D2: Bromma | E2: Kungs-holmen | F2: Norra-innerstaden | G2: Söder-malm | H2: Enskede-Årsta-Vantör | I2: Skarp-näck | J2: Farsta | K2: Hägersten-Älvsjö | L2: Skär-holmen | M2: Hela staden
A4: period | B4: 1 | C4: 4 | D4: 6 | E4: 8 | F4: 9 | G4: 12 | H4: 14 | I4: 15 | J4: 18 | K4: 22 | L4: 24 | M4: 999
A5: 2023-08 | B5: 5.8691756 | C5: 4.5704714 | D5: 2.2058824 | E5: 2.2022022 | F5: 1.3378936 | G5: 2.8272251 | H5: 4.2404937 | I5: 3.9651416 | J5: 4.468599 | K5: 3.8489602 | L5: 5.1811289 | M5: 3.8212149
A6: 2023-09 | B6: 5.7794118 | C6: 4.9759615 | D6: 2.3487363 | E6: 2.0006669 | F6: 1.2668096 | G6: 2.8810896 | H6: 4.7124601 | I6: 3.4438226 | J6: 3.7115269 | K6: 3.5812169 | L6: 5.0547599 | M6: 3.8027389
A7: 2023-10 | B7: 5.8313749 | C7: 4.9109292 | D7: 1.8177163 | E7: 2.162342 | F7: 1.2221353 | G7: 2.9095947 | H7: 4.5527157 | I7: 3.6082474 | J7: 3.8814181 | K7: 3.5661765 | L7: 4.8441449 | M7: 3.7401048
A8: 2023-11 | B8: 5.7880157 | C8: 5.2211748 | D8: 2.0512821 | E8: 1.9502354 | F8: 1.1529067 | G8: 2.7157931 | H8: 4.1148133 | I8: 3.5394456 | J8: 3.7480799 | K8: 3.5184167 | L8: 4.7399329 | M8: 3.6303504
A9: 2023-12 | B9: 5.8694379 | C9: 5.2504234 | D9: 1.9647869 | E9: 1.7627119 | F9: 1.1472838 | G9: 2.6443139 | H9: 3.8992202 | I9: 2.8121006 | J9: 3.5430666 | K9: 3.0958051 | L9: 5.3511706 | M9: 3.5589298
A10: 2024-01 | B10: 6.5649964 | C10: 5.1294577 | D10: 2.1184278 | E10: 1.7561635 | F10: 1.2307091 | G10: 2.5795357 | H10: 3.8030424 | I10: 3.3847472 | J10: 3.6856534 | K10: 2.9374433 | L10: 6.3418732 | M10: 3.7085082
A11: 2024-02 | B11: 6.45301 | C11: 5.4563249 | D11: 2.2210876 | E11: 2.0861373 | F11: 1.3749391 | G11: 2.5531186 | H11: 3.8438438 | I11: 3.3678756 | J11: 3.7822878 | K11: 3.0286641 | L11: 6.7262665 | M11: 3.8110308
A12: 2024-03 | B12: 6.1556163 | C12: 5.265748 | D12: 2.1168069 | E12: 1.9825269 | F12: 1.3635921 | G12: 2.3589744 | H12: 3.7029664 | I12: 2.8596187 | J12: 3.2366412 | K12: 3.0100937 | L12: 6.8627451 | M12: 3.6568883
A13: 2024-04 | B13: 5.5212964 | C13: 5.2347014 | D13: 2.0495951 | E13: 2.2304833 | F13: 1.0568549 | G13: 2.2719508 | H13: 3.5536035 | I13: 2.7826087 | J13: 3.1288344 | K13: 2.8344467 | L13: 6.5496575 | M13: 3.4286259
A14: 2024-05 | B14: 4.8678319 | C14: 5.245098 | D14: 1.9647355 | E14: 2.1305377 | F14: 1.1837822 | G14: 2.2290284 | H14: 3.4254808 | I14: 2.7633851 | J14: 3.3188586 | K14: 2.9433008 | L14: 5.7600693 | M14: 3.3044741
A15: 2024-06 | B15: 5.3855039 | C15: 6.4963504 | D15: 2.6198715 | E15: 2.3968043 | F15: 1.4659583 | G15: 3.0896505 | H15: 4.7458968 | I15: 4.1219407 | J15: 4.14874 | K15: 3.7537805 | L15: 5.9461806 | M15: 4.0615875
A16: 2024-07 | B16: 5.5993126 | C16: 6.8463219 | D16: 2.8599606 | E16: 2.44952 | F16: 1.6479179 | G16: 3.5161507 | H16: 5.2899687 | I16: 4.3870968 | J16: 4.7501542 | K16: 4.2953497 | L16: 6.626506 | M16: 4.4340657
... A41: 2026-08 | B41: 6.2050857 | C41: 7.4699976 | D41: 3.4836555 | E41: 2.6348039 | F41: 1.5907844 | G41: 3.7455021 | H41: 5.832866 | I41: 6.1605206 | J41: 5.3989914 | K41: 4.7944037 | L41: 6.5751144 | M41: 4.6847501

Sheet Tab33
A1: Tabell 33 Tidsserie över andelen öppet arbetslösa och i program med aktivitetsstöd i befolkningen 18-24 år i Hela staden och stadsdelsområdena
A2: Period | B2: Järva | C2: Hässelby-Vällingby | D2: Bromma | E2: Kungs-holmen | F2: Norra-innerstaden | G2: Söder-malm | H2: Enskede-Årsta-Vantör | I2: Skarp-näck | J2: Farsta | K2: Hägersten-Älvsjö | L2: Skär-holmen | M2: Hela staden
A4: period | B4: 1 | C4: 4 | D4: 6 | E4: 8 | F4: 9 | G4: 12 | H4: 14 | I4: 15 | J4: 18 | K4: 22 | L4: 24 | M4: 999
A5: 2023-08 | B5: 9.5131422 | C5: 7.6573343 | D5: 2.8904665 | E5: 2.7694361 | F5: 1.7905643 | G5: 4.1186736 | H5: 6.6295043 | I5: 5.0544662 | J5: 6.3103865 | K5: 5.1258665 | L5: 8.3403538 | M5: 5.6798722
A6: 2023-09 | B6: 9.2205882 | C6: 8.0528846 | D6: 3.165688 | E6: 2.6342114 | F6: 1.7053206 | G6: 4.0160643 | H6: 6.9289137 | I6: 4.6491606 | J6: 5.6427278 | K6: 4.933309 | L6: 7.9612468 | M6: 5.615295
A7: 2023-10 | B7: 9.253819 | C7: 8.3533943 | D7: 3.0209933 | E7: 2.7944112 | F7: 1.7012124 | G7: 4.0872878 | H7: 6.8490415 | I7: 5.0257732 | J7: 6.1124694 | K7: 5.0735294 | L7: 7.7506318 | M7: 5.6866419
A8: 2023-11 | B8: 9.3162269 | C8: 8.7744743 | D8: 3.2820513 | E8: 2.7236046 | F8: 1.6609673 | G8: 3.9093582 | H8: 6.5636291 | I8: 5.1172708 | J8: 6.2980031 | K8: 5.2776251 | L8: 7.7600671 | M8: 5.693093
A9: 2023-12 | B9: 9.4408665 | C9: 8.6377934 | D9: 3.2151059 | E9: 2.6440678 | F9: 1.637576 | G9: 3.8195645 | H9: 6.4387123 | I9: 4.4311888 | J9: 6.2309102 | K9: 5.0009159 | L9: 8.4866221 | M9: 5.6395938
A10: 2024-01 | B10: 9.9782135 | C10: 8.4758183 | D10: 3.1393568 | E10: 2.8706518 | F10: 1.7581559 | G10: 3.7145314 | H10: 6.4051241 | I10: 4.9271637 | J10: 6.3965885 | K10: 4.8232094 | L10: 9.449811 | M10: 5.7726059
A11: 2024-02 | B11: 9.8744045 | C11: 8.9062882 | D11: 3.1912178 | E11: 3.0955585 | F11: 1.8917601 | G11: 3.7697053 | H11: 6.4064064 | I11: 5.0518135 | J11: 6.4883149 | K11: 4.9035515 | L11: 9.6636867 | M11: 5.8757364
A12: 2024-03 | B12: 9.722422 | C12: 8.8090551 | D12: 3.1114512 | E12: 3.0241935 | F12: 1.899289 | G12: 3.5213675 | H12: 6.1716106 | I12: 4.6793761 | J12: 5.8015267 | K12: 4.8666186 | L12: 9.8891731 | M12: 5.75089
A13: 2024-04 | B13: 9.2929872 | C13: 8.6507741 | D13: 2.9605263 | E13: 3.1429537 | F13: 1.5461395 | G13: 3.5360437 | H13: 6.0291475 | I13: 4.5217391 | J13: 5.7668712 | K13: 4.6578805 | L13: 9.3321918 | M13: 5.5250619
A14: 2024-05 | B14: 8.7245414 | C14: 8.5539216 | D14: 2.9471033 | E14: 3.0436253 | F14: 1.6375654 | G14: 3.5392207 | H14: 5.9695513 | I14: 4.7063903 | J14: 5.955335 | K14: 4.803178 | L14: 8.6184495 | M14: 5.4469354
A15: 2024-06 | B15: 9.0817211 | C15: 9.6107056 | D15: 3.5343549 | E15: 3.4287617 | F15: 1.9382133 | G15: 4.3052507 | H15: 6.9013249 | I15: 5.8823529 | J15: 6.6994468 | K15: 5.4972425 | L15: 8.984375 | M15: 6.0942774
A16: 2024-07 | B16: 8.9503079 | C16: 9.9538723 | D16: 3.9201183 | E16: 3.4425687 | F16: 2.1018354 | G16: 4.7611036 | H16: 7.3863636 | I16: 6.1505376 | J16: 7.2794571 | K16: 6.1057863 | L16: 9.6385542 | M16: 6.4270317
... A41: 2026-08 | B41: 8.8032062 | C41: 10.849865 | D41: 4.2233357 | E41: 3.5232843 | F41: 2.0204791 | G41: 4.6123651 | H41: 7.7210694 | I41: 7.3318872 | J41: 7.0305547 | K41: 6.0911107 | L41: 8.8223055 | M41: 6.2251656

Sheet Tab34
A1: Tabell 34 Tidsserie över varsel i Stockholms stad och i länet samt stadens andel av länet
B2: Stockholms stad | C2: Stockholms län | D2: Stadens andel av länet, %
A3: Period
A4: 2023-08* | B4: 699 | C4: 1434 | D4: 0.487
A5: 2023-09* | B5: 1463 | C5: 2071 | D5: 0.706
A6: 2023-10* | B6: 2172 | C6: 2899 | D6: 0.749
A7: 2023-11* | B7: 2200 | C7: 3853 | D7: 0.571
A8: 2023-12* | B8: 1828 | C8: 2313 | D8: 0.79
A9: 2024-01* | B9: 1395 | C9: 2160 | D9: 0.646
A10: 2024-02* | B10: 1928 | C10: 3054 | D10: 0.631
A11: 2024-03* | B11: 1695 | C11: 2268 | D11: 0.747
A12: 2024-04* | B12: 3375 | C12: 4093 | D12: 0.825
A13: 2024-05* | B13: 4215 | C13: 5515 | D13: 0.764
A14: 2024-06* | B14: 1425 | C14: 1876 | D14: 0.76
A15: 2024-07* | B15: 1657 | C15: 2081 | D15: 0.796
... A40: 2026-08* | B40: 1169 | C40: 1233 | D40: 0.94809408
A41: Anm. Noteras bör att anmälda varsel inte alltid har en kommuntillhörighet, vilket innebär att kommunsiffran kan vara underskattad.
A42: * Redovisningen t.o.m. december 2025 sker för åldersgruppen 16-65 år. Fr.o.m januari 2026 sker redovisningen för åldersgruppen 16-66 år, p.g.a. att pensionsåldern höjts till 67 år.
A43: Källa: Arbetsförmedlingen

Sheet Tab35
A1: Tabell 35 Tidsserie över nyanmälda och kvarstående platser i Stockholms stad och i länet
B2: Nyanmälda plaster1 | E2: Kvarstående plaster2
B3: Stockholms stad | C3: Stockholms län | E3: Stockholms stad | F3: Stockholms län
A4: Period
A5: 2023-08* | B5: 21388 | C5: 36610 | E5: 18453 | F5: 30542
A6: 2023-09* | B6: 20949 | C6: 34446 | E6: 16351 | F6: 27002
A7: 2023-10* | B7: 18361 | C7: 30608 | E7: 14369 | F7: 23814
A8: 2023-11* | B8: 15476 | C8: 28080 | E8: 12926 | F8: 22308
A9: 2023-12* | B9: 13525 | C9: 24224 | E9: 13158 | F9: 21722
A10: 2024-01* | B10: 18338 | C10: 33898 | E10: 16053 | F10: 27057
A11: 2024-02* | B11: 17471 | C11: 31635 | E11: 17078 | F11: 29133
A12: 2024-03* | B12: 16521 | C12: 28808 | E12: 14766 | F12: 26205
A13: 2024-04* | B13: 16140 | C13: 28127 | E13: 13280 | F13: 22372
A14: 2024-05* | B14: 16236 | C14: 30685 | E14: 12571 | F14: 20959
A15: 2024-06* | B15: 12824 | C15: 22777 | E15: 10943 | F15: 17548
A16: 2024-07* | B16: 10257 | C16: 17247 | E16: 10823 | F16: 17625
... A41: 2026-08* | B41: 15539 | C41: 21433 | E41: 8594 | F41: 14251
A42: 1 Nya lediga platser med mer än 10 dagars varaktighet och som av arbetsgivaren anmäls till Arbetsförmedlingen och/eller skrivs in i självserviceinstrumentet.
A43: 2 Kvarstående platser med mer än 10 dagars varaktighet och som fortfarande är lediga vid månadens slut.
A44: * Redovisningen t.o.m. december 2025 sker för åldersgruppen 16-65 år. Fr.o.m januari 2026 sker redovisningen för åldersgruppen 16-66 år, p.g.a. att pensionsåldern höjts till 67 år.
A45: Källa: Arbetsförmedlingen

Sheet Månad
A1: manad
A2: Aug-26
A3: Jul-26
A4: Aug-25
